{"text_format":"1","workbook":"xlsx","n_sheets":31,"sheets":["Results","Texture Calculator","raw files","3768","3769","3770","3771","3772","3773","3774","3775","3776","3777","3778","3779","3780","3781","3782","3783","3784","Calculations","3785","3786","3787","3788","3789","3790","3791","3792","3793","Sheet1"],"not_rendered":{"charts":55,"images":1,"macros":1,"external_links":0,"defined_names":0,"comments":0,"pivot_tables":0},"unopened":[{"sheet":"3768","index":3,"reason":"not_a_worksheet"},{"sheet":"3769","index":4,"reason":"not_a_worksheet"},{"sheet":"3770","index":5,"reason":"not_a_worksheet"},{"sheet":"3771","index":6,"reason":"not_a_worksheet"},{"sheet":"3772","index":7,"reason":"not_a_worksheet"},{"sheet":"3773","index":8,"reason":"not_a_worksheet"},{"sheet":"3774","index":9,"reason":"not_a_worksheet"},{"sheet":"3775","index":10,"reason":"not_a_worksheet"},{"sheet":"3776","index":11,"reason":"not_a_worksheet"},{"sheet":"3777","index":12,"reason":"not_a_worksheet"},{"sheet":"3778","index":13,"reason":"not_a_worksheet"},{"sheet":"3779","index":14,"reason":"not_a_worksheet"},{"sheet":"3780","index":15,"reason":"not_a_worksheet"},{"sheet":"3781","index":16,"reason":"not_a_worksheet"},{"sheet":"3782","index":17,"reason":"not_a_worksheet"},{"sheet":"3783","index":18,"reason":"not_a_worksheet"},{"sheet":"3784","index":19,"reason":"not_a_worksheet"},{"sheet":"3785","index":21,"reason":"not_a_worksheet"},{"sheet":"3786","index":22,"reason":"not_a_worksheet"},{"sheet":"3787","index":23,"reason":"not_a_worksheet"},{"sheet":"3788","index":24,"reason":"not_a_worksheet"},{"sheet":"3789","index":25,"reason":"not_a_worksheet"},{"sheet":"3790","index":26,"reason":"not_a_worksheet"},{"sheet":"3791","index":27,"reason":"not_a_worksheet"},{"sheet":"3792","index":28,"reason":"not_a_worksheet"},{"sheet":"3793","index":29,"reason":"not_a_worksheet"}],"bounds":{"document_bytes":16777216,"sheet_cells":100000,"rows_first":2000,"rows_last":500,"rows_between":2000,"halvings":0,"cell_chars":16384,"cell_head_chars":4096},"cells_cut":0,"cells_raw":0,"read":"whole","date_system":"1900"}

{"sheet":"Results","index":0,"n_rows":111,"n_cols":88,"rows_kept":111,"cut":false,"hidden":false,"merged":[[7,2,7,5],[8,2,8,5]]}
[null,"Soil Lab, Geological Survey of Israel"]
[null,"Particle Size Analysis by laser diffraction,  Instrument:  Mastersizer 2000"]
[null,"project name: samples from Mojave desert"]
[null,"Sample description: sand"]
[null,"Samples ID's: [3768-3793]"]
[]
[]
["Particle",null,{"$f":"'raw files'!C1","v":"[3768] Pisga T1-5  bulk - c - Average"},null,null,null,null,null,null,"Particle",null,{"$f":"'raw files'!I1","v":"[3769] Pisga T1-10  bulk - b - Average"},null,null,null,null,null,null,"Particle",null,{"$f":"'raw files'!O1","v":"[3770] Pisga T1-20  bulk - a - Average"},null,null,null,null,null,null,"Particle",null,{"$f":"'raw files'!V1","v":"[3771] Pisga T1-35  bulk - b - Average"},null,null,null,null,null,null,"Particle",null,{"$f":"'raw files'!AB1","v":"[3772] Pisga T1-50  bulk - a - Average"},null,null,null,null,null,null,"Particle",null,{"$f":"'raw files'!AH1","v":"[3773] Pisga T1-60  bulk - b - Average"},null,null,null,null,null,null,"Particle",null,{"$f":"'raw files'!AN1","v":"[3774] Pisga T1-70  bulk - a - Average"},null,null,null,null,null,null,"Particle",null,{"$f":"'raw files'!AT1","v":"[3775] Pisga T2-1  bulk - b - Average"},null,null,null,null,null,null,"Particle",null,{"$f":"'raw files'!AZ1","v":"[3776] Pisga T2-18  bulk - a - Average"},null,null,null,null,null,"Particle",null,{"$f":"'raw files'!BF1","v":"[3777] Pisga T2-58  bulk - a - Average"}]
["Diameter",null,"Differential Volume (%)",null,null,null,null,null,null,"Diameter",null,"Differential Volume (%)",null,null,null,null,null,null,"Diameter",null,"Differential Volume (%)",null,null,null,null,null,null,"Diameter",null,"Differential Volume (%)",null,null,null,null,null,null,"Diameter",null,"Differential Volume (%)",null,null,null,null,null,null,"Diameter",null,"Differential Volume (%)",null,null,null,null,null,null,"Diameter",null,"Differential Volume (%)",null,null,null,null,null,null,"Diameter",null,"Differential Volume (%)",null,null,null,null,null,null,"Diameter",null,"Differential Volume (%)",null,null,null,null,null,"Diameter",null,"Differential Volume (%)"]
["Range (mm)","Size Class","Rep. 1","Rep. 2","Rep. 3","Average","SE",null,null,"Range (mm)","Size Class","Rep. 1","Rep. 2","Rep. 3","Average","SE",null,null,"Range (mm)","Size Class","Rep. 1","Rep. 2","Rep. 3","Average","SE",null,null,"Range (mm)","Size Class","Rep. 1","Rep. 2","Rep. 3","Average","SE",null,null,"Range (mm)","Size Class","Rep. 1","Rep. 2","Rep. 3","Average","SE",null,null,"Range (mm)","Size Class","Rep. 1","Rep. 2","Rep. 3","Average","SE",null,null,"Range (mm)","Size Class","Rep. 1","Rep. 2","Rep. 3","Average","SE",null,null,"Range (mm)","Size Class","Rep. 1","Rep. 2","Rep. 3","Average","SE",null,"Range (mm)","Size Class","Rep. 1","Rep. 2","Rep. 3","Average","SE",null,null,"Range (mm)","Size Class","Rep. 1","Rep. 2","Rep. 3","Average","SE"]
["< 5","Clay",{"$f":"'raw files'!C13","v":4.8259999999999996},{"$f":"'raw files'!D13","v":4.3579999999999997},{"$f":"'raw files'!E13","v":3.6070000000000002},{"$f":"AVERAGE(C11:D11)","v":4.5919999999999996},{"$f":"(STDEV(C11:D11))/SQRT(2)","v":0.23399999999999999},null,null,"< 5","Clay",{"$f":"'raw files'!I13","v":12.366},{"$f":"'raw files'!J13","v":14.141},{"$f":"'raw files'!K13","v":13.141999999999999},{"$f":"AVERAGE(L11,N11)","v":12.754},{"$f":"(STDEV(L11:N11))/SQRT(3)","v":0.51374453227693295},null,null,"< 5","Clay",{"$f":"'raw files'!O13","v":11.942},{"$f":"'raw files'!P13","v":11.867000000000001},{"$f":"'raw files'!Q13","v":12.185},{"$f":"AVERAGE(U11:W11)","v":11.997999999999999},{"$f":"(STDEV(U11:W11))/SQRT(3)","v":9.5973954800247716E-2},null,null,"< 5","Clay",{"$f":"'raw files'!V13","v":8.3179999999999996},{"$f":"'raw files'!W13","v":8.7989999999999995},{"$f":"'raw files'!X13","v":8.8149999999999995},{"$f":"AVERAGE(AD11:AF11)","v":8.6439999999999984},{"$f":"(STDEV(AD11:AF11))/SQRT(3)","v":0.16306542654202738},null,null,"< 5","Clay",{"$f":"'raw files'!AB13","v":7.6950000000000003},{"$f":"'raw files'!AC13","v":7.6289999999999996},{"$f":"'raw files'!AD13","v":7.5839999999999996},{"$f":"AVERAGE(AM11:AO11)","v":7.6360000000000001},{"$f":"(STDEV(AM11:AO11))/SQRT(3)","v":3.2233522922572595E-2},null,null,"< 5","Clay",{"$f":"'raw files'!AH13","v":7.4359999999999999},{"$f":"'raw files'!AI13","v":6.976},{"$f":"'raw files'!AJ13","v":7.1840000000000002},{"$f":"AVERAGE(AV11:AX11)","v":7.198666666666667},{"$f":"(STDEV(AV11:AX11))/SQRT(3)","v":0.13299289872437214},null,null,"< 5","Clay",{"$f":"'raw files'!AN13","v":5.202},{"$f":"'raw files'!AO13","v":5.8019999999999996},{"$f":"'raw files'!AP13","v":6.2320000000000002},{"$f":"AVERAGE(BE11:BG11)","v":5.7453333333333338},{"$f":"(STDEV(BE11:BG11))/SQRT(3)","v":0.29868229125797058},null,null,"< 5","Clay",{"$f":"'raw files'!AT13","v":6.3319999999999999},{"$f":"'raw files'!AU13","v":7.8879999999999999},{"$f":"'raw files'!AV13","v":7.2460000000000004},{"$f":"AVERAGE(BO11:BP11)","v":7.5670000000000002},{"$f":"(STDEV(BO11:BP11))/SQRT(2)","v":0.32099999999999973},null,"< 5","Clay",{"$f":"'raw files'!AZ13","v":6.3330000000000002},{"$f":"'raw files'!BA13","v":5.9160000000000004},{"$f":"'raw files'!BB13","v":6.21},{"$f":"AVERAGE(BV11:BX11)","v":6.1529999999999996},{"$f":"(STDEV(BV11:BX11))/SQRT(3)","v":0.12370529495538977},null,null,"< 5","Clay",{"$f":"'raw files'!BF13","v":10.831},{"$f":"'raw files'!BG13","v":10.765000000000001},{"$f":"'raw files'!BH13","v":10.637},{"$f":"AVERAGE(CE11:CG11)","v":10.744333333333335},{"$f":"(STDEV(CE11:CG11))/SQRT(3)","v":5.6948319651339015E-2}]
["5 - 63","Silt",{"$f":"'raw files'!C14","v":17.577000000000002},{"$f":"'raw files'!D14","v":16.186},{"$f":"'raw files'!E14","v":13.162000000000001},{"$f":"AVERAGE(C12:D12)","v":16.881500000000003},{"$f":"(STDEV(C12:D12))/SQRT(2)","v":0.6955000000000009},null,null,"5 - 63","Silt",{"$f":"'raw files'!I14","v":21.808},{"$f":"'raw files'!J14","v":24.236999999999998},{"$f":"'raw files'!K14","v":22.867000000000001},{"$f":"AVERAGE(L12,N12)","v":22.337499999999999},{"$f":"(STDEV(L12:N12))/SQRT(3)","v":0.70310509724917869},null,null,"5 - 63","Silt",{"$f":"'raw files'!O14","v":44.198999999999998},{"$f":"'raw files'!P14","v":44.01},{"$f":"'raw files'!Q14","v":43.561},{"$f":"AVERAGE(U12:W12)","v":43.923333333333339},{"$f":"(STDEV(U12:W12))/SQRT(3)","v":0.18920388767441035},null,null,"5 - 63","Silt",{"$f":"'raw files'!V14","v":17.254000000000001},{"$f":"'raw files'!W14","v":18.588999999999999},{"$f":"'raw files'!X14","v":18.515999999999998},{"$f":"AVERAGE(AD12:AF12)","v":18.119666666666667},{"$f":"(STDEV(AD12:AF12))/SQRT(3)","v":0.43334602545515166},null,null,"5 - 63","Silt",{"$f":"'raw files'!AB14","v":55.12},{"$f":"'raw files'!AC14","v":54.853000000000002},{"$f":"'raw files'!AD14","v":55.637999999999998},{"$f":"AVERAGE(AM12:AO12)","v":55.203666666666663},{"$f":"(STDEV(AM12:AO12))/SQRT(3)","v":0.230438953111471},null,null,"5 - 63","Silt",{"$f":"'raw files'!AH14","v":16.152000000000001},{"$f":"'raw files'!AI14","v":15.836},{"$f":"'raw files'!AJ14","v":16.277999999999999},{"$f":"AVERAGE(AV12:AX12)","v":16.088666666666665},{"$f":"(STDEV(AV12:AX12))/SQRT(3)","v":0.13146524678070257},null,null,"5 - 63","Silt",{"$f":"'raw files'!AN14","v":21.626000000000001},{"$f":"'raw files'!AO14","v":22.550999999999998},{"$f":"'raw files'!AP14","v":24.779},{"$f":"AVERAGE(BE12:BG12)","v":22.985333333333333},{"$f":"(STDEV(BE12:BG12))/SQRT(3)","v":0.93574147664358176},null,null,"5 - 63","Silt",{"$f":"'raw files'!AT14","v":23.087},{"$f":"'raw files'!AU14","v":27.007999999999999},{"$f":"'raw files'!AV14","v":25.259},{"$f":"AVERAGE(BO12:BP12)","v":26.133499999999998},0.87449999999999928,null,"5 - 63","Silt",{"$f":"'raw files'!AZ14","v":16.939},{"$f":"'raw files'!BA14","v":15.819000000000001},{"$f":"'raw files'!BB14","v":17.015999999999998},{"$f":"AVERAGE(BV12:BX12)","v":16.591333333333335},{"$f":"(STDEV(BV12:BX12))/SQRT(3)","v":0.38680586574892756},null,null,"5 - 63","Silt",{"$f":"'raw files'!BF14","v":58.908999999999999},{"$f":"'raw files'!BG14","v":58.655000000000001},{"$f":"'raw files'!BH14","v":58.369},{"$f":"AVERAGE(CE12:CG12)","v":58.644333333333329},{"$f":"(STDEV(CE12:CG12))/SQRT(3)","v":0.15597578159587588}]
["63 - 2000","Sand",{"$f":"'raw files'!C15","v":77.596000000000004},{"$f":"'raw files'!D15","v":79.456000000000003},{"$f":"'raw files'!E15","v":83.230999999999995},78.52600000000001,{"$f":"(STDEV(C13:D13))/SQRT(2)","v":0.92999999999999972},null,null,"63 - 2000","Sand",{"$f":"'raw files'!I15","v":65.825999999999993},{"$f":"'raw files'!J15","v":61.622},{"$f":"'raw files'!K15","v":63.991},64.908500000000004,{"$f":"(STDEV(L13:N13))/SQRT(3)","v":1.216849347016026},null,null,"63 - 2000","Sand",{"$f":"'raw files'!O15","v":43.859000000000002},{"$f":"'raw files'!P15","v":44.122},{"$f":"'raw files'!Q15","v":44.253},44.077999999999996,{"$f":"(STDEV(U13:W13))/SQRT(3)","v":0.11584616235910973},null,null,"63 - 2000","Sand",{"$f":"'raw files'!V15","v":74.427000000000007},{"$f":"'raw files'!W15","v":72.611999999999995},{"$f":"'raw files'!X15","v":72.668999999999997},73.23599999999999,{"$f":"(STDEV(AD13:AF13))/SQRT(3)","v":0.59572728660017271},null,null,"63 - 2000","Sand",{"$f":"'raw files'!AB15","v":37.185000000000002},{"$f":"'raw files'!AC15","v":37.518000000000001},{"$f":"'raw files'!AD15","v":36.777999999999999},37.160333333333334,{"$f":"(STDEV(AM13:AO13))/SQRT(3)","v":0.21397533606573615},null,null,"63 - 2000","Sand",{"$f":"'raw files'!AH15","v":76.412000000000006},{"$f":"'raw files'!AI15","v":77.188999999999993},{"$f":"'raw files'!AJ15","v":76.539000000000001},76.713333333333324,0.24064242721884263,null,null,"63 - 2000","Sand",{"$f":"'raw files'!AN15","v":73.171999999999997},{"$f":"'raw files'!AO15","v":71.647000000000006},{"$f":"'raw files'!AP15","v":68.989000000000004},71.269333333333336,{"$f":"(STDEV(BE13:BG13))/SQRT(3)","v":1.222203792790346},null,null,"63 - 2000","Sand",{"$f":"'raw files'!AT15","v":70.581000000000003},{"$f":"'raw files'!AU15","v":65.105000000000004},{"$f":"'raw files'!AV15","v":67.495000000000005},66.300000000000011,{"$f":"(STDEV(BO13:BP13))/SQRT(2)","v":1.1950000000000003},null,"63 - 2000","Sand",{"$f":"'raw files'!AZ15","v":76.727999999999994},{"$f":"'raw files'!BA15","v":78.266000000000005},{"$f":"'raw files'!BB15","v":76.775000000000006},77.25633333333333,0.50501562132054856,null,null,"63 - 2000","Sand",{"$f":"'raw files'!BF15","v":30.259},{"$f":"'raw files'!BG15","v":30.58},{"$f":"'raw files'!BH15","v":30.992999999999999},30.610666666666663,0.21244162596921592]
["63 - 125","VF Sand",{"$f":"'raw files'!C16","v":18.366},{"$f":"'raw files'!D16","v":17.417000000000002},{"$f":"'raw files'!E16","v":15.138},17.891500000000001,0.47449999999999903,null,null,"63 - 125","VF Sand",{"$f":"'raw files'!I16","v":22.163},{"$f":"'raw files'!J16","v":24.396999999999998},{"$f":"'raw files'!K16","v":23.122},22.642499999999998,{"$f":"(STDEV(L14:N14))/SQRT(3)","v":0.647047224792063},null,null,"63 - 125","VF Sand",{"$f":"'raw files'!O16","v":25.039000000000001},{"$f":"'raw files'!P16","v":25.167000000000002},{"$f":"'raw files'!Q16","v":25.425000000000001},25.210333333333335,0.11351553980745421,null,null,"63 - 125","VF Sand",{"$f":"'raw files'!V16","v":15.526},{"$f":"'raw files'!W16","v":17.713000000000001},{"$f":"'raw files'!X16","v":17.326000000000001},16.855,0.67382564510413268,null,null,"63 - 125","VF Sand",{"$f":"'raw files'!AB16","v":25.5},{"$f":"'raw files'!AC16","v":25.350999999999999},{"$f":"'raw files'!AD16","v":25.420999999999999},25.423999999999996,4.3038742236888805E-2,null,null,"63 - 125","VF Sand",{"$f":"'raw files'!AH16","v":28.344999999999999},{"$f":"'raw files'!AI16","v":27.864000000000001},{"$f":"'raw files'!AJ16","v":28.602},28.270333333333337,0.21628864458814681,null,null,"63 - 125","VF Sand",{"$f":"'raw files'!AN16","v":27.329000000000001},{"$f":"'raw files'!AO16","v":26.885999999999999},{"$f":"'raw files'!AP16","v":27.67},{"$f":"AVERAGE(BE14:BG14)","v":27.295000000000002},{"$f":"(STDEV(BE14:BG14))/SQRT(3)","v":0.226958880269827},null,null,"63 - 125","VF Sand",{"$f":"'raw files'!AT16","v":19.719000000000001},{"$f":"'raw files'!AU16","v":21.617999999999999},{"$f":"'raw files'!AV16","v":20.373999999999999},20.995999999999999,{"$f":"(STDEV(BO14:BP14))/SQRT(2)","v":0.62199999999999978},null,"63 - 125","VF Sand",{"$f":"'raw files'!AZ16","v":17.007000000000001},{"$f":"'raw files'!BA16","v":15.888},{"$f":"'raw files'!BB16","v":15.763},16.219333333333335,0.39548296774675162,null,null,"63 - 125","VF Sand",{"$f":"'raw files'!BF16","v":20.582999999999998},{"$f":"'raw files'!BG16","v":20.785},{"$f":"'raw files'!BH16","v":20.43},20.59933333333333,0.10280456107477826]
["125 - 250","F Sand",{"$f":"'raw files'!C17","v":21.327999999999999},{"$f":"'raw files'!D17","v":21.143999999999998},{"$f":"'raw files'!E17","v":21.050999999999998},21.235999999999997,9.2000000000000512E-2,null,null,"125 - 250","F Sand",{"$f":"'raw files'!I17","v":27.960999999999999},{"$f":"'raw files'!J17","v":26.574999999999999},{"$f":"'raw files'!K17","v":26.509},27.234999999999999,0.47338356540969989,null,null,"125 - 250","F Sand",{"$f":"'raw files'!O17","v":14.76},{"$f":"'raw files'!P17","v":14.634},{"$f":"'raw files'!Q17","v":15.555999999999999},14.983333333333333,0.28863433229222335,null,null,"125 - 250","F Sand",{"$f":"'raw files'!V17","v":31.170999999999999},{"$f":"'raw files'!W17","v":30.552},{"$f":"'raw files'!X17","v":31.001000000000001},30.908000000000001,0.18464109329543454,null,null,"125 - 250","F Sand",{"$f":"'raw files'!AB17","v":9.1059999999999999},{"$f":"'raw files'!AC17","v":9.0679999999999996},{"$f":"'raw files'!AD17","v":8.6479999999999997},8.940666666666667,0.14674391904872169,null,null,"125 - 250","F Sand",{"$f":"'raw files'!AH17","v":28.725000000000001},{"$f":"'raw files'!AI17","v":28.859000000000002},{"$f":"'raw files'!AJ17","v":29.579000000000001},29.054333333333336,0.26516996645757407,null,null,"125 - 250","F Sand",{"$f":"'raw files'!AN17","v":28.917000000000002},{"$f":"'raw files'!AO17","v":27.151},{"$f":"'raw files'!AP17","v":26.088000000000001},{"$f":"AVERAGE(BE15:BG15)","v":27.385333333333335},{"$f":"(STDEV(BE15:BG15))/SQRT(3)","v":0.82502410739188603},null,null,"125 - 250","F Sand",{"$f":"'raw files'!AT17","v":23.97},{"$f":"'raw files'!AU17","v":24.791},{"$f":"'raw files'!AV17","v":23.417000000000002},24.103999999999999,0.68699999999999939,null,"125 - 250","F Sand",{"$f":"'raw files'!AZ17","v":26.745000000000001},{"$f":"'raw files'!BA17","v":26.262},{"$f":"'raw files'!BB17","v":26.605},26.537333333333336,0.14347628530333673,null,null,"125 - 250","F Sand",{"$f":"'raw files'!BF17","v":7.7240000000000002},{"$f":"'raw files'!BG17","v":8.0790000000000006},{"$f":"'raw files'!BH17","v":7.9409999999999998},7.9146666666666663,0.10332204239388837]
["250 - 500","M Sand",{"$f":"'raw files'!C18","v":15.826000000000001},{"$f":"'raw files'!D18","v":18.03},{"$f":"'raw files'!E18","v":19.263999999999999},16.928000000000001,1.1020000000000001,null,null,"250 - 500","M Sand",{"$f":"'raw files'!I18","v":13.952},{"$f":"'raw files'!J18","v":10.127000000000001},{"$f":"'raw files'!K18","v":12.217000000000001},13.0845,1.1057664511299148,null,null,"250 - 500","M Sand",{"$f":"'raw files'!O18","v":3.4239999999999999},{"$f":"'raw files'!P18","v":3.5630000000000002},{"$f":"'raw files'!Q18","v":3.2730000000000001},3.42,8.3739675980584821E-2,null,null,"250 - 500","M Sand",{"$f":"'raw files'!V18","v":25.414000000000001},{"$f":"'raw files'!W18","v":21.895},{"$f":"'raw files'!X18","v":22.649000000000001},23.319333333333333,1.0697118511283521,null,null,"250 - 500","M Sand",{"$f":"'raw files'!AB18","v":1.792},{"$f":"'raw files'!AC18","v":1.736},{"$f":"'raw files'!AD18","v":1.496},1.6746666666666667,9.0784237496262424E-2,null,null,"250 - 500","M Sand",{"$f":"'raw files'!AH18","v":13.644},{"$f":"'raw files'!AI18","v":13.468999999999999},{"$f":"'raw files'!AJ18","v":12.653},13.255333333333333,0.30537426945380375,null,null,"250 - 500","M Sand",{"$f":"'raw files'!AN18","v":12.914},{"$f":"'raw files'!AO18","v":12.73},{"$f":"'raw files'!AP18","v":9.8379999999999992},11.827333333333334,0.99608388758734689,null,null,"250 - 500","M Sand",{"$f":"'raw files'!AT18","v":20.088000000000001},{"$f":"'raw files'!AU18","v":16.443000000000001},{"$f":"'raw files'!AV18","v":18.196999999999999},17.32,0.87699999999999889,null,"250 - 500","M Sand",{"$f":"'raw files'!AZ18","v":25.584},{"$f":"'raw files'!BA18","v":27.664999999999999},{"$f":"'raw files'!BB18","v":28.748999999999999},27.332666666666665,0.9286442327991441,null,null,"250 - 500","M Sand",{"$f":"'raw files'!BF18","v":1.78},{"$f":"'raw files'!BG18","v":1.6240000000000001},{"$f":"'raw files'!BH18","v":2.1110000000000002},1.8383333333333336,0.14357847254298756]
["500 - 1000","C Sand",{"$f":"'raw files'!C19","v":14.632},{"$f":"'raw files'!D19","v":16.059999999999999},{"$f":"'raw files'!E19","v":19.05},15.346,0.71399999999999941,null,null,"500 - 1000","C Sand",{"$f":"'raw files'!I19","v":1.246},{"$f":"'raw files'!J19","v":0.52300000000000002},{"$f":"'raw files'!K19","v":2.1139999999999999},1.68,0.45991750468003623,null,null,"500 - 1000","C Sand",{"$f":"'raw files'!O19","v":0.63700000000000001},{"$f":"'raw files'!P19","v":0.71499999999999997},{"$f":"'raw files'!Q19","v":0},0.4506666666666666,0.22645553892786793,null,null,"500 - 1000","C Sand",{"$f":"'raw files'!V19","v":2.3170000000000002},{"$f":"'raw files'!W19","v":2.452},{"$f":"'raw files'!X19","v":1.694},2.1543333333333332,0.23344259346666882,null,null,"500 - 1000","C Sand",{"$f":"'raw files'!AB19","v":0.78600000000000003},{"$f":"'raw files'!AC19","v":0.98199999999999998},{"$f":"'raw files'!AD19","v":0.72},0.82933333333333337,7.8675140786513609E-2,null,null,"500 - 1000","C Sand",{"$f":"'raw files'!AH19","v":5.3840000000000003},{"$f":"'raw files'!AI19","v":5.91},{"$f":"'raw files'!AJ19","v":4.359},5.2176666666666671,0.45539372464324041,null,null,"500 - 1000","C Sand",{"$f":"'raw files'!AN19","v":3.4750000000000001},{"$f":"'raw files'!AO19","v":4.444},{"$f":"'raw files'!AP19","v":3.5659999999999998},3.8283333333333331,0.30895217177493073,null,null,"500 - 1000","C Sand",{"$f":"'raw files'!AT19","v":6.665},{"$f":"'raw files'!AU19","v":2.2519999999999998},{"$f":"'raw files'!AV19","v":5.4020000000000001},3.827,1.575,null,"500 - 1000","C Sand",{"$f":"'raw files'!AZ19","v":7.3920000000000003},{"$f":"'raw files'!BA19","v":8.4499999999999993},{"$f":"'raw files'!BB19","v":5.6580000000000004},7.166666666666667,0.81381761538511233,null,null,"500 - 1000","C Sand",{"$f":"'raw files'!BF19","v":0.17199999999999999},{"$f":"'raw files'!BG19","v":9.1999999999999998E-2},{"$f":"'raw files'!BH19","v":0.51100000000000001},0.25833333333333336,0.12842680578619264]
["1000 - 2000","VC Sand",{"$f":"'raw files'!C20","v":7.444},{"$f":"'raw files'!D20","v":6.8049999999999997},{"$f":"'raw files'!E20","v":8.7279999999999998},7.1244999999999994,0.31950000000000006,null,null,"1000 - 2000","VC Sand",{"$f":"'raw files'!I20","v":0.504},{"$f":"'raw files'!J20","v":0},{"$f":"'raw files'!K20","v":0.03},0.26700000000000002,0.16322989922192563,null,null,"1000 - 2000","VC Sand",{"$f":"'raw files'!O20","v":0},{"$f":"'raw files'!P20","v":4.2999999999999997E-2},{"$f":"'raw files'!Q20","v":0},1.4333333333333332E-2,1.4333333333333333E-2,null,null,"1000 - 2000","VC Sand",{"$f":"'raw files'!V20","v":0},{"$f":"'raw files'!W20","v":0},{"$f":"'raw files'!X20","v":0},0,0,null,null,"1000 - 2000","VC Sand",{"$f":"'raw files'!AB20","v":0},{"$f":"'raw files'!AC20","v":0.38},{"$f":"'raw files'!AD20","v":0.49299999999999999},0.29099999999999998,0.14911181486835084,null,null,"1000 - 2000","VC Sand",{"$f":"'raw files'!AH20","v":0.314},{"$f":"'raw files'!AI20","v":1.087},{"$f":"'raw files'!AJ20","v":1.3460000000000001},0.91566666666666663,0.309985125091153,null,null,"1000 - 2000","VC Sand",{"$f":"'raw files'!AN20","v":0.53600000000000003},{"$f":"'raw files'!AO20","v":0.436},{"$f":"'raw files'!AP20","v":1.827},0.93299999999999994,0.4479311703078202,null,null,"1000 - 2000","VC Sand",{"$f":"'raw files'!AT20","v":0.13900000000000001},{"$f":"'raw files'!AU20","v":0},{"$f":"'raw files'!AV20","v":0.104},{"$f":"AVERAGE(BO18:BP18)","v":5.1999999999999998E-2},5.1999999999999998E-2,null,"1000 - 2000","VC Sand",{"$f":"'raw files'!AZ20","v":0},{"$f":"'raw files'!BA20","v":0},{"$f":"'raw files'!BB20","v":0},0,0,null,null,"1000 - 2000","VC Sand",{"$f":"'raw files'!BF20","v":0},{"$f":"'raw files'!BG20","v":0},{"$f":"'raw files'!BH20","v":0},0,0]
[null,null,null,"Textural Class:",null,{"$f":"'Texture Calculator'!N4","v":"LOAMY SAND"},null,null,null,null,null,null,"Textural Class:",null,{"$f":"'Texture Calculator'!N5","v":"SANDY LOAM"},null,null,null,null,null,null,"Textural Class:",{"$f":"'Texture Calculator'!N6","v":"LOAM"},null,null,null,null,null,null,null,"Textural Class:",{"$f":"'Texture Calculator'!N7","v":"SANDY LOAM"},null,null,null,null,null,null,"Textural Class:",null,{"$f":"'Texture Calculator'!N8","v":"SILT LOAM"},null,null,null,null,null,null,"Textural Class:",null,{"$f":"'Texture Calculator'!N9","v":"SANDY LOAM"},null,null,null,null,null,null,"Textural Class:",null,{"$f":"'Texture Calculator'!N10","v":"SANDY LOAM"},null,null,null,null,null,"Textural Class:",null,{"$f":"'Texture Calculator'!N11","v":"SANDY LOAM"},null,null,null,null,null,null,"Textural Class:",null,{"$f":"'Texture Calculator'!N12","v":"LOAMY SAND"},null,null,null,null,null,"Textural Class:",null,{"$f":"'Texture Calculator'!N13","v":"SILT LOAM"}]
[null,null,null,"avg mode:",null,{"$f":"AVERAGE('raw files'!C6:E6)","v":157.85466666666665},null,null,null,null,null,null,"avg mode:",null,{"$f":"AVERAGE('raw files'!I6:K6)","v":140.79733333333331},null,null,null,null,null,null,"avg mode:",null,{"$f":"AVERAGE('raw files'!O6:Q6)","v":82.911999999999992},null,null,null,null,null,null,"avg mode:",null,{"$f":"AVERAGE('raw files'!V6:W6)","v":219.52949999999998},null,null,null,null,null,"avg mode:",null,{"$f":"AVERAGE('raw files'!AF6:AH6)","v":122.81},null,null,null,null,null,null,"avg mode:",null,{"$f":"AVERAGE('raw files'!AH6:AJ6)","v":124.15833333333335},null,null,null,null,null,null,"avg mode:",null,{"$f":"AVERAGE('raw files'!AN6:AP6)","v":124.60266666666666},null,null,null,null,null,"avg mode:",null,{"$f":"AVERAGE('raw files'!AT6:AV6)","v":170.07366666666667},null,null,null,null,null,null,"avg mode:",null,{"$f":"AVERAGE('raw files'!AZ6:BB6)","v":271.66433333333333},null,null,null,null,null,null,"avg mode:",{"$f":"AVERAGE('raw files'!BF6:BH6)","v":50.88366666666667}]
[]
[]
[]
["Particle",null,{"$f":"'raw files'!BL1","v":"[3778] Pisga T2-80  bulk - b - Average"},null,null,null,null,null,null,"Particle",null,{"$f":"'raw files'!BR1","v":"[3779] USA5 T1-83 bulk - a - Average"},null,null,null,null,null,null,"Particle",null,{"$f":"'raw files'!BX1","v":"[3780] USA5 T1-79 bulk - a - Average"},null,null,null,null,null,null,"Particle",null,{"$f":"'raw files'!CD1","v":"[3781] USA5 T1-72 bulk - b - Average"},null,null,null,null,null,null,"Particle",null,{"$f":"'raw files'!CJ1","v":"[3782] USA5 T2-89 bulk - a - Average"},null,null,null,null,null,null,"Particle",null,{"$f":"'raw files'!CP1","v":"[3783] USA5 T2-83 bulk - a - Average"},null,null,null,null,null,null,"Particle",null,{"$f":"'raw files'!CV1","v":"[3784] USA5 T2-79 bulk - b - Average"},null,null,null,null,null,null,"Particle",null,{"$f":"'raw files'!DB1","v":"[3785] USA6 T1-1 bulk - a - Average"},null,null,null,null,null,null,"Particle",null,{"$f":"'raw files'!DH1","v":"[3786] USA6 T1-7 bulk - b - Average"},null,null,null,null,null,null,"Particle",null,{"$f":"'raw files'!DN1","v":"[3787] USA6 T1-13 bulk - c - Average"}]
["Diameter",null,"Differential Volume (%)",null,null,null,null,null,null,"Diameter",null,"Differential Volume (%)",null,null,null,null,null,null,"Diameter",null,"Differential Volume (%)",null,null,null,null,null,null,"Diameter",null,"Differential Volume (%)",null,null,null,null,null,null,"Diameter",null,"Differential Volume (%)",null,null,null,null,null,null,"Diameter",null,"Differential Volume (%)",null,null,null,null,null,null,"Diameter",null,"Differential Volume (%)",null,null,null,null,null,null,"Diameter",null,"Differential Volume (%)",null,null,null,null,null,null,"Diameter",null,"Differential Volume (%)",null,null,null,null,null,null,"Diameter",null,"Differential Volume (%)"]
["Range (mm)","Size Class","Rep. 1","Rep. 2","Rep. 3","Average","SE",null,null,"Range (mm)","Size Class","Rep. 1","Rep. 2","Rep. 3","Average","SE",null,null,"Range (mm)","Size Class","Rep. 1","Rep. 2","Rep. 3","Average","SE",null,null,"Range (mm)","Size Class","Rep. 1","Rep. 2","Rep. 3","Average","SE",null,null,"Range (mm)","Size Class","Rep. 1","Rep. 2","Rep. 3","Average","SE",null,null,"Range (mm)","Size Class","Rep. 1","Rep. 2","Rep. 3","Average","SE",null,null,"Range (mm)","Size Class","Rep. 1","Rep. 2","Rep. 3","Average","SE",null,null,"Range (mm)","Size Class","Rep. 1","Rep. 2","Rep. 3","Average","SE",null,null,"Range (mm)","Size Class","Rep. 1","Rep. 2","Rep. 3","Average","SE",null,null,"Range (mm)","Size Class","Rep. 1","Rep. 2","Rep. 3","Average","SE"]
["< 5","Clay",{"$f":"'raw files'!BL13","v":6.0220000000000002},{"$f":"'raw files'!BM13","v":5.6459999999999999},{"$f":"'raw files'!BN13","v":5.4710000000000001},{"$f":"AVERAGE(C27,E27)","v":5.7465000000000002},{"$f":"(STDEV(C27:E27))/SQRT(3)","v":0.16254947964645519},null,null,"< 5","Clay",{"$f":"'raw files'!BR13","v":0.48699999999999999},{"$f":"'raw files'!BS13","v":1.2689999999999999},{"$f":"'raw files'!BT13","v":0},{"$f":"AVERAGE(L27:N27)","v":0.58533333333333326},{"$f":"(STDEV(L27:N27))/SQRT(3)","v":0.36961346175580662},null,null,"< 5","Clay",{"$f":"'raw files'!BX13","v":3.702},{"$f":"'raw files'!BY13","v":3.6070000000000002},{"$f":"'raw files'!BZ13","v":4.0330000000000004},{"$f":"AVERAGE(U27:W27)","v":3.7806666666666668},{"$f":"(STDEV(U27:W27))/SQRT(3)","v":0.12911278446037452},null,null,"< 5","Clay",{"$f":"'raw files'!CD13","v":0.08},{"$f":"'raw files'!CE13","v":0.46800000000000003},{"$f":"'raw files'!CF13","v":0.497},{"$f":"AVERAGE(AD27:AF27)","v":0.34833333333333333},{"$f":"(STDEV(AD27:AF27))/SQRT(3)","v":0.13442759306696594},null,null,"< 5","Clay",{"$f":"'raw files'!CJ13","v":1.931},{"$f":"'raw files'!CK13","v":1.9950000000000001},{"$f":"'raw files'!CL13","v":1.651},{"$f":"AVERAGE(AM27:AO27)","v":1.859},{"$f":"(STDEV(AM27:AO27))/SQRT(3)","v":0.10562827904180461},null,null,"< 5","Clay",{"$f":"'raw files'!CP13","v":0.46100000000000002},{"$f":"'raw files'!CQ13","v":0.52500000000000002},{"$f":"'raw files'!CR13","v":0.63900000000000001},{"$f":"AVERAGE(AV27:AX27)","v":0.54166666666666663},{"$f":"(STDEV(AV27:AX27))/SQRT(3)","v":5.2055525910106551E-2},null,null,"< 5","Clay",{"$f":"'raw files'!CV13","v":2.0739999999999998},{"$f":"'raw files'!CW13","v":1.7290000000000001},{"$f":"'raw files'!CX13","v":1.9359999999999999},{"$f":"AVERAGE(BE27:BF27)","v":1.9015},{"$f":"(STDEV(BE27:BF27))/SQRT(2)","v":0.17249999999999988},null,null,"< 5","Clay",{"$f":"'raw files'!DB13","v":2.6850000000000001},{"$f":"'raw files'!DC13","v":2.6059999999999999},{"$f":"'raw files'!DD13","v":3.4670000000000001},{"$f":"AVERAGE(BN27:BO27)","v":2.6455000000000002},{"$f":"(STDEV(BN27:BO27))/SQRT(2)","v":3.9500000000000091E-2},null,null,"< 5","Clay",{"$f":"'raw files'!DH13","v":2.2080000000000002},{"$f":"'raw files'!DI13","v":3.3239999999999998},{"$f":"'raw files'!DJ13","v":3.198},{"$f":"AVERAGE(BW27:BY27)","v":2.91},{"$f":"(STDEV(BW27:BY27))/SQRT(3)","v":0.35287958286078241},null,null,"< 5","Clay",{"$f":"'raw files'!DN13","v":2.887},{"$f":"'raw files'!DO13","v":2.9609999999999999},{"$f":"'raw files'!DP13","v":2.5259999999999998},{"$f":"AVERAGE(CF27:CH27)","v":2.7913333333333328},{"$f":"(STDEV(CF27:CH27))/SQRT(3)","v":0.13437551033494827}]
["5 - 63","Silt",{"$f":"'raw files'!BL14","v":13.593},{"$f":"'raw files'!BM14","v":12.571999999999999},{"$f":"'raw files'!BN14","v":12.122},{"$f":"AVERAGE(C28,E28)","v":12.8575},{"$f":"(STDEV(C28:E28))/SQRT(3)","v":0.43517442224673303},null,null,"5 - 63","Silt",{"$f":"'raw files'!BR14","v":0.78800000000000003},{"$f":"'raw files'!BS14","v":2.214},{"$f":"'raw files'!BT14","v":0},{"$f":"AVERAGE(L28:N28)","v":1.0006666666666666},{"$f":"(STDEV(L28:N28))/SQRT(3)","v":0.64791185957487907},null,null,"5 - 63","Silt",{"$f":"'raw files'!BX14","v":12.602},{"$f":"'raw files'!BY14","v":12.226000000000001},{"$f":"'raw files'!BZ14","v":13.67},{"$f":"AVERAGE(U28:W28)","v":12.832666666666668},{"$f":"(STDEV(U28:W28))/SQRT(3)","v":0.43250793184762626},null,null,"5 - 63","Silt",{"$f":"'raw files'!CD14","v":0.48399999999999999},{"$f":"'raw files'!CE14","v":1.0109999999999999},{"$f":"'raw files'!CF14","v":1.0840000000000001},{"$f":"AVERAGE(AD28:AF28)","v":0.85966666666666658},{"$f":"(STDEV(AD28:AF28))/SQRT(3)","v":0.18901175742382939},null,null,"5 - 63","Silt",{"$f":"'raw files'!CJ14","v":9.6300000000000008},{"$f":"'raw files'!CK14","v":9.4019999999999992},{"$f":"'raw files'!CL14","v":8.7170000000000005},{"$f":"AVERAGE(AM28:AO28)","v":9.249666666666668},{"$f":"(STDEV(AM28:AO28))/SQRT(3)","v":0.27434548373254558},null,null,"5 - 63","Silt",{"$f":"'raw files'!CP14","v":1.9319999999999999},{"$f":"'raw files'!CQ14","v":2.0649999999999999},{"$f":"'raw files'!CR14","v":1.9490000000000001},{"$f":"AVERAGE(AV28:AX28)","v":1.982},{"$f":"(STDEV(AV28:AX28))/SQRT(3)","v":4.1789153297636127E-2},null,null,"5 - 63","Silt",{"$f":"'raw files'!CV14","v":8.0510000000000002},{"$f":"'raw files'!CW14","v":7.9160000000000004},{"$f":"'raw files'!CX14","v":8.4789999999999992},{"$f":"AVERAGE(BE28:BF28)","v":7.9835000000000003},{"$f":"(STDEV(BE28:BF28))/SQRT(2)","v":6.7499999999999893E-2},null,null,"5 - 63","Silt",{"$f":"'raw files'!DB14","v":11.677},{"$f":"'raw files'!DC14","v":11.41},{"$f":"'raw files'!DD14","v":13.455},{"$f":"AVERAGE(BN28:BO28)","v":11.5435},{"$f":"(STDEV(BN28:BO28))/SQRT(2)","v":0.1334999999999997},null,null,"5 - 63","Silt",{"$f":"'raw files'!DH14","v":7.6120000000000001},{"$f":"'raw files'!DI14","v":10.922000000000001},{"$f":"'raw files'!DJ14","v":10.577999999999999},{"$f":"AVERAGE(BW28:BY28)","v":9.7039999999999988},{"$f":"(STDEV(BW28:BY28))/SQRT(3)","v":1.0507032565540746},null,null,"5 - 63","Silt",{"$f":"'raw files'!DN14","v":9.8829999999999991},{"$f":"'raw files'!DO14","v":10.047000000000001},{"$f":"'raw files'!DP14","v":10.715999999999999},{"$f":"AVERAGE(CF28:CH28)","v":10.215333333333334},{"$f":"(STDEV(CF28:CH28))/SQRT(3)","v":0.25477070300784405}]
["63 - 2000","Sand",{"$f":"'raw files'!BL15","v":80.385000000000005},{"$f":"'raw files'!BM15","v":81.781999999999996},{"$f":"'raw files'!BN15","v":82.406999999999996},81.396000000000001,0.59771407136783039,null,null,"63 - 2000","Sand",{"$f":"'raw files'!BR15","v":98.724999999999994},{"$f":"'raw files'!BS15","v":96.516999999999996},{"$f":"'raw files'!BT15","v":100},98.413999999999987,{"$f":"(STDEV(L29:N29))/SQRT(3)","v":1.0174089639864601},null,null,"63 - 2000","Sand",{"$f":"'raw files'!BX15","v":83.695999999999998},{"$f":"'raw files'!BY15","v":84.165999999999997},{"$f":"'raw files'!BZ15","v":82.298000000000002},83.38666666666667,0.5609876211745759,null,null,"63 - 2000","Sand",{"$f":"'raw files'!CD15","v":99.436000000000007},{"$f":"'raw files'!CE15","v":98.521000000000001},{"$f":"'raw files'!CF15","v":98.418999999999997},98.791999999999987,0.32334347063146618,null,null,"63 - 2000","Sand",{"$f":"'raw files'!CJ15","v":88.438999999999993},{"$f":"'raw files'!CK15","v":88.602999999999994},{"$f":"'raw files'!CL15","v":89.632000000000005},88.891333333333321,0.37334717236255316,null,null,"63 - 2000","Sand",{"$f":"'raw files'!CP15","v":97.606999999999999},{"$f":"'raw files'!CQ15","v":97.41},{"$f":"'raw files'!CR15","v":97.412000000000006},97.476333333333329,6.5335884303938926E-2,null,null,"63 - 2000","Sand",{"$f":"'raw files'!CV15","v":89.873999999999995},{"$f":"'raw files'!CW15","v":90.355000000000004},{"$f":"'raw files'!CX15","v":89.584999999999994},90.114499999999992,{"$f":"(STDEV(BE29:BF29))/SQRT(2)","v":0.24050000000000438},null,null,"63 - 2000","Sand",{"$f":"'raw files'!DB15","v":85.638000000000005},{"$f":"'raw files'!DC15","v":85.983999999999995},{"$f":"'raw files'!DD15","v":83.078999999999994},85.811000000000007,0.17299999999999471,null,null,"63 - 2000","Sand",{"$f":"'raw files'!DH15","v":90.180999999999997},{"$f":"'raw files'!DI15","v":85.754999999999995},{"$f":"'raw files'!DJ15","v":86.224000000000004},87.386666666666656,{"$f":"(STDEV(BW29:BY29))/SQRT(3)","v":1.4037110734683889},null,null,"63 - 2000","Sand",{"$f":"'raw files'!DN15","v":87.23},{"$f":"'raw files'!DO15","v":86.992000000000004},{"$f":"'raw files'!DP15","v":86.757999999999996},86.993333333333339,0.13625629445195711]
["63 - 125","VF Sand",{"$f":"'raw files'!BL16","v":16.13},{"$f":"'raw files'!BM16","v":16.829999999999998},{"$f":"'raw files'!BN16","v":16.655000000000001},16.392499999999998,0.2103238244020661,null,null,"63 - 125","VF Sand",{"$f":"'raw files'!BR16","v":3.4249999999999998},{"$f":"'raw files'!BS16","v":3.36},{"$f":"'raw files'!BT16","v":2.0030000000000001},{"$f":"AVERAGE(L30:N30)","v":2.9293333333333336},{"$f":"(STDEV(L30:N30))/SQRT(3)","v":0.46354659360677414},null,null,"63 - 125","VF Sand",{"$f":"'raw files'!BX16","v":38.146000000000001},{"$f":"'raw files'!BY16","v":37.906999999999996},{"$f":"'raw files'!BZ16","v":38.64},38.231000000000002,0.21582477460508045,null,null,"63 - 125","VF Sand",{"$f":"'raw files'!CD16","v":3.9910000000000001},{"$f":"'raw files'!CE16","v":4.9889999999999999},{"$f":"'raw files'!CF16","v":5.016},4.6653333333333338,0.33725674361102176,null,null,"63 - 125","VF Sand",{"$f":"'raw files'!CJ16","v":25.683},{"$f":"'raw files'!CK16","v":25.817},{"$f":"'raw files'!CL16","v":24.927},{"$f":"AVERAGE(AM30:AO30)","v":25.475666666666665},0.27704712796040892,null,null,"63 - 125","VF Sand",{"$f":"'raw files'!CP16","v":12.664999999999999},{"$f":"'raw files'!CQ16","v":14.098000000000001},{"$f":"'raw files'!CR16","v":13.297000000000001},{"$f":"AVERAGE(AV30:AX30)","v":13.353333333333333},{"$f":"(STDEV(AV30:AX30))/SQRT(3)","v":0.41462928556054124},null,null,"63 - 125","VF Sand",{"$f":"'raw files'!CV16","v":26.228000000000002},{"$f":"'raw files'!CW16","v":23.702000000000002},{"$f":"'raw files'!CX16","v":25.591999999999999},24.965000000000003,1.2629999999999999,null,null,"63 - 125","VF Sand",{"$f":"'raw files'!DB16","v":23.305},{"$f":"'raw files'!DC16","v":22.93},{"$f":"'raw files'!DD16","v":24.303999999999998},23.1175,0.18749999999999997,null,null,"63 - 125","VF Sand",{"$f":"'raw files'!DH16","v":21.315999999999999},{"$f":"'raw files'!DI16","v":23.207999999999998},{"$f":"'raw files'!DJ16","v":22.687000000000001},{"$f":"AVERAGE(BW30:BY30)","v":22.403666666666666},0.56424708929490974,null,null,"63 - 125","VF Sand",{"$f":"'raw files'!DN16","v":19.481999999999999},{"$f":"'raw files'!DO16","v":19.257000000000001},{"$f":"'raw files'!DP16","v":20.687999999999999},19.809000000000001,0.44427356437222265]
["125 - 250","F Sand",{"$f":"'raw files'!BL17","v":32.082000000000001},{"$f":"'raw files'!BM17","v":36.588000000000001},{"$f":"'raw files'!BN17","v":35.616},33.849000000000004,1.3690624529217066,null,null,"125 - 250","F Sand",{"$f":"'raw files'!BR17","v":45.540999999999997},{"$f":"'raw files'!BS17","v":43.072000000000003},{"$f":"'raw files'!BT17","v":42.887},{"$f":"AVERAGE(L31:N31)","v":43.833333333333336},0.85550186700231223,null,null,"125 - 250","F Sand",{"$f":"'raw files'!BX17","v":40.542000000000002},{"$f":"'raw files'!BY17","v":40.988999999999997},{"$f":"'raw files'!BZ17","v":39.188000000000002},40.239666666666672,0.54143461696168182,null,null,"125 - 250","F Sand",{"$f":"'raw files'!CD17","v":23.306000000000001},{"$f":"'raw files'!CE17","v":25.331},{"$f":"'raw files'!CF17","v":24.029},24.221999999999998,0.59247869159995925,null,null,"125 - 250","F Sand",{"$f":"'raw files'!CJ17","v":42.063000000000002},{"$f":"'raw files'!CK17","v":41.505000000000003},{"$f":"'raw files'!CL17","v":41.323},{"$f":"AVERAGE(AM31:AO31)","v":41.63033333333334},0.22262175195709122,null,null,"125 - 250","F Sand",{"$f":"'raw files'!CP17","v":31.931000000000001},{"$f":"'raw files'!CQ17","v":35.823},{"$f":"'raw files'!CR17","v":34.393000000000001},{"$f":"AVERAGE(AV31:AX31)","v":34.048999999999999},{"$f":"(STDEV(AV31:AX31))/SQRT(3)","v":1.1366130974669142},null,null,"125 - 250","F Sand",{"$f":"'raw files'!CV17","v":28.954000000000001},{"$f":"'raw files'!CW17","v":25.689},{"$f":"'raw files'!CX17","v":28.007999999999999},27.3215,1.6325000000000003,null,null,"125 - 250","F Sand",{"$f":"'raw files'!DB17","v":29.516999999999999},{"$f":"'raw files'!DC17","v":28.247},{"$f":"'raw files'!DD17","v":27.911000000000001},28.881999999999998,0.63499999999999968,null,null,"125 - 250","F Sand",{"$f":"'raw files'!DH17","v":28.33},{"$f":"'raw files'!DI17","v":29.120999999999999},{"$f":"'raw files'!DJ17","v":27.273},{"$f":"AVERAGE(BW31:BY31)","v":28.24133333333333},0.53531060557814847,null,null,"125 - 250","F Sand",{"$f":"'raw files'!DN17","v":35.93},{"$f":"'raw files'!DO17","v":33.790999999999997},{"$f":"'raw files'!DP17","v":31.696999999999999},33.806000000000004,1.2219848607900183]
["250 - 500","M Sand",{"$f":"'raw files'!BL18","v":24.148},{"$f":"'raw files'!BM18","v":26.515000000000001},{"$f":"'raw files'!BN18","v":26.681999999999999},25.414999999999999,0.81825471448551879,null,null,"250 - 500","M Sand",{"$f":"'raw files'!BR18","v":47.280999999999999},{"$f":"'raw files'!BS18","v":47.482999999999997},{"$f":"'raw files'!BT18","v":51.741},48.835000000000001,1.4541696370552286,null,null,"250 - 500","M Sand",{"$f":"'raw files'!BX18","v":5.008},{"$f":"'raw files'!BY18","v":5.2709999999999999},{"$f":"'raw files'!BZ18","v":4.4690000000000003},4.9160000000000004,0.23604307516496492,null,null,"250 - 500","M Sand",{"$f":"'raw files'!CD18","v":52.017000000000003},{"$f":"'raw files'!CE18","v":48.615000000000002},{"$f":"'raw files'!CF18","v":49.002000000000002},49.878000000000007,1.0753190224300884,null,null,"250 - 500","M Sand",{"$f":"'raw files'!CJ18","v":19.952000000000002},{"$f":"'raw files'!CK18","v":19.100000000000001},{"$f":"'raw files'!CL18","v":20.34},19.797333333333338,0.36621547998108644,null,null,"250 - 500","M Sand",{"$f":"'raw files'!CP18","v":27.483000000000001},{"$f":"'raw files'!CQ18","v":29.809000000000001},{"$f":"'raw files'!CR18","v":28.481000000000002},28.590999999999998,0.67370715695570094,null,null,"250 - 500","M Sand",{"$f":"'raw files'!CV18","v":9.2850000000000001},{"$f":"'raw files'!CW18","v":8.3580000000000005},{"$f":"'raw files'!CX18","v":10.698},8.8215000000000003,0.4634999999999998,null,null,"250 - 500","M Sand",{"$f":"'raw files'!DB18","v":15.742000000000001},{"$f":"'raw files'!DC18","v":16.989000000000001},{"$f":"'raw files'!DD18","v":14.377000000000001},16.365500000000001,0.62349999999999983,null,null,"250 - 500","M Sand",{"$f":"'raw files'!DH18","v":15.471},{"$f":"'raw files'!DI18","v":15.817},{"$f":"'raw files'!DJ18","v":15.099},15.462333333333333,0.20731403983114868,null,null,"250 - 500","M Sand",{"$f":"'raw files'!DN18","v":26.440999999999999},{"$f":"'raw files'!DO18","v":24.754000000000001},{"$f":"'raw files'!DP18","v":24.327000000000002},25.174000000000003,0.64538076616314821]
["500 - 1000","C Sand",{"$f":"'raw files'!BL19","v":5.9690000000000003},{"$f":"'raw files'!BM19","v":1.849},{"$f":"'raw files'!BN19","v":3.4359999999999999},4.7025000000000006,1.1997466862263508,null,null,"500 - 1000","C Sand",{"$f":"'raw files'!BR19","v":2.4780000000000002},{"$f":"'raw files'!BS19","v":2.6019999999999999},{"$f":"'raw files'!BT19","v":3.3690000000000002},2.8163333333333331,0.27864214405657473,null,null,"500 - 1000","C Sand",{"$f":"'raw files'!BX19","v":0},{"$f":"'raw files'!BY19","v":0},{"$f":"'raw files'!BZ19","v":0},0,0,null,null,"500 - 1000","C Sand",{"$f":"'raw files'!CD19","v":20.123000000000001},{"$f":"'raw files'!CE19","v":19.545999999999999},{"$f":"'raw files'!CF19","v":20.373000000000001},20.013999999999999,0.24487615917711059,null,null,"500 - 1000","C Sand",{"$f":"'raw files'!CJ19","v":0.74099999999999999},{"$f":"'raw files'!CK19","v":1.671},{"$f":"'raw files'!CL19","v":2.544},1.6519999999999999,0.52056795906010245,null,null,"500 - 1000","C Sand",{"$f":"'raw files'!CP19","v":18.984999999999999},{"$f":"'raw files'!CQ19","v":15.169},{"$f":"'raw files'!CR19","v":16.933},17.029,1.102629584221283,null,null,"500 - 1000","C Sand",{"$f":"'raw files'!CV19","v":15.507},{"$f":"'raw files'!CW19","v":18.54},{"$f":"'raw files'!CX19","v":16.324000000000002},17.023499999999999,1.5164999999999995,null,null,"500 - 1000","C Sand",{"$f":"'raw files'!DB19","v":10.403},{"$f":"'raw files'!DC19","v":12.824999999999999},{"$f":"'raw files'!DD19","v":11.337999999999999},11.614000000000001,1.2109999999999883,null,null,"500 - 1000","C Sand",{"$f":"'raw files'!DH19","v":14.734999999999999},{"$f":"'raw files'!DI19","v":10.861000000000001},{"$f":"'raw files'!DJ19","v":13.225},12.940333333333333,1.1273487087459289,null,null,"500 - 1000","C Sand",{"$f":"'raw files'!DN19","v":5.2160000000000002},{"$f":"'raw files'!DO19","v":7.4160000000000004},{"$f":"'raw files'!DP19","v":7.891},6.8410000000000011,0.82398927986553738]
["1000 - 2000","VC Sand",{"$f":"'raw files'!BL20","v":2.056},{"$f":"'raw files'!BM20","v":0},{"$f":"'raw files'!BN20","v":1.9E-2},1.0375000000000001,0.68218871615150922,null,null,"1000 - 2000","VC Sand",{"$f":"'raw files'!BR20","v":0},{"$f":"'raw files'!BS20","v":0},{"$f":"'raw files'!BT20","v":0},0,0,null,null,"1000 - 2000","VC Sand",{"$f":"'raw files'!BX20","v":0},{"$f":"'raw files'!BY20","v":0},{"$f":"'raw files'!BZ20","v":0},0,0,null,null,"1000 - 2000","VC Sand",{"$f":"'raw files'!CD20","v":0},{"$f":"'raw files'!CE20","v":0.04},{"$f":"'raw files'!CF20","v":0},1.3333333333333334E-2,1.3333333333333334E-2,null,null,"1000 - 2000","VC Sand",{"$f":"'raw files'!CJ20","v":0},{"$f":"'raw files'!CK20","v":0.51},{"$f":"'raw files'!CL20","v":0.498},0.33600000000000002,0.16803571049035973,null,null,"1000 - 2000","VC Sand",{"$f":"'raw files'!CP20","v":6.5439999999999996},{"$f":"'raw files'!CQ20","v":2.5110000000000001},{"$f":"'raw files'!CR20","v":4.3070000000000004},4.4539999999999997,{"$f":"(STDEV(AV34:AX34))/SQRT(3)","v":1.1665446126631129},null,null,"1000 - 2000","VC Sand",{"$f":"'raw files'!CV20","v":9.9009999999999998},{"$f":"'raw files'!CW20","v":14.066000000000001},{"$f":"'raw files'!CX20","v":8.9640000000000004},11.983499999999999,2.0825000000000058,null,null,"1000 - 2000","VC Sand",{"$f":"'raw files'!DB20","v":6.6710000000000003},{"$f":"'raw files'!DC20","v":4.9930000000000003},{"$f":"'raw files'!DD20","v":5.1479999999999997},5.8320000000000007,0.8389999999999963,null,null,"1000 - 2000","VC Sand",{"$f":"'raw files'!DH20","v":10.329000000000001},{"$f":"'raw files'!DI20","v":6.7469999999999999},{"$f":"'raw files'!DJ20","v":7.94},8.3386666666666667,1.053072066754112,null,null,"1000 - 2000","VC Sand",{"$f":"'raw files'!DN20","v":0.16200000000000001},{"$f":"'raw files'!DO20","v":1.774},{"$f":"'raw files'!DP20","v":2.1539999999999999},1.3633333333333333,0.61060116096989048]
[null,null,null,"Textural Class:",null,{"$f":"'Texture Calculator'!N14","v":"LOAMY SAND"},null,null,null,null,null,null,null,"Textural Class:",{"$f":"'Texture Calculator'!N15","v":"SAND"},null,null,null,null,null,null,null,"Textural Class:",{"$f":"'Texture Calculator'!N16","v":"LOAMY SAND"},null,null,null,null,null,null,null,"Textural Class:",{"$f":"'Texture Calculator'!N17","v":"SAND"},null,null,null,null,null,null,null,"Textural Class:",{"$f":"'Texture Calculator'!N18","v":"SAND"},null,null,null,null,null,null,null,"Textural Class:",{"$f":"'Texture Calculator'!N19","v":"SAND"},null,null,null,null,null,null,null,"Textural Class:",{"$f":"'Texture Calculator'!N20","v":"SAND"},null,null,null,null,null,null,null,"Textural Class:",{"$f":"'Texture Calculator'!N21","v":"LOAMY SAND"},null,null,null,null,null,null,null,"Textural Class:",{"$f":"'Texture Calculator'!N22","v":"SAND"},null,null,null,null,null,null,null,"Textural Class:",{"$f":"'Texture Calculator'!$N$23","v":"SAND"}]
[null,null,null,"avg mode:",null,{"$f":"AVERAGE('raw files'!BL6:BN6)","v":213.57333333333335},null,null,null,null,null,null,null,"avg mode:",{"$f":"AVERAGE('raw files'!BR6:BT6)","v":260.70566666666667},null,null,null,null,null,null,null,"avg mode:",{"$f":"AVERAGE('raw files'!BX6:BY6)","v":128.76050000000001},null,null,null,null,null,null,null,"avg mode:",{"$f":"AVERAGE('raw files'!CE6:CF6)","v":364.459},null,null,null,null,null,null,null,"avg mode:",{"$f":"AVERAGE('raw files'!CJ6:CL6)","v":165.45733333333334},null,null,null,null,null,null,null,"avg mode:",{"$f":"AVERAGE('raw files'!CP6:CR6)","v":204.82799999999997},null,null,null,null,null,null,null,"avg mode:",{"$f":"AVERAGE('raw files'!CV6:CW6)","v":129.79000000000002},null,null,null,null,null,null,null,"avg mode:",{"$f":"AVERAGE('raw files'!DB6:DC6)","v":142.21},null,null,null,null,null,null,null,"avg mode:",{"$f":"AVERAGE('raw files'!DH6:DJ6)","v":141.95033333333333},null,null,null,null,null,null,null,"avg mode:",{"$f":"AVERAGE('raw files'!DO6:DP6)","v":198.232}]
[]
[]
[]
["Particle",null,{"$f":"'raw files'!DT1","v":"[3788] USA6 T2-2 bulk - c - Average"},null,null,null,null,null,null,"Particle",null,{"$f":"'raw files'!DZ1","v":"[3789] USA6 T2-7 bulk - a - Average"},null,null,null,null,null,null,"Particle",null,{"$f":"'raw files'!EF1","v":"[3790 USA6 T2-13 bulk - a - Average"},null,null,null,null,null,null,"Particle",null,{"$f":"'raw files'!EL1","v":"[3791] USA6 T3-2 bulk - c - Average"},null,null,null,null,null,null,"Particle",null,{"$f":"'raw files'!ER1","v":"[3792] USA6 T3-7 bulk - a - Average"},null,null,null,null,null,null,"Particle",null,{"$f":"'raw files'!EX1","v":"[3793] USA6 T3-12 bulk - a - Average"}]
["Diameter",null,"Differential Volume (%)",null,null,null,null,null,null,"Diameter",null,"Differential Volume (%)",null,null,null,null,null,null,"Diameter",null,"Differential Volume (%)",null,null,null,null,null,null,"Diameter",null,"Differential Volume (%)",null,null,null,null,null,null,"Diameter",null,"Differential Volume (%)",null,null,null,null,null,null,"Diameter",null,"Differential Volume (%)"]
["Range (mm)","Size Class","Rep. 1","Rep. 2","Rep. 3","Average","SE",null,null,"Range (mm)","Size Class","Rep. 1","Rep. 2","Rep. 3","Average","SE",null,null,"Range (mm)","Size Class","Rep. 1","Rep. 2","Rep. 3","Average","SE",null,null,"Range (mm)","Size Class","Rep. 1","Rep. 2","Rep. 3","Average","SE",null,null,"Range (mm)","Size Class","Rep. 1","Rep. 2","Rep. 3","Average","SE",null,null,"Range (mm)","Size Class","Rep. 1","Rep. 2","Rep. 3","Average","SE"]
["< 5","Clay",{"$f":"'raw files'!DT13","v":2.8959999999999999},{"$f":"'raw files'!DU13","v":2.6869999999999998},{"$f":"'raw files'!DV13","v":3.1389999999999998},{"$f":"AVERAGE(C43:E43)","v":2.9073333333333333},{"$f":"(STDEV(C43:E43))/SQRT(3)","v":0.13060415171212761},null,null,"< 5","Clay",{"$f":"'raw files'!DZ13","v":3.6520000000000001},{"$f":"'raw files'!EA13","v":3.9729999999999999},{"$f":"'raw files'!EB13","v":3.46},{"$f":"AVERAGE(L43:N43)","v":3.6950000000000003},{"$f":"(STDEV(L43:N43))/SQRT(3)","v":0.14964290828502363},null,null,"< 5","Clay",{"$f":"'raw files'!EF13","v":9.6999999999999993},{"$f":"'raw files'!EG13","v":9.1940000000000008},{"$f":"'raw files'!EH13","v":10.066000000000001},{"$f":"AVERAGE(U43:W43)","v":9.6533333333333342},{"$f":"(STDEV(U43:W43))/SQRT(3)","v":0.25280383260104611},null,null,"< 5","Clay",{"$f":"'raw files'!EL13","v":5.298},{"$f":"'raw files'!EM13","v":5.1130000000000004},{"$f":"'raw files'!EN13","v":4.2270000000000003},{"$f":"AVERAGE(AD43:AF43)","v":4.8793333333333342},{"$f":"(STDEV(AD43:AF43))/SQRT(3)","v":0.33050987546180488},null,null,"< 5","Clay",{"$f":"'raw files'!ER13","v":3.4620000000000002},{"$f":"'raw files'!ES13","v":4.2569999999999997},{"$f":"'raw files'!ET13","v":4.3440000000000003},{"$f":"AVERAGE(AM43:AO43)","v":4.0209999999999999},{"$f":"(STDEV(AM43:AO43))/SQRT(3)","v":0.28062608574400205},null,null,"< 5","Clay",{"$f":"'raw files'!EX13","v":5.3869999999999996},{"$f":"'raw files'!EY13","v":5.86},{"$f":"'raw files'!EZ13","v":5.3220000000000001},{"$f":"AVERAGE(AV43:AX43)","v":5.5229999999999997},{"$f":"(STDEV(AV43:AX43))/SQRT(3)","v":0.16954153866629085}]
["5 - 63","Silt",{"$f":"'raw files'!DT14","v":6.0819999999999999},{"$f":"'raw files'!DU14","v":5.8570000000000002},{"$f":"'raw files'!DV14","v":6.8079999999999998},{"$f":"AVERAGE(C44:E44)","v":6.2489999999999997},{"$f":"(STDEV(C44:E44))/SQRT(3)","v":0.286947730431868},null,null,"5 - 63","Silt",{"$f":"'raw files'!DZ14","v":10.909000000000001},{"$f":"'raw files'!EA14","v":11.763999999999999},{"$f":"'raw files'!EB14","v":10.537000000000001},{"$f":"AVERAGE(L44:N44)","v":11.07},{"$f":"(STDEV(L44:N44))/SQRT(3)","v":0.36323683733894568},null,null,"5 - 63","Silt",{"$f":"'raw files'!EF14","v":32.625999999999998},{"$f":"'raw files'!EG14","v":31.495000000000001},{"$f":"'raw files'!EH14","v":33.828000000000003},{"$f":"AVERAGE(U44:W44)","v":32.649666666666668},{"$f":"(STDEV(U44:W44))/SQRT(3)","v":0.67358303950672027},null,null,"5 - 63","Silt",{"$f":"'raw files'!EL14","v":16.609000000000002},{"$f":"'raw files'!EM14","v":16.219000000000001},{"$f":"'raw files'!EN14","v":13.577999999999999},{"$f":"AVERAGE(AD44:AF44)","v":15.468666666666669},{"$f":"(STDEV(AD44:AF44))/SQRT(3)","v":0.95201371372008747},null,null,"5 - 63","Silt",{"$f":"'raw files'!ER14","v":8.4960000000000004},{"$f":"'raw files'!ES14","v":9.1780000000000008},{"$f":"'raw files'!ET14","v":8.7420000000000009},{"$f":"AVERAGE(AM44:AO44)","v":8.8053333333333335},{"$f":"(STDEV(AM44:AO44))/SQRT(3)","v":0.19940689835387129},null,null,"5 - 63","Silt",{"$f":"'raw files'!EX14","v":25.082999999999998},{"$f":"'raw files'!EY14","v":27.373000000000001},{"$f":"'raw files'!EZ14","v":24.925999999999998},{"$f":"AVERAGE(AV44:AX44)","v":25.794},{"$f":"(STDEV(AV44:AX44))/SQRT(3)","v":0.79079980610350098}]
["63 - 2000","Sand",{"$f":"'raw files'!DT15","v":91.022000000000006},{"$f":"'raw files'!DU15","v":91.456000000000003},{"$f":"'raw files'!DV15","v":90.052999999999997},90.843666666666664,0.41471047464198374,null,null,"63 - 2000","Sand",{"$f":"'raw files'!DZ15","v":85.438999999999993},{"$f":"'raw files'!EA15","v":84.263000000000005},{"$f":"'raw files'!EB15","v":86.003},85.234999999999999,{"$f":"(STDEV(L45:N45))/SQRT(3)","v":0.51254658324877933},null,null,"63 - 2000","Sand",{"$f":"'raw files'!EF15","v":57.673999999999999},{"$f":"'raw files'!EG15","v":59.311},{"$f":"'raw files'!EH15","v":56.106000000000002},57.697000000000003,0.92527527435533063,null,null,"63 - 2000","Sand",{"$f":"'raw files'!EL15","v":78.093000000000004},{"$f":"'raw files'!EM15","v":78.668000000000006},{"$f":"'raw files'!EN15","v":82.194999999999993},79.652000000000001,1.2822887090407231,null,null,"63 - 2000","Sand",{"$f":"'raw files'!ER15","v":88.043000000000006},{"$f":"'raw files'!ES15","v":86.564999999999998},{"$f":"'raw files'!ET15","v":86.914000000000001},87.173999999999992,0.44602727868745373,null,null,"63 - 2000","Sand",{"$f":"'raw files'!EX15","v":69.531000000000006},{"$f":"'raw files'!EY15","v":66.766999999999996},{"$f":"'raw files'!EZ15","v":69.751999999999995},68.683333333333337,0.96028820905207779]
["63 - 125","VF Sand",{"$f":"'raw files'!DT16","v":19.893000000000001},{"$f":"'raw files'!DU16","v":17.308},{"$f":"'raw files'!DV16","v":19.794},18.998333333333335,0.84564971734427075,null,null,"63 - 125","VF Sand",{"$f":"'raw files'!DZ16","v":24.809000000000001},{"$f":"'raw files'!EA16","v":27.24},{"$f":"'raw files'!EB16","v":24.917000000000002},25.655333333333335,0.79294647430397824,null,null,"63 - 125","VF Sand",{"$f":"'raw files'!EF16","v":28.841000000000001},{"$f":"'raw files'!EG16","v":28.61},{"$f":"'raw files'!EH16","v":30.643999999999998},29.364999999999998,0.64296733976151488,null,null,"63 - 125","VF Sand",{"$f":"'raw files'!EL16","v":28.620999999999999},{"$f":"'raw files'!EM16","v":28.052},{"$f":"'raw files'!EN16","v":26.277999999999999},27.650333333333332,0.70555281714254248,null,null,"63 - 125","VF Sand",{"$f":"'raw files'!ER16","v":20.048999999999999},{"$f":"'raw files'!ES16","v":19.643000000000001},{"$f":"'raw files'!ET16","v":19.911999999999999},19.867999999999999,0.11924903912960154,null,null,"63 - 125","VF Sand",{"$f":"'raw files'!EX16","v":30.279},{"$f":"'raw files'!EY16","v":32.96},{"$f":"'raw files'!EZ16","v":30.69},31.309666666666669,0.8336526721469667]
["125 - 250","F Sand",{"$f":"'raw files'!DT17","v":34.667999999999999},{"$f":"'raw files'!DU17","v":30.055},{"$f":"'raw files'!DV17","v":34.570999999999998},33.097999999999999,1.5217576460571283,null,null,"125 - 250","F Sand",{"$f":"'raw files'!DZ17","v":30.527000000000001},{"$f":"'raw files'!EA17","v":34.454999999999998},{"$f":"'raw files'!EB17","v":32.548000000000002},32.51,1.1340751003938547,null,null,"125 - 250","F Sand",{"$f":"'raw files'!EF17","v":21.061},{"$f":"'raw files'!EG17","v":19.716000000000001},{"$f":"'raw files'!EH17","v":20.934000000000001},20.570333333333334,0.42873703414149361,null,null,"125 - 250","F Sand",{"$f":"'raw files'!EL17","v":32.707999999999998},{"$f":"'raw files'!EM17","v":32.523000000000003},{"$f":"'raw files'!EN17","v":33.381},32.870666666666665,0.26069543745741097,null,null,"125 - 250","F Sand",{"$f":"'raw files'!ER17","v":30.155999999999999},{"$f":"'raw files'!ES17","v":29.280999999999999},{"$f":"'raw files'!ET17","v":30.79},30.075666666666667,0.43745869646300467,null,null,"125 - 250","F Sand",{"$f":"'raw files'!EX17","v":21.99},{"$f":"'raw files'!EY17","v":23.672999999999998},{"$f":"'raw files'!EZ17","v":22.167999999999999},22.61033333333333,0.53381218086930571]
["250 - 500","M Sand",{"$f":"'raw files'!DT18","v":26.434000000000001},{"$f":"'raw files'!DU18","v":26.13},{"$f":"'raw files'!DV18","v":26.765999999999998},26.443333333333332,0.18365668454422696,null,null,"250 - 500","M Sand",{"$f":"'raw files'!DZ18","v":13.776999999999999},{"$f":"'raw files'!EA18","v":16.803999999999998},{"$f":"'raw files'!EB18","v":15.866},15.482333333333331,0.89462884917589014,null,null,"250 - 500","M Sand",{"$f":"'raw files'!EF18","v":6.3390000000000004},{"$f":"'raw files'!EG18","v":5.1260000000000003},{"$f":"'raw files'!EH18","v":3.7679999999999998},5.0776666666666666,0.74257711907772661,null,null,"250 - 500","M Sand",{"$f":"'raw files'!EL18","v":14.492000000000001},{"$f":"'raw files'!EM18","v":16.004999999999999},{"$f":"'raw files'!EN18","v":18.818999999999999},16.438666666666666,1.267777889765306,null,null,"250 - 500","M Sand",{"$f":"'raw files'!ER18","v":21.222000000000001},{"$f":"'raw files'!ES18","v":21.876999999999999},{"$f":"'raw files'!ET18","v":19.361999999999998},20.820333333333334,0.75328355292752258,null,null,"250 - 500","M Sand",{"$f":"'raw files'!EX18","v":7.9},{"$f":"'raw files'!EY18","v":6.7549999999999999},{"$f":"'raw files'!EZ18","v":8.8160000000000007},7.8236666666666679,0.59618239192753264]
["500 - 1000","C Sand",{"$f":"'raw files'!DT19","v":9.9149999999999991},{"$f":"'raw files'!DU19","v":15.705},{"$f":"'raw files'!DV19","v":8.5969999999999995},11.405666666666667,2.1830774404750541,null,null,"500 - 1000","C Sand",{"$f":"'raw files'!DZ19","v":9.7479999999999993},{"$f":"'raw files'!EA19","v":5.2720000000000002},{"$f":"'raw files'!EB19","v":8.4960000000000004},7.8386666666666658,1.3332553310517026,null,null,"500 - 1000","C Sand",{"$f":"'raw files'!EF19","v":1.4239999999999999},{"$f":"'raw files'!EG19","v":3.9740000000000002},{"$f":"'raw files'!EH19","v":0.63900000000000001},2.0123333333333333,1.0066708057310056,null,null,"500 - 1000","C Sand",{"$f":"'raw files'!EL19","v":2.2480000000000002},{"$f":"'raw files'!EM19","v":2.0880000000000001},{"$f":"'raw files'!EN19","v":3.6640000000000001},2.6666666666666665,0.50080113595895326,null,null,"500 - 1000","C Sand",{"$f":"'raw files'!ER19","v":11.475},{"$f":"'raw files'!ES19","v":12.909000000000001},{"$f":"'raw files'!ET19","v":11.695},12.026333333333334,0.44587940571913015,null,null,"500 - 1000","C Sand",{"$f":"'raw files'!EX19","v":5.7359999999999998},{"$f":"'raw files'!EY19","v":2.7360000000000002},{"$f":"'raw files'!EZ19","v":6.843},5.1049999999999995,1.2268500315849526]
["1000 - 2000","VC Sand",{"$f":"'raw files'!DT20","v":0.113},{"$f":"'raw files'!DU20","v":2.2570000000000001},{"$f":"'raw files'!DV20","v":0.32500000000000001},0.89833333333333343,0.68208438708939167,null,null,"1000 - 2000","VC Sand",{"$f":"'raw files'!DZ20","v":6.5780000000000003},{"$f":"'raw files'!EA20","v":0.49299999999999999},{"$f":"'raw files'!EB20","v":4.1749999999999998},3.7486666666666668,1.7694750947982034,null,null,"1000 - 2000","VC Sand",{"$f":"'raw files'!EF20","v":8.9999999999999993E-3},{"$f":"'raw files'!EG20","v":1.887},{"$f":"'raw files'!EH20","v":0.12},0.67200000000000004,0.60834447478381859,null,null,"1000 - 2000","VC Sand",{"$f":"'raw files'!EL20","v":2.4E-2},{"$f":"'raw files'!EM20","v":0},{"$f":"'raw files'!EN20","v":5.2999999999999999E-2},2.5666666666666667E-2,1.5322459912748273E-2,null,null,"1000 - 2000","VC Sand",{"$f":"'raw files'!ER20","v":5.14},{"$f":"'raw files'!ES20","v":2.8540000000000001},{"$f":"'raw files'!ET20","v":5.1550000000000002},4.383,0.76451226281858908,null,null,"1000 - 2000","VC Sand",{"$f":"'raw files'!EX20","v":3.6259999999999999},{"$f":"'raw files'!EY20","v":0.64200000000000002},{"$f":"'raw files'!EZ20","v":1.2350000000000001},1.8343333333333334,0.91204245758870495]
[null,null,null,"Textural Class:",null,{"$f":"'Texture Calculator'!$N$24","v":"SAND"},null,null,null,null,null,null,"Textural Class:",null,{"$f":"'Texture Calculator'!$N$25","v":"LOAMY SAND"},null,null,null,null,null,null,"Textural Class:",null,{"$f":"'Texture Calculator'!$N$26","v":"LOAMY SAND"},null,null,null,null,null,null,"Textural Class:",null,{"$f":"'Texture Calculator'!$N$27","v":"SANDY LOAM"},null,null,null,null,null,null,"Textural Class:",null,{"$f":"'Texture Calculator'!$N$25","v":"LOAMY SAND"},null,null,null,null,null,null,"Textural Class:",null,{"$f":"'Texture Calculator'!$N$25","v":"LOAMY SAND"}]
[null,null,null,"avg mode:",null,{"$f":"AVERAGE('raw files'!DT6:DV6)","v":183.08733333333331},null,null,null,null,null,null,"avg mode:",null,{"$f":"AVERAGE('raw files'!DZ6:EB6)","v":142.42033333333333},null,null,null,null,null,null,"avg mode:",null,{"$f":"AVERAGE('raw files'!EF6:EH6)","v":100.98733333333332},null,null,null,null,null,null,"avg mode:",null,{"$f":"AVERAGE('raw files'!EL6:EN6)","v":138.74633333333333},null,null,null,null,null,null,"avg mode:",null,{"$f":"AVERAGE('raw files'!ER6:ET6)","v":161.96366666666668},null,null,null,null,null,null,"avg mode:",null,{"$f":"AVERAGE('raw files'!EX6:EZ6)","v":101.464}]
[]
[]
[]
[]
[]
[]
[null,null,null,null,null,null,null,null,null,null,null,null,null,null,null,null,null,"Clay","Silt"]
[null,null,null,null,null,null,null,null,null,null,null,null,null,null,null,null,0,5,63]
[null,null,null,null,null,null,null,null,null,null,null,null,null,null,null,null,18,5,63,"Clay","Silt"]
[null,null,null,null,null,null,null,null,null,null,null,null,null,null,null,null,null,null,0,5,63]
[null,null,null,null,null,null,null,null,null,null,null,null,null,null,null,null,null,null,125,5,63]
[]
[]
[]
[]
[]
[]
[]
[]
[]
[]
[]
[]
[]
[]
[]
[]
[]
[]
[]
[]
[]
[]
[]
[]
[]
[]
[]
[]
[]
[]
[]
[]
[]
[]
[]
[]
[]
["LAB #","total w (gr)",">2mm (gr)"]
[3773,64.164000000000001,19.669]
[3774,97.683000000000007,18.401]
[3780,63.414999999999999,12.529]
[3785,83.15,22.454000000000001]
[3786,95.147999999999996,20.63]
[3787,95.721000000000004,16.702999999999999]
[3789,111.124,26.3]
[3790,{"$f":"58.842+C109","v":122.84399999999999},64.001999999999995]
[3791,112.59,49.56]
[3792,104.30800000000001,58.790999999999997]

{"sheet":"Texture Calculator","index":1,"n_rows":60,"n_cols":14,"rows_kept":60,"cut":false,"hidden":false,"merged":[[45,1,45,2],[12,7,12,12],[13,7,13,12],[14,7,14,12],[15,7,15,12],[16,7,16,12],[17,7,17,12],[18,7,18,12],[42,1,44,2],[20,7,20,12],[21,7,21,12],[25,7,25,12],[23,7,23,12],[9,7,9,12],[0,1,0,7],[27,7,27,12],[28,7,28,12],[22,7,22,12],[38,1,40,2],[10,7,10,12],[11,7,11,12],[2,1,2,2],[2,3,2,4],[2,5,2,6],[6,7,6,12],[2,7,2,12],[3,7,3,12],[4,7,4,12],[5,7,5,12],[19,7,19,12],[8,7,8,12],[24,7,24,12],[26,7,26,12],[7,7,7,12]]}
[null,"Enter your data into the yellow highlighted cells",null,null,null,null,null,null,"Password = Texture"]
[]
[null,"Sand",null,"Clay",null,"Silt",null,"USDA Texture"]
[3768,"% Sand 1",{"$f":"Results!$F$13/100","v":0.78526000000000007},"%Clay 1",{"$f":"Results!$F$11/100","v":4.5919999999999996E-2},"% Silt 1",{"$f":"1-C4-E4","v":0.16881999999999994},{"$f":"GRAIN(C4,E4,G4)","v":"LOAMY SAND"},null,null,null,null,null,{"$f":"H4","v":"LOAMY SAND"}]
[3769,"% Sand 2",{"$f":"Results!$O$13/100","v":0.64908500000000002},"%Clay 2",{"$f":"Results!$O$11/100","v":0.12753999999999999},"% Silt 2",{"$f":"1-C5-E5","v":0.22337499999999999},{"$f":"GRAIN(C5,E5,G5)","v":"SANDY LOAM"},null,null,null,null,null,{"$f":"H5","v":"SANDY LOAM"}]
[3770,"% Sand 3",{"$f":"Results!$X$13/100","v":0.44077999999999995},"%Clay 3",{"$f":"Results!X11/100","v":0.11997999999999999},"% Silt 3",{"$f":"1-C6-E6","v":0.43924000000000007},"LOAM",null,null,null,null,null,{"$f":"H6","v":"LOAM"}]
[3771,"% Sand 4",{"$f":"Results!$AG$13/100","v":0.7323599999999999},"%Clay 4",{"$f":"Results!$AG$11/100","v":8.6439999999999989E-2},"% Silt 4",{"$f":"1-C7-E7","v":0.18120000000000011},{"$f":"GRAIN(C7,E7,G7)","v":"SANDY LOAM"},null,null,null,null,null,{"$f":"H7","v":"SANDY LOAM"}]
[3772,"% Sand 5",{"$f":"Results!$AP$13/100","v":0.37160333333333334},"%Clay 5",{"$f":"Results!$AP$11/100","v":7.6359999999999997E-2},"% Silt 5",{"$f":"1-C8-E8","v":0.55203666666666673},{"$f":"GRAIN(C8,E8,G8)","v":"SILT LOAM"},null,null,null,null,null,{"$f":"H8","v":"SILT LOAM"}]
[3773,"% Sand 6",{"$f":"Results!$AY$13/100","v":0.76713333333333322},"%Clay 6",{"$f":"Results!$AY$11/100","v":7.1986666666666671E-2},"% Silt 6",{"$f":"1-C9-E9","v":0.16088000000000011},{"$f":"GRAIN(C9,E9,G9)","v":"SANDY LOAM"},null,null,null,null,null,"SANDY LOAM"]
[3774,"% Sand 7",{"$f":"Results!$BH$13/100","v":0.7126933333333334},"%Clay 7",{"$f":"Results!$BH$11/100","v":5.7453333333333335E-2},"% Silt 7",0.22985333333333327,"SANDY LOAM",null,null,null,null,null,"SANDY LOAM"]
[3775,"% Sand 8",{"$f":"Results!$BQ$13/100","v":0.66300000000000014},"%Clay 8",{"$f":"Results!$BQ$11/100","v":7.5670000000000001E-2},"% Silt 8",{"$f":"1-C11-E11","v":0.26132999999999984},{"$f":"GRAIN(C11,E11,G11)","v":"SANDY LOAM"},null,null,null,null,null,"SANDY LOAM"]
[3776,"% Sand 9",{"$f":"Results!$BY$13/100","v":0.77256333333333327},"%Clay 9",{"$f":"Results!$BY$11/100","v":6.1529999999999994E-2},"% Silt 9",0.16590666666666673,"LOAMY SAND",null,null,null,null,null,"LOAMY SAND"]
[3777,"% Sand 11",{"$f":"Results!$CH$13/100","v":0.30610666666666664},"%Clay 11",{"$f":"Results!$CH$11/100","v":0.10744333333333335},"% Silt 11",{"$f":"1-C13-E13","v":0.58645000000000003},{"$f":"GRAIN(C13,E13,G13)","v":"SILT LOAM"},null,null,null,null,null,"SILT LOAM"]
[3778,"% Sand 12",{"$f":"Results!$F$29/100","v":0.81396000000000002},"%Clay 12",{"$f":"Results!$F$27/100","v":5.7465000000000002E-2},"% Silt 12",0.12857499999999999,"LOAMY SAND",null,null,null,null,null,"LOAMY SAND"]
[3779,"% Sand 13",{"$f":"Results!$O$29/100","v":0.9841399999999999},"%Clay 13",{"$f":"Results!$O$27/100","v":5.8533333333333328E-3},"% Silt 13",1.0006666666666764E-2,"SAND",null,null,null,null,null,"SAND"]
[3780,"% Sand 14",{"$f":"Results!$X$29/100","v":0.83386666666666676},"%Clay 14",{"$f":"Results!$X$27/100","v":3.7806666666666669E-2},"% Silt 14",0.12832666666666659,"LOAMY SAND",null,null,null,null,null,"LOAMY SAND"]
[3781,"% Sand 15",{"$f":"Results!$AG$29/100","v":0.98791999999999991},"%Clay 15",{"$f":"Results!$AG$27/100","v":3.4833333333333331E-3},"% Silt 15",8.5966666666667576E-3,"SAND",null,null,null,null,null,{"$f":"H17","v":"SAND"}]
[3782,"% Sand 16",{"$f":"Results!$AP$29/100","v":0.88891333333333322},"%Clay 16",{"$f":"Results!$AP$27/100","v":1.8589999999999999E-2},"% Silt 16",{"$f":"1-C18-E18","v":9.2496666666666782E-2},{"$f":"GRAIN(C18,E18,G18)","v":"SAND"},null,null,null,null,null,{"$f":"H18","v":"SAND"}]
[3783,"% Sand 17",{"$f":"Results!$AY$29/100","v":0.97476333333333331},"%Clay 17",{"$f":"Results!$AY$27/100","v":5.416666666666666E-3},"% Silt 17",{"$f":"1-C19-E19","v":1.9820000000000018E-2},{"$f":"GRAIN(C19,E19,G19)","v":"SAND"},null,null,null,null,null,"SAND"]
[3784,"% Sand 18",{"$f":"Results!$BH$29/100","v":0.90114499999999997},"%Clay 18",{"$f":"Results!$BH$27/100","v":1.9015000000000001E-2},"% Silt 18",{"$f":"1-C20-E20","v":7.9840000000000022E-2},{"$f":"GRAIN(C20,E20,G20)","v":"SAND"},null,null,null,null,null,"SAND"]
[3785,"% Sand 19",{"$f":"Results!$BQ$29/100","v":0.85811000000000004},"%Clay 19",{"$f":"Results!$BQ$27/100","v":2.6455000000000003E-2},"% Silt 19",0.11543499999999995,"LOAMY SAND",null,null,null,null,null,"LOAMY SAND"]
[3786,"% Sand 20",{"$f":"Results!$BZ$29/100","v":0.87386666666666657},"%Clay 20",{"$f":"Results!$BZ$27/100","v":2.9100000000000001E-2},"% Silt 20",9.703333333333343E-2,{"$f":"GRAIN(C22,E22,G22)","v":"SAND"},null,null,null,null,null,"SAND"]
[3787,"% Sand 21",{"$f":"Results!$CI$29/100","v":0.86993333333333345},"%Clay 21",{"$f":"Results!$CI$27/100","v":2.7913333333333328E-2},"% Silt 21",{"$f":"1-C23-E23","v":0.10215333333333322},{"$f":"GRAIN(C23,E23,G23)","v":"SAND"},null,null,null,null,null,"SAND"]
[3788,"% Sand 22",{"$f":"Results!F45/100","v":0.90843666666666667},"%Clay 22",{"$f":"Results!F43/100","v":2.9073333333333333E-2},"% Silt 22",6.2489999999999997E-2,"SAND",null,null,null,null,null,"SAND"]
[3789,"% Sand 23",{"$f":"Results!$O$45/100","v":0.85234999999999994},"%Clay 23",{"$f":"Results!$O$43/100","v":3.6950000000000004E-2},"% Silt 23",0.11070000000000005,"LOAMY SAND",null,null,null,null,null,"LOAMY SAND"]
[3790,"% Sand 24",{"$f":"Results!$AG$45/100","v":0.79652000000000001},"%Clay 24",{"$f":"Results!$AG$43/100","v":4.8793333333333341E-2},"% Silt 24",{"$f":"1-C26-E26","v":0.15468666666666664},{"$f":"GRAIN(C26,E26,G26)","v":"LOAMY SAND"},null,null,null,null,null,"LOAMY SAND"]
[3791,"% Sand 25",{"$f":"Results!$X$45/100","v":0.57696999999999998},"%Clay 25",{"$f":"Results!$X$43/100","v":9.6533333333333346E-2},"% Silt 25",{"$f":"1-C27-E27","v":0.32649666666666666},{"$f":"GRAIN(C27,E27,G27)","v":"SANDY LOAM"},null,null,null,null,null,{"$f":"H27","v":"SANDY LOAM"}]
[3792,"% Sand 26",{"$f":"Results!$AP$45/100","v":0.87173999999999996},"%Clay 26",{"$f":"Results!$AP$43/100","v":4.0209999999999996E-2},"% Silt 26",8.8050000000000045E-2,{"$f":"GRAIN(C28,E28,G28)","v":"SAND"},null,null,null,null,null,"SAND"]
[3793,"% Sand 27",{"$f":"Results!$AY$45/100","v":0.68683333333333341},"%Clay 27",{"$f":"Results!$AY$43/100","v":5.5229999999999994E-2},"% Silt 27",0.25793666666666659,"SANDY LOAM",null,null,null,null,null,"SANDY LOAM"]
[]
[null,null,null,{"$f":"A4","v":3768},{"$f":"(1.095-(C4*0.0104*100))-((0.52)*(0.0099*E4*100))","v":0.25468998399999998},{"$f":"0.145+(0.0099*E4*100)","v":0.19046079999999999}]
[null,null,null,3769,0.35429400799999999,0.27126459999999997]
[null,null,null,3770,0.57482309599999992,0.26378020000000002]
[null,null,null,3771,0.28884628800000012,0.23057559999999999]
[null,null,null,3772,0.66922240533333333,0.2205964]
[null,null,null,3773,0.26012259733333354,0.21626679999999998]
[null,null,null,3774,0.32422195733333325,0.2018788]
[null,null,null,3775,0.36652508399999983,0.21991329999999998]
[null,null,null,{"$f":"A12","v":3776},0.25985848933333333,0.20591470000000001]
[null,null,null,3777,{"$f":"(1.095-(C13*0.0104*100))-((0.52)*(0.0099*E13*100))","v":0.72133723866666666},{"$f":"0.145+(0.0099*E13*100)","v":0.25136890000000001}]
[null,null,null,3778,0.21889861799999985,0.20189035]
[null,null,null,3779,6.8481103999999959E-2,0.15079479999999998]
[null,null,null,3780,0.20831579466666647,0.1824286]
[null,null,null,3781,6.5769980000000158E-2,0.14844849999999998]
[null,null,null,3782,0.16096000133333344,0.1634041]
[null,null,null,3783,7.8457633333333415E-2,0.15036249999999998]
[null,null,null,3784,0.14802027799999998,0.16382484999999999]
[null,null,null,3785,0.1889465659999999,0.17119044999999999]
[null,null,null,3786,0.17119798666666672,0.17380899999999999]
[null,null,null,3787,0.17589954933333318,0.17263419999999999]
[null,null,null,3788,0.1352589146666667,0.17378259999999998]
[null,null,null,3789,0.18953414000000007,0.18158050000000001]
[null,null,null,3790,0.24150039199999995,0.19330540000000002]
[null,null,null,3791,0.44525584000000001,0.240568]
[null,null,null,3792,0.16769029200000007,0.18480789999999997]
[null,null,null,3793,0.35226092933333319,0.19967769999999999]
[]
[]
[null,null,null,null,0.52500000000000002]
[null,null,null,null,1.04]

{"sheet":"raw files","index":2,"n_rows":121,"n_cols":184,"rows_kept":121,"cut":false,"hidden":false,"merged":[]}
["Sample Name",null,"[3768] Pisga T1-5  bulk - c - Average","[3768] Pisga T1-5  bulk - d - Average","[3768] Pisga T1-5  bulk - e - Average",null,"Sample Name",null,"[3769] Pisga T1-10  bulk - b - Average","[3769] Pisga T1-10  bulk - d - Average","[3769] Pisga T1-10  bulk - f - Average",null,"Sample Name",null,"[3770] Pisga T1-20  bulk - a - Average","[3770] Pisga T1-20  bulk - b - Average","[3770] Pisga T1-20  bulk - c - Average",null,null,"Sample Name",null,"[3771] Pisga T1-35  bulk - b - Average","[3771] Pisga T1-35  bulk - c - Average","[3771] Pisga T1-35  bulk - d - Average",null,"Sample Name",null,"[3772] Pisga T1-50  bulk - a - Average","[3772] Pisga T1-50  bulk - b - Average","[3772] Pisga T1-50  bulk - c - Average",null,"Sample Name",null,"[3773] Pisga T1-60  bulk - b - Average","[3773] Pisga T1-60  bulk - c - Average","[3773] Pisga T1-60  bulk - d - Average",null,"Sample Name",null,"[3774] Pisga T1-70  bulk - a - Average","[3774] Pisga T1-70  bulk - b - Average","[3774] Pisga T1-70  bulk - d - Average",null,"Sample Name",null,"[3775] Pisga T2-1  bulk - b - Average","[3775] Pisga T2-1  bulk - c - Average","[3775] Pisga T2-1  bulk - e - Average",null,"Sample Name",null,"[3776] Pisga T2-18  bulk - a - Average","[3776] Pisga T2-18  bulk - b - Average","[3776] Pisga T2-18  bulk - c - Average",null,"Sample Name",null,"[3777] Pisga T2-58  bulk - a - Average","[3777] Pisga T2-58  bulk - b - Average","[3777] Pisga T2-58  bulk - c - Average",null,"Sample Name",null,"[3778] Pisga T2-80  bulk - b - Average","[3778] Pisga T2-80  bulk - c - Average","[3778] Pisga T2-80  bulk - d - Average",null,"Sample Name",null,"[3779] USA5 T1-83 bulk - a - Average","[3779] USA5 T1-83 bulk - b - Average","[3779] USA5 T1-83 bulk - c - Average",null,"Sample Name",null,"[3780] USA5 T1-79 bulk - a - Average","[3780] USA5 T1-79 bulk - b - Average","[3780] USA5 T1-79 bulk - c - Average",null,"Sample Name",null,"[3781] USA5 T1-72 bulk - b - Average","[3781] USA5 T1-72 bulk - c - Average","[3781] USA5 T1-72 bulk - d - Average",null,"Sample Name",null,"[3782] USA5 T2-89 bulk - a - Average","[3782] USA5 T2-89 bulk - c - Average","[3782] USA5 T2-89 bulk - d - Average",null,"Sample Name",null,"[3783] USA5 T2-83 bulk - a - Average","[3783] USA5 T2-83 bulk - b - Average","[3783] USA5 T2-83 bulk - c - Average",null,"Sample Name",null,"[3784] USA5 T2-79 bulk - b - Average","[3784] USA5 T2-79 bulk - d - Average","[3784] USA5 T2-79 bulk - e - Average",null,"Sample Name",null,"[3785] USA6 T1-1 bulk - a - Average","[3785] USA6 T1-1 bulk - b - Average","[3785] USA6 T1-1 bulk - c - Average",null,"Sample Name",null,"[3786] USA6 T1-7 bulk - b - Average","[3786] USA6 T1-7 bulk - d - Average","[3786] USA6 T1-7 bulk - e - Average",null,"Sample Name",null,"[3787] USA6 T1-13 bulk - c - Average","[3787] USA6 T1-13 bulk - d - Average","[3787] USA6 T1-13 bulk - e - Average",null,"Sample Name",null,"[3788] USA6 T2-2 bulk - c - Average","[3788] USA6 T2-2 bulk - g - Average","[3788] USA6 T2-2 bulk - h - Average",null,"Sample Name",null,"[3789] USA6 T2-7 bulk - a - Average","[3789] USA6 T2-7 bulk - b - Average","[3789] USA6 T2-7 bulk - c - Average",null,"Sample Name",null,"[3790 USA6 T2-13 bulk - a - Average","[3790 USA6 T2-13 bulk - c - Average","[3790 USA6 T2-13 bulk - d - Average",null,"Sample Name",null,"[3791] USA6 T3-2 bulk - c - Average","[3791] USA6 T3-2 bulk - d - Average","[3791] USA6 T3-2 bulk - a new Averaged Result",null,"Sample Name",null,"[3792] USA6 T3-7 bulk - a - Average","[3792] USA6 T3-7 bulk - b - Average","[3792] USA6 T3-7 bulk - c - Average",null,"Sample Name",null,"[3793] USA6 T3-12 bulk - a - Average","[3793] USA6 T3-12 bulk - b - Average","[3793] USA6 T3-12 bulk - d - Average"]
["Analysis date and time",null,"éåí ùðé 11 ôáøåàø 2019 14:51:24","éåí ùðé 11 ôáøåàø 2019 14:54:14","éåí ùðé 11 ôáøåàø 2019 15:01:20",null,"Analysis date and time",null,"éåí ùìéùé 12 ôáøåàø 2019 12:51:12","éåí ùìéùé 12 ôáøåàø 2019 13:03:56","éåí ùìéùé 12 ôáøåàø 2019 13:13:20",null,"Analysis date and time",null,"éåí ùìéùé 12 ôáøåàø 2019 14:11:20","éåí ùìéùé 12 ôáøåàø 2019 14:14:09","éåí ùìéùé 12 ôáøåàø 2019 14:22:19",null,null,"Analysis date and time",null,"éåí ùìéùé 12 ôáøåàø 2019 14:34:37","éåí ùìéùé 12 ôáøåàø 2019 14:41:51","éåí ùìéùé 12 ôáøåàø 2019 14:44:02",null,"Analysis date and time",null,"éåí ùìéùé 12 ôáøåàø 2019 14:52:30","éåí ùìéùé 12 ôáøåàø 2019 14:55:23","éåí ùìéùé 12 ôáøåàø 2019 15:00:51",null,"Analysis date and time",null,"éåí øàùåï 17 ôáøåàø 2019 09:22:11","éåí øàùåï 17 ôáøåàø 2019 09:30:38","éåí øàùåï 17 ôáøåàø 2019 09:33:01",null,"Analysis date and time",null,"éåí øàùåï 17 ôáøåàø 2019 09:44:24","éåí øàùåï 17 ôáøåàø 2019 09:47:45","éåí øàùåï 17 ôáøåàø 2019 09:55:41",null,"Analysis date and time",null,"éåí øàùåï 17 ôáøåàø 2019 10:08:40","éåí øàùåï 17 ôáøåàø 2019 10:14:23","éåí øàùåï 17 ôáøåàø 2019 10:21:01",null,"Analysis date and time",null,"éåí øàùåï 17 ôáøåàø 2019 14:39:06","éåí øàùåï 17 ôáøåàø 2019 14:41:25","éåí øàùåï 17 ôáøåàø 2019 14:47:43",null,"Analysis date and time",null,"éåí ùìéùé 19 ôáøåàø 2019 13:54:41","éåí ùìéùé 19 ôáøåàø 2019 13:57:17","éåí ùìéùé 19 ôáøåàø 2019 14:03:25",null,"Analysis date and time",null,"éåí ùìéùé 19 ôáøåàø 2019 14:15:16","éåí ùìéùé 19 ôáøåàø 2019 14:21:33","éåí ùìéùé 19 ôáøåàø 2019 14:24:29",null,"Analysis date and time",null,"éåí ùìéùé 19 ôáøåàø 2019 14:44:33","éåí ùìéùé 19 ôáøåàø 2019 14:47:52","éåí ùìéùé 19 ôáøåàø 2019 14:53:31",null,"Analysis date and time",null,"éåí øáéòé 20 ôáøåàø 2019 09:44:00","éåí øáéòé 20 ôáøåàø 2019 09:46:18","éåí øáéòé 20 ôáøåàø 2019 09:51:55",null,"Analysis date and time",null,"éåí øáéòé 20 ôáøåàø 2019 10:06:21","éåí øáéòé 20 ôáøåàø 2019 10:12:40","éåí øáéòé 20 ôáøåàø 2019 10:15:02",null,"Analysis date and time",null,"éåí øáéòé 20 ôáøåàø 2019 10:25:44","éåí øáéòé 20 ôáøåàø 2019 10:34:26","éåí øáéòé 20 ôáøåàø 2019 10:36:35",null,"Analysis date and time",null,"éåí øáéòé 20 ôáøåàø 2019 10:48:52","éåí øáéòé 20 ôáøåàø 2019 10:51:59","éåí øáéòé 20 ôáøåàø 2019 11:00:06",null,"Analysis date and time",null,"éåí øáéòé 20 ôáøåàø 2019 11:17:12","éåí øáéòé 20 ôáøåàø 2019 12:00:18","éåí øáéòé 20 ôáøåàø 2019 12:02:44",null,"Analysis date and time",null,"éåí çîéùé 21 ôáøåàø 2019 09:09:02","éåí çîéùé 21 ôáøåàø 2019 09:14:15","éåí çîéùé 21 ôáøåàø 2019 09:28:39",null,"Analysis date and time",null,"éåí çîéùé 21 ôáøåàø 2019 09:50:03","éåí çîéùé 21 ôáøåàø 2019 10:02:45","éåí çîéùé 21 ôáøåàø 2019 10:06:17",null,"Analysis date and time",null,"éåí çîéùé 21 ôáøåàø 2019 13:10:11","éåí çîéùé 21 ôáøåàø 2019 13:12:25","éåí çîéùé 21 ôáøåàø 2019 13:19:05",null,"Analysis date and time",null,"éåí çîéùé 21 ôáøåàø 2019 13:46:28","éåí çîéùé 21 ôáøåàø 2019 14:38:49","éåí çîéùé 21 ôáøåàø 2019 14:41:28",null,"Analysis date and time",null,"éåí çîéùé 21 ôáøåàø 2019 15:02:56","éåí çîéùé 21 ôáøåàø 2019 15:05:05","éåí çîéùé 21 ôáøåàø 2019 15:15:18",null,"Analysis date and time",null,"éåí çîéùé 21 ôáøåàø 2019 15:43:13","éåí çîéùé 21 ôáøåàø 2019 15:58:42","éåí çîéùé 21 ôáøåàø 2019 16:01:20",null,"Analysis date and time",null,"éåí çîéùé 21 ôáøåàø 2019 16:24:18","éåí çîéùé 21 ôáøåàø 2019 16:26:39","éåí çîéùé 21 ôáøåàø 2019 16:15:55",null,"Analysis date and time",null,"éåí çîéùé 21 ôáøåàø 2019 16:43:29","éåí çîéùé 21 ôáøåàø 2019 16:46:58","éåí çîéùé 21 ôáøåàø 2019 16:53:24",null,"Analysis date and time",null,"éåí çîéùé 21 ôáøåàø 2019 17:06:59","éåí çîéùé 21 ôáøåàø 2019 17:10:10","éåí çîéùé 21 ôáøåàø 2019 17:18:29"]
["Operator name",null,"Yael","Yael","Yael",null,"Operator name",null,"Yael","Yael","Yael",null,"Operator name",null,"Yael","Yael","Yael",null,null,"Operator name",null,"Yael","Yael","Yael",null,"Operator name",null,"Yael","Yael","Yael",null,"Operator name",null,"Yael","Yael","Yael",null,"Operator name",null,"Yael","Yael","Yael",null,"Operator name",null,"Yael","Yael","Yael",null,"Operator name",null,"Yael","Yael","Yael",null,"Operator name",null,"Yael","Yael","Yael",null,"Operator name",null,"Yael","Yael","Yael",null,"Operator name",null,"Yael","Yael","Yael",null,"Operator name",null,"Yael","Yael","Yael",null,"Operator name",null,"Yael","Yael","Yael",null,"Operator name",null,"Yael","Yael","Yael",null,"Operator name",null,"Yael","Yael","Yael",null,"Operator name",null,"Yael","Yael","Yael",null,"Operator name",null,"Yael","Yael","Yael",null,"Operator name",null,"Yael","Yael","Yael",null,"Operator name",null,"Yael","Yael","Yael",null,"Operator name",null,"Yael","Yael","Yael",null,"Operator name",null,"Yael","Yael","Yael",null,"Operator name",null,"Yael","Yael","Yael",null,"Operator name",null,"Yael","Yael","Yael",null,"Operator name",null,"Yael","Yael","Yael",null,"Operator name",null,"Yael","Yael","Yael"]
["Obscuration",null,12.7,11.4,11.38,null,"Obscuration",null,7.91,9.67,11.21,null,"Obscuration",null,12.4,11.72,9.41,null,null,"Obscuration",null,7.08,7.2,7.11,null,"Obscuration",null,12.94,12.47,7.23,null,"Obscuration",null,7.5,7.85,7.33,null,"Obscuration",null,6.98,8.6199999999999992,8.27,null,"Obscuration",null,7.82,9.67,9.42,null,"Obscuration",null,8.41,8.18,7.89,null,"Obscuration",null,10.130000000000001,9.76,7.91,null,"Obscuration",null,9.1300000000000008,9.7200000000000006,9.27,null,"Obscuration",null,5.81,8.02,8.9,null,"Obscuration",null,8.93,8.49,9.57,null,"Obscuration",null,7.72,9.17,9.01,null,"Obscuration",null,9.85,10.28,9.7200000000000006,null,"Obscuration",null,8.18,7.75,7.47,null,"Obscuration",null,11.59,9.16,8.67,null,"Obscuration",null,13.08,12.7,11.65,null,"Obscuration",null,12.68,12.29,11.46,null,"Obscuration",null,9.18,9,10.210000000000001,null,"Obscuration",null,9.65,9.16,8.6,null,"Obscuration",null,10.36,9.9700000000000006,11.72,null,"Obscuration",null,8.74,9.09,9.48,null,"Obscuration",null,7.91,7.73,12.58,null,"Obscuration",null,7.32,8.42,7.6,null,"Obscuration",null,6.94,7.03,11.46]
["Residual",null,0.35299999999999998,0.48299999999999998,0.54,null,"Residual",null,0.32200000000000001,0.255,0.27200000000000002,null,"Residual",null,0.223,0.218,0.22,null,null,"Residual",null,0.28499999999999998,0.26600000000000001,0.316,null,"Residual",null,0.19,0.189,0.221,null,"Residual",null,0.248,0.24,0.22700000000000001,null,"Residual",null,0.13600000000000001,0.16,0.16500000000000001,null,"Residual",null,0.189,0.16900000000000001,0.17399999999999999,null,"Residual",null,0.20499999999999999,0.252,1.147,null,"Residual",null,0.26700000000000002,0.27100000000000002,0.25900000000000001,null,"Residual",null,0.29199999999999998,0.23100000000000001,0.20300000000000001,null,"Residual",null,0.88900000000000001,0.68400000000000005,1.05,null,"Residual",null,0.34100000000000003,0.34399999999999997,0.34499999999999997,null,"Residual",null,0.89200000000000002,0.64500000000000002,0.69199999999999995,null,"Residual",null,0.19800000000000001,0.218,0.223,null,"Residual",null,0.441,0.36599999999999999,0.621,null,"Residual",null,0.57399999999999995,0.51600000000000001,0.58899999999999997,null,"Residual",null,0.23699999999999999,0.26400000000000001,0.3,null,"Residual",null,0.23799999999999999,0.23,0.222,null,"Residual",null,0.215,0.25900000000000001,0.14899999999999999,null,"Residual",null,0.26,0.34599999999999997,0.23899999999999999,null,"Residual",null,0.308,0.24399999999999999,0.23400000000000001,null,"Residual",null,0.222,0.26300000000000001,0.222,null,"Residual",null,0.217,0.21099999999999999,0.152,null,"Residual",null,1.02,0.76700000000000002,0.252,null,"Residual",null,0.26200000000000001,0.22500000000000001,0.246]
["Mode",null,143.09100000000001,151.19999999999999,179.273,null,"Mode",null,153.49199999999999,132,136.9,null,"Mode",null,82.067999999999998,82.171000000000006,84.497,null,null,"Mode",null,230.32900000000001,208.73,214.14,null,"Mode",null,58.091000000000001,57.921999999999997,57.475000000000001,null,"Mode",null,122.81,124.741,124.92400000000001,null,"Mode",null,129.57,124.673,119.565,null,"Mode",null,195.58,154.126,160.51499999999999,null,"Mode",null,252.881,277.62799999999999,284.48399999999998,null,"Mode",null,50.857999999999997,51.4,50.393000000000001,null,"Mode",null,212.17400000000001,214.125,214.42099999999999,null,"Mode",null,255.19,260.77699999999999,266.14999999999998,null,"Mode",null,128.274,129.24700000000001,125.754,null,"Mode",null,368.84800000000001,358.613,370.30500000000001,null,"Mode",null,165.66200000000001,163.83000000000001,166.88,null,"Mode",null,204.80199999999999,206.994,202.68799999999999,null,"Mode",null,130.215,129.36500000000001,129.328,null,"Mode",null,144.11600000000001,140.304,134.68700000000001,null,"Mode",null,145.905,142.38399999999999,137.56200000000001,null,"Mode",null,205.09700000000001,198.88200000000001,197.58199999999999,null,"Mode",null,180.666,183.41300000000001,185.18299999999999,null,"Mode",null,139.876,142.14400000000001,145.24100000000001,null,"Mode",null,101.81100000000001,100.59,100.56100000000001,null,"Mode",null,134.27000000000001,135.43799999999999,146.53100000000001,null,"Mode",null,162.08000000000001,161.05600000000001,162.755,null,"Mode",null,101.34699999999999,101.672,101.373]
["Skewness",null,1.7529999999999999,1.7250000000000001,1.4630000000000001,null,"Skewness",null,3.82,1.4,1.853,null,"Skewness",null,2.976,3.3940000000000001,1.6020000000000001,null,null,"Skewness",null,0.70599999999999996,1.004,0.77200000000000002,null,"Skewness",null,4.1740000000000004,7.06,7.81,"Mode","Skewness",null,2.2040000000000002,2.855,3.4620000000000002,null,"Skewness",null,3.1480000000000001,2.508,3.7559999999999998,null,"Skewness",null,1.5169999999999999,1.2809999999999999,1.6459999999999999,null,"Skewness",null,1.054,1.0129999999999999,0.76600000000000001,null,"Skewness",null,3.0510000000000002,2.7909999999999999,3.702,null,"Skewness",null,2.9180000000000001,0.61899999999999999,0.97499999999999998,null,"Skewness",null,0.53600000000000003,0.30099999999999999,0.71399999999999997,null,"Skewness",null,0.38,0.39500000000000002,0.39400000000000002,null,"Skewness",null,0.58299999999999996,0.65200000000000002,0.56899999999999995,null,"Skewness",null,0.88,3.7349999999999999,3.2909999999999999,null,"Skewness",null,1.653,1.65,1.792,null,"Skewness",null,1.633,1.282,1.6559999999999999,null,"Skewness",null,2.1800000000000002,2.0449999999999999,2.1789999999999998,null,"Skewness",null,1.653,2.1320000000000001,1.877,null,"Skewness",null,1.6619999999999999,2.6640000000000001,2.7149999999999999,null,"Skewness",null,1.363,1.5649999999999999,1.448,null,"Skewness",null,2.234,2.3069999999999999,2.573,null,"Skewness",null,2.488,3.823,3.9,null,"Skewness",null,1.8140000000000001,1.38,1.603,null,"Skewness",null,2.2280000000000002,2.0649999999999999,2.117,null,"Skewness",null,3.14,4.0039999999999996,2.64]
["Kurtosis",null,2.7320000000000002,2.8319999999999999,1.74,null,"Kurtosis",null,28.544,2.9089999999999998,5.1390000000000002,null,"Kurtosis",null,14.65,20.036999999999999,3.0329999999999999,null,null,"Kurtosis",null,-8.2000000000000003E-2,0.96099999999999997,2.3E-2,null,"Kurtosis",null,25.581,69.311000000000007,80.680999999999997,null,"Kurtosis",null,6.1280000000000001,11.439,16.713000000000001,null,"Kurtosis",null,16.189,8.6140000000000008,17.843,null,"Kurtosis",null,2.5299999999999998,1.339,3.202,null,"Kurtosis",null,0.752,0.70699999999999996,-7.0999999999999994E-2,null,"Kurtosis",null,13.942,12.013,19.995999999999999,null,"Kurtosis",null,12.332000000000001,-7.3999999999999996E-2,1.405,null,"Kurtosis",null,0.17100000000000001,0.128,9.5000000000000001E-2,null,"Kurtosis",null,-0.13600000000000001,-8.5999999999999993E-2,-0.11700000000000001,null,"Kurtosis",null,-7.1999999999999995E-2,0.13600000000000001,-5.5E-2,null,"Kurtosis",null,0.72399999999999998,27.466999999999999,21.285,null,"Kurtosis",null,2.7149999999999999,2.83,3.6030000000000002,null,"Kurtosis",null,1.8839999999999999,0.63600000000000001,2.1059999999999999,null,"Kurtosis",null,4.62,4.3609999999999998,4.8840000000000003,null,"Kurtosis",null,2.0489999999999999,4.3979999999999997,3.1240000000000001,null,"Kurtosis",null,6.0430000000000001,10.478999999999999,10.398,null,"Kurtosis",null,1.9119999999999999,2.7229999999999999,2.7549999999999999,null,"Kurtosis",null,4.806,7.3310000000000004,7.367,null,"Kurtosis",null,9.3529999999999998,17.343,29.834,null,"Kurtosis",null,5.1310000000000002,2.306,3.6459999999999999,null,"Kurtosis",null,5.484,5.43,4.7750000000000004,null,"Kurtosis",null,10.772,22.67,7.7240000000000002]
["d (0.1)",null,19.117000000000001,22.751999999999999,31.361000000000001,null,"d (0.1)",null,4.6120000000000001,3.9740000000000002,4.2880000000000003,null,"d (0.1)",null,4.8289999999999997,4.8650000000000002,4.718,null,null,"d (0.1)",null,7.8170000000000002,7.1790000000000003,7.1630000000000003,null,"d (0.1)",null,8.3160000000000007,8.4060000000000006,8.3949999999999996,null,"d (0.1)",null,10.054,11.374000000000001,10.718,null,"d (0.1)",null,16.471,13.938000000000001,12.153,null,"d (0.1)",null,11.834,8.4629999999999992,9.6389999999999993,null,"d (0.1)",null,12.781000000000001,14.74,13.237,null,"d (0.1)",null,5.4740000000000002,5.5119999999999996,5.5979999999999999,null,"d (0.1)",null,13.868,16.373000000000001,17.564,null,"d (0.1)",null,146.92400000000001,139.922,160.30199999999999,null,"d (0.1)",null,39.21,41.731000000000002,28.504000000000001,null,"d (0.1)",null,165.74700000000001,148.68600000000001,149.11199999999999,null,"d (0.1)",null,56.645000000000003,57.473999999999997,61.551000000000002,null,"d (0.1)",null,106.5,102.715,104.768,null,"d (0.1)",null,62.563000000000002,64.271000000000001,61.555999999999997,null,"d (0.1)",null,46.179000000000002,47.503,35.804000000000002,null,"d (0.1)",null,63.689,45.927,47.975999999999999,null,"d (0.1)",null,49.640999999999998,48.576999999999998,50.779000000000003,null,"d (0.1)",null,67.808999999999997,70.481999999999999,63.261000000000003,null,"d (0.1)",null,44.448,39.465000000000003,46.932000000000002,null,"d (0.1)",null,6.2119999999999997,6.63,5.9539999999999997,null,"d (0.1)",null,16.672000000000001,17.916,30.233000000000001,null,"d (0.1)",null,53.354999999999997,42.793999999999997,43.779000000000003,null,"d (0.1)",null,13.571999999999999,11.904999999999999,13.959]
["d (0.5)",null,166.30500000000001,183.773,226.446,null,"d (0.5)",null,106.52,91.67,99.713999999999999,null,"d (0.5)",null,52.738,53.186,53.307000000000002,null,null,"d (0.5)",null,157.68899999999999,141.86699999999999,143.52600000000001,null,"d (0.5)",null,47.244999999999997,47.591999999999999,46.987000000000002,null,"d (0.5)",null,120.25,123.309,120.039,null,"d (0.5)",null,114.468,111.399,103.271,null,"d (0.5)",null,128.268,103.919,114.66200000000001,null,"d (0.5)",null,164.92400000000001,179.261,173.03700000000001,null,"d (0.5)",null,37.027999999999999,37.276000000000003,37.514000000000003,null,"d (0.5)",null,174.29,170.85900000000001,174.57599999999999,null,"d (0.5)",null,249.37899999999999,250.227,263.08600000000001,null,"d (0.5)",null,117.702,118.85599999999999,114.631,null,"d (0.5)",null,339.661,326.346,332.84899999999999,null,"d (0.5)",null,153.886,154.131,159.45400000000001,null,"d (0.5)",null,266.517,238.69499999999999,248.63900000000001,null,"d (0.5)",null,163.423,182.642,166.43100000000001,null,"d (0.5)",null,163.41200000000001,167.815,151.62,null,"d (0.5)",null,192.74700000000001,164.58600000000001,170.91399999999999,null,"d (0.5)",null,179.02799999999999,182.02099999999999,179.15299999999999,null,"d (0.5)",null,190.875,218.053,188.27199999999999,null,"d (0.5)",null,155.19499999999999,142.215,155.298,null,"d (0.5)",null,77.311000000000007,80.48,73.626000000000005,null,"d (0.5)",null,123.754,126.495,140.47,null,"d (0.5)",null,187.10900000000001,184.69399999999999,181.26300000000001,null,"d (0.5)",null,99.292000000000002,91.042000000000002,99.222999999999999]
["d (0.9)",null,878.03399999999999,851.87400000000002,948.39400000000001,null,"d (0.9)",null,301.25299999999999,256.01799999999997,295.339,null,"d (0.9)",null,172.745,174.13800000000001,170.011,null,null,"d (0.9)",null,373.07100000000003,359.952,353.827,null,"d (0.9)",null,134.108,137.22,132.43299999999999,null,"d (0.9)",null,376.70299999999997,404.93099999999998,361.30200000000002,null,"d (0.9)",null,328.351,348.303,322.75599999999997,null,"d (0.9)",null,434.37400000000002,335.21100000000001,402.24,null,"d (0.9)",null,454.87,474.57400000000001,436.36200000000002,null,"d (0.9)",null,123.08499999999999,123.809,128.518,null,"d (0.9)",null,454.291,367.2,388.88200000000001,null,"d (0.9)",null,407.51299999999998,412.03300000000002,424.512,null,"d (0.9)",null,218.36099999999999,220.232,213.971,null,"d (0.9)",null,595.96199999999999,599.52,603.79600000000005,null,"d (0.9)",null,320.15600000000001,330.01799999999997,348.81700000000001,null,"d (0.9)",null,855.28099999999995,659.15599999999995,747.33799999999997,null,"d (0.9)",null,995.93700000000001,1141.94,956.93700000000001,null,"d (0.9)",null,801.07399999999996,740.74400000000003,733.53599999999994,null,"d (0.9)",null,1014.566,811.17399999999998,897.59900000000005,null,"d (0.9)",null,416.21300000000002,481.68900000000002,501.04199999999997,null,"d (0.9)",null,500.517,656.49199999999996,480.55099999999999,null,"d (0.9)",null,791.67200000000003,388.04599999999999,610.93899999999996,null,"d (0.9)",null,222.297,270.02300000000002,190.70099999999999,null,"d (0.9)",null,312.613,324.16899999999998,364.48200000000003,null,"d (0.9)",null,706.18700000000001,631.14499999999998,729.851,null,"d (0.9)",null,464.64299999999997,251.822,421.62299999999999]
["Specific surface area",null,0.22900000000000001,0.20599999999999999,0.17199999999999999,null,"Specific surface area",null,0.49399999999999999,0.56000000000000005,0.52800000000000002,null,"Specific surface area",null,0.54300000000000004,0.53900000000000003,0.54500000000000004,null,null,"Specific surface area",null,0.33900000000000002,0.36199999999999999,0.36199999999999999,null,"Specific surface area",null,0.42399999999999999,0.42099999999999999,0.41599999999999998,null,"Specific surface area",null,0.32600000000000001,0.308,0.316,null,"Specific surface area",null,0.25900000000000001,0.28000000000000003,0.30299999999999999,null,"Specific surface area",null,0.30299999999999999,0.373,0.34499999999999997,null,"Specific surface area",null,0.28499999999999998,0.26700000000000002,0.27800000000000002,null,"Specific surface area",null,0.54600000000000004,0.54300000000000004,0.52900000000000003,null,"Specific surface area",null,0.251,0.23899999999999999,0.23200000000000001,null,"Specific surface area",null,3.6999999999999998E-2,5.67E-2,2.4500000000000001E-2,null,"Specific surface area",null,0.19400000000000001,0.191,0.20799999999999999,null,"Specific surface area",null,2.3199999999999998E-2,3.3300000000000003E-2,3.39E-2,null,"Specific surface area",null,0.107,0.111,9.2999999999999999E-2,null,"Specific surface area",null,3.9E-2,4.2700000000000002E-2,4.4400000000000002E-2,null,"Specific surface area",null,0.111,9.0200000000000002E-2,0.104,null,"Specific surface area",null,0.14000000000000001,0.13700000000000001,0.17499999999999999,null,"Specific surface area",null,0.109,0.16800000000000001,0.16,null,"Specific surface area",null,0.14099999999999999,0.14299999999999999,0.13,null,"Specific surface area",null,0.13500000000000001,0.122,0.14399999999999999,null,"Specific surface area",null,0.17299999999999999,0.19,0.16900000000000001,null,"Specific surface area",null,0.438,0.42399999999999999,0.46,null,"Specific surface area",null,0.24399999999999999,0.23699999999999999,0.20200000000000001,null,"Specific surface area",null,0.158,0.189,0.191,null,"Specific surface area",null,0.26700000000000002,0.28899999999999998,0.27]
["Result Below 6.000 µm",null,4.8259999999999996,4.3579999999999997,3.6070000000000002,null,"Result Below 6.000 µm",null,12.366,14.141,13.141999999999999,null,"Result Below 6.000 µm",null,11.942,11.867000000000001,12.185,null,null,"Result Below 6.000 µm",null,8.3179999999999996,8.7989999999999995,8.8149999999999995,null,"Result Below 6.000 µm",null,7.6950000000000003,7.6289999999999996,7.5839999999999996,null,"Result Below 6.000 µm",null,7.4359999999999999,6.976,7.1840000000000002,null,"Result Below 6.000 µm",null,5.202,5.8019999999999996,6.2320000000000002,null,"Result Below 6.000 µm",null,6.3319999999999999,7.8879999999999999,7.2460000000000004,null,"Result Below 6.000 µm",null,6.3330000000000002,5.9160000000000004,6.21,null,"Result Below 6.000 µm",null,10.831,10.765000000000001,10.637,null,"Result Below 6.000 µm",null,6.0220000000000002,5.6459999999999999,5.4710000000000001,null,"Result Below 6.000 µm",null,0.48699999999999999,1.2689999999999999,0,null,"Result Below 6.000 µm",null,3.702,3.6070000000000002,4.0330000000000004,null,"Result Below 6.000 µm",null,0.08,0.46800000000000003,0.497,null,"Result Below 6.000 µm",null,1.931,1.9950000000000001,1.651,null,"Result Below 6.000 µm",null,0.46100000000000002,0.52500000000000002,0.63900000000000001,null,"Result Below 6.000 µm",null,2.0739999999999998,1.7290000000000001,1.9359999999999999,null,"Result Below 6.000 µm",null,2.6850000000000001,2.6059999999999999,3.4670000000000001,null,"Result Below 6.000 µm",null,2.2080000000000002,3.3239999999999998,3.198,null,"Result Below 6.000 µm",null,2.887,2.9609999999999999,2.5259999999999998,null,"Result Below 6.000 µm",null,2.8959999999999999,2.6869999999999998,3.1389999999999998,null,"Result Below 6.000 µm",null,3.6520000000000001,3.9729999999999999,3.46,null,"Result Below 6.000 µm",null,9.6999999999999993,9.1940000000000008,10.066000000000001,null,"Result Below 6.000 µm",null,5.298,5.1130000000000004,4.2270000000000003,null,"Result Below 6.000 µm",null,3.4620000000000002,4.2569999999999997,4.3440000000000003,null,"Result Below 6.000 µm",null,5.3869999999999996,5.86,5.3220000000000001]
["Result 6.00µm-63.00µm",null,17.577000000000002,16.186,13.162000000000001,null,"Result 6.00µm-63.00µm",null,21.808,24.236999999999998,22.867000000000001,null,"Result 6.00µm-63.00µm",null,44.198999999999998,44.01,43.561,null,null,"Result 6.00µm-63.00µm",null,17.254000000000001,18.588999999999999,18.515999999999998,null,"Result 6.00µm-63.00µm",null,55.12,54.853000000000002,55.637999999999998,null,"Result 6.00µm-63.00µm",null,16.152000000000001,15.836,16.277999999999999,null,"Result 6.00µm-63.00µm",null,21.626000000000001,22.550999999999998,24.779,null,"Result 6.00µm-63.00µm",null,23.087,27.007999999999999,25.259,null,"Result 6.00µm-63.00µm",null,16.939,15.819000000000001,17.015999999999998,null,"Result 6.00µm-63.00µm",null,58.908999999999999,58.655000000000001,58.369,null,"Result 6.00µm-63.00µm",null,13.593,12.571999999999999,12.122,null,"Result 6.00µm-63.00µm",null,0.78800000000000003,2.214,0,null,"Result 6.00µm-63.00µm",null,12.602,12.226000000000001,13.67,null,"Result 6.00µm-63.00µm",null,0.48399999999999999,1.0109999999999999,1.0840000000000001,null,"Result 6.00µm-63.00µm",null,9.6300000000000008,9.4019999999999992,8.7170000000000005,null,"Result 6.00µm-63.00µm",null,1.9319999999999999,2.0649999999999999,1.9490000000000001,null,"Result 6.00µm-63.00µm",null,8.0510000000000002,7.9160000000000004,8.4789999999999992,null,"Result 6.00µm-63.00µm",null,11.677,11.41,13.455,null,"Result 6.00µm-63.00µm",null,7.6120000000000001,10.922000000000001,10.577999999999999,null,"Result 6.00µm-63.00µm",null,9.8829999999999991,10.047000000000001,10.715999999999999,null,"Result 6.00µm-63.00µm",null,6.0819999999999999,5.8570000000000002,6.8079999999999998,null,"Result 6.00µm-63.00µm",null,10.909000000000001,11.763999999999999,10.537000000000001,null,"Result 6.00µm-63.00µm",null,32.625999999999998,31.495000000000001,33.828000000000003,null,"Result 6.00µm-63.00µm",null,16.609000000000002,16.219000000000001,13.577999999999999,null,"Result 6.00µm-63.00µm",null,8.4960000000000004,9.1780000000000008,8.7420000000000009,null,"Result 6.00µm-63.00µm",null,25.082999999999998,27.373000000000001,24.925999999999998]
["Result 63.00µm-2000.00µm",null,77.596000000000004,79.456000000000003,83.230999999999995,null,"Result 63.00µm-2000.00µm",null,65.825999999999993,61.622,63.991,null,"Result 63.00µm-2000.00µm",null,43.859000000000002,44.122,44.253,null,null,"Result 63.00µm-2000.00µm",null,74.427000000000007,72.611999999999995,72.668999999999997,null,"Result 63.00µm-2000.00µm",null,37.185000000000002,37.518000000000001,36.777999999999999,null,"Result 63.00µm-2000.00µm",null,76.412000000000006,77.188999999999993,76.539000000000001,null,"Result 63.00µm-2000.00µm",null,73.171999999999997,71.647000000000006,68.989000000000004,null,"Result 63.00µm-2000.00µm",null,70.581000000000003,65.105000000000004,67.495000000000005,null,"Result 63.00µm-2000.00µm",null,76.727999999999994,78.266000000000005,76.775000000000006,null,"Result 63.00µm-2000.00µm",null,30.259,30.58,30.992999999999999,null,"Result 63.00µm-2000.00µm",null,80.385000000000005,81.781999999999996,82.406999999999996,null,"Result 63.00µm-2000.00µm",null,98.724999999999994,96.516999999999996,100,null,"Result 63.00µm-2000.00µm",null,83.695999999999998,84.165999999999997,82.298000000000002,null,"Result 63.00µm-2000.00µm",null,99.436000000000007,98.521000000000001,98.418999999999997,null,"Result 63.00µm-2000.00µm",null,88.438999999999993,88.602999999999994,89.632000000000005,null,"Result 63.00µm-2000.00µm",null,97.606999999999999,97.41,97.412000000000006,null,"Result 63.00µm-2000.00µm",null,89.873999999999995,90.355000000000004,89.584999999999994,null,"Result 63.00µm-2000.00µm",null,85.638000000000005,85.983999999999995,83.078999999999994,null,"Result 63.00µm-2000.00µm",null,90.180999999999997,85.754999999999995,86.224000000000004,null,"Result 63.00µm-2000.00µm",null,87.23,86.992000000000004,86.757999999999996,null,"Result 63.00µm-2000.00µm",null,91.022000000000006,91.456000000000003,90.052999999999997,null,"Result 63.00µm-2000.00µm",null,85.438999999999993,84.263000000000005,86.003,null,"Result 63.00µm-2000.00µm",null,57.673999999999999,59.311,56.106000000000002,null,"Result 63.00µm-2000.00µm",null,78.093000000000004,78.668000000000006,82.194999999999993,null,"Result 63.00µm-2000.00µm",null,88.043000000000006,86.564999999999998,86.914000000000001,null,"Result 63.00µm-2000.00µm",null,69.531000000000006,66.766999999999996,69.751999999999995]
["Result 63.00µm-125.00µm",null,18.366,17.417000000000002,15.138,null,"Result 63.00µm-125.00µm",null,22.163,24.396999999999998,23.122,null,"Result 63.00µm-125.00µm",null,25.039000000000001,25.167000000000002,25.425000000000001,null,null,"Result 63.00µm-125.00µm",null,15.526,17.713000000000001,17.326000000000001,null,"Result 63.00µm-125.00µm",null,25.5,25.350999999999999,25.420999999999999,null,"Result 63.00µm-125.00µm",null,28.344999999999999,27.864000000000001,28.602,null,"Result 63.00µm-125.00µm",null,27.329000000000001,26.885999999999999,27.67,null,"Result 63.00µm-125.00µm",null,19.719000000000001,21.617999999999999,20.373999999999999,null,"Result 63.00µm-125.00µm",null,17.007000000000001,15.888,15.763,null,"Result 63.00µm-125.00µm",null,20.582999999999998,20.785,20.43,null,"Result 63.00µm-125.00µm",null,16.13,16.829999999999998,16.655000000000001,null,"Result 63.00µm-125.00µm",null,3.4249999999999998,3.36,2.0030000000000001,null,"Result 63.00µm-125.00µm",null,38.146000000000001,37.906999999999996,38.64,null,"Result 63.00µm-125.00µm",null,3.9910000000000001,4.9889999999999999,5.016,null,"Result 63.00µm-125.00µm",null,25.683,25.817,24.927,null,"Result 63.00µm-125.00µm",null,12.664999999999999,14.098000000000001,13.297000000000001,null,"Result 63.00µm-125.00µm",null,26.228000000000002,23.702000000000002,25.591999999999999,null,"Result 63.00µm-125.00µm",null,23.305,22.93,24.303999999999998,null,"Result 63.00µm-125.00µm",null,21.315999999999999,23.207999999999998,22.687000000000001,null,"Result 63.00µm-125.00µm",null,19.481999999999999,19.257000000000001,20.687999999999999,null,"Result 63.00µm-125.00µm",null,19.893000000000001,17.308,19.794,null,"Result 63.00µm-125.00µm",null,24.809000000000001,27.24,24.917000000000002,null,"Result 63.00µm-125.00µm",null,28.841000000000001,28.61,30.643999999999998,null,"Result 63.00µm-125.00µm",null,28.620999999999999,28.052,26.277999999999999,null,"Result 63.00µm-125.00µm",null,20.048999999999999,19.643000000000001,19.911999999999999,null,"Result 63.00µm-125.00µm",null,30.279,32.96,30.69]
["Result 125.00µm-250.00µm",null,21.327999999999999,21.143999999999998,21.050999999999998,null,"Result 125.00µm-250.00µm",null,27.960999999999999,26.574999999999999,26.509,null,"Result 125.00µm-250.00µm",null,14.76,14.634,15.555999999999999,null,null,"Result 125.00µm-250.00µm",null,31.170999999999999,30.552,31.001000000000001,null,"Result 125.00µm-250.00µm",null,9.1059999999999999,9.0679999999999996,8.6479999999999997,null,"Result 125.00µm-250.00µm",null,28.725000000000001,28.859000000000002,29.579000000000001,null,"Result 125.00µm-250.00µm",null,28.917000000000002,27.151,26.088000000000001,null,"Result 125.00µm-250.00µm",null,23.97,24.791,23.417000000000002,null,"Result 125.00µm-250.00µm",null,26.745000000000001,26.262,26.605,null,"Result 125.00µm-250.00µm",null,7.7240000000000002,8.0790000000000006,7.9409999999999998,null,"Result 125.00µm-250.00µm",null,32.082000000000001,36.588000000000001,35.616,null,"Result 125.00µm-250.00µm",null,45.540999999999997,43.072000000000003,42.887,null,"Result 125.00µm-250.00µm",null,40.542000000000002,40.988999999999997,39.188000000000002,null,"Result 125.00µm-250.00µm",null,23.306000000000001,25.331,24.029,null,"Result 125.00µm-250.00µm",null,42.063000000000002,41.505000000000003,41.323,null,"Result 125.00µm-250.00µm",null,31.931000000000001,35.823,34.393000000000001,null,"Result 125.00µm-250.00µm",null,28.954000000000001,25.689,28.007999999999999,null,"Result 125.00µm-250.00µm",null,29.516999999999999,28.247,27.911000000000001,null,"Result 125.00µm-250.00µm",null,28.33,29.120999999999999,27.273,null,"Result 125.00µm-250.00µm",null,35.93,33.790999999999997,31.696999999999999,null,"Result 125.00µm-250.00µm",null,34.667999999999999,30.055,34.570999999999998,null,"Result 125.00µm-250.00µm",null,30.527000000000001,34.454999999999998,32.548000000000002,null,"Result 125.00µm-250.00µm",null,21.061,19.716000000000001,20.934000000000001,null,"Result 125.00µm-250.00µm",null,32.707999999999998,32.523000000000003,33.381,null,"Result 125.00µm-250.00µm",null,30.155999999999999,29.280999999999999,30.79,null,"Result 125.00µm-250.00µm",null,21.99,23.672999999999998,22.167999999999999]
["Result 250.00µm-500.00µm",null,15.826000000000001,18.03,19.263999999999999,null,"Result 250.00µm-500.00µm",null,13.952,10.127000000000001,12.217000000000001,null,"Result 250.00µm-500.00µm",null,3.4239999999999999,3.5630000000000002,3.2730000000000001,null,null,"Result 250.00µm-500.00µm",null,25.414000000000001,21.895,22.649000000000001,null,"Result 250.00µm-500.00µm",null,1.792,1.736,1.496,null,"Result 250.00µm-500.00µm",null,13.644,13.468999999999999,12.653,null,"Result 250.00µm-500.00µm",null,12.914,12.73,9.8379999999999992,null,"Result 250.00µm-500.00µm",null,20.088000000000001,16.443000000000001,18.196999999999999,null,"Result 250.00µm-500.00µm",null,25.584,27.664999999999999,28.748999999999999,null,"Result 250.00µm-500.00µm",null,1.78,1.6240000000000001,2.1110000000000002,null,"Result 250.00µm-500.00µm",null,24.148,26.515000000000001,26.681999999999999,null,"Result 250.00µm-500.00µm",null,47.280999999999999,47.482999999999997,51.741,null,"Result 250.00µm-500.00µm",null,5.008,5.2709999999999999,4.4690000000000003,null,"Result 250.00µm-500.00µm",null,52.017000000000003,48.615000000000002,49.002000000000002,null,"Result 250.00µm-500.00µm",null,19.952000000000002,19.100000000000001,20.34,null,"Result 250.00µm-500.00µm",null,27.483000000000001,29.809000000000001,28.481000000000002,null,"Result 250.00µm-500.00µm",null,9.2850000000000001,8.3580000000000005,10.698,null,"Result 250.00µm-500.00µm",null,15.742000000000001,16.989000000000001,14.377000000000001,null,"Result 250.00µm-500.00µm",null,15.471,15.817,15.099,null,"Result 250.00µm-500.00µm",null,26.440999999999999,24.754000000000001,24.327000000000002,null,"Result 250.00µm-500.00µm",null,26.434000000000001,26.13,26.765999999999998,null,"Result 250.00µm-500.00µm",null,13.776999999999999,16.803999999999998,15.866,null,"Result 250.00µm-500.00µm",null,6.3390000000000004,5.1260000000000003,3.7679999999999998,null,"Result 250.00µm-500.00µm",null,14.492000000000001,16.004999999999999,18.818999999999999,null,"Result 250.00µm-500.00µm",null,21.222000000000001,21.876999999999999,19.361999999999998,null,"Result 250.00µm-500.00µm",null,7.9,6.7549999999999999,8.8160000000000007]
["Result 500.00µm-1000.00µm",null,14.632,16.059999999999999,19.05,null,"Result 500.00µm-1000.00µm",null,1.246,0.52300000000000002,2.1139999999999999,null,"Result 500.00µm-1000.00µm",null,0.63700000000000001,0.71499999999999997,0,null,null,"Result 500.00µm-1000.00µm",null,2.3170000000000002,2.452,1.694,null,"Result 500.00µm-1000.00µm",null,0.78600000000000003,0.98199999999999998,0.72,null,"Result 500.00µm-1000.00µm",null,5.3840000000000003,5.91,4.359,null,"Result 500.00µm-1000.00µm",null,3.4750000000000001,4.444,3.5659999999999998,null,"Result 500.00µm-1000.00µm",null,6.665,2.2519999999999998,5.4020000000000001,null,"Result 500.00µm-1000.00µm",null,7.3920000000000003,8.4499999999999993,5.6580000000000004,null,"Result 500.00µm-1000.00µm",null,0.17199999999999999,9.1999999999999998E-2,0.51100000000000001,null,"Result 500.00µm-1000.00µm",null,5.9690000000000003,1.849,3.4359999999999999,null,"Result 500.00µm-1000.00µm",null,2.4780000000000002,2.6019999999999999,3.3690000000000002,null,"Result 500.00µm-1000.00µm",null,0,0,0,null,"Result 500.00µm-1000.00µm",null,20.123000000000001,19.545999999999999,20.373000000000001,null,"Result 500.00µm-1000.00µm",null,0.74099999999999999,1.671,2.544,null,"Result 500.00µm-1000.00µm",null,18.984999999999999,15.169,16.933,null,"Result 500.00µm-1000.00µm",null,15.507,18.54,16.324000000000002,null,"Result 500.00µm-1000.00µm",null,10.403,12.824999999999999,11.337999999999999,null,"Result 500.00µm-1000.00µm",null,14.734999999999999,10.861000000000001,13.225,null,"Result 500.00µm-1000.00µm",null,5.2160000000000002,7.4160000000000004,7.891,null,"Result 500.00µm-1000.00µm",null,9.9149999999999991,15.705,8.5969999999999995,null,"Result 500.00µm-1000.00µm",null,9.7479999999999993,5.2720000000000002,8.4960000000000004,null,"Result 500.00µm-1000.00µm",null,1.4239999999999999,3.9740000000000002,0.63900000000000001,null,"Result 500.00µm-1000.00µm",null,2.2480000000000002,2.0880000000000001,3.6640000000000001,null,"Result 500.00µm-1000.00µm",null,11.475,12.909000000000001,11.695,null,"Result 500.00µm-1000.00µm",null,5.7359999999999998,2.7360000000000002,6.843,null,null,null,null,"project runing numbers"]
["Result 1000.00µm-2000.00µm",null,7.444,6.8049999999999997,8.7279999999999998,null,"Result 1000.00µm-2000.00µm",null,0.504,0,0.03,null,"Result 1000.00µm-2000.00µm",null,0,4.2999999999999997E-2,0,null,null,"Result 1000.00µm-2000.00µm",null,0,0,0,null,"Result 1000.00µm-2000.00µm",null,0,0.38,0.49299999999999999,null,"Result 1000.00µm-2000.00µm",null,0.314,1.087,1.3460000000000001,null,"Result 1000.00µm-2000.00µm",null,0.53600000000000003,0.436,1.827,null,"Result 1000.00µm-2000.00µm",null,0.13900000000000001,0,0.104,null,"Result 1000.00µm-2000.00µm",null,0,0,0,null,"Result 1000.00µm-2000.00µm",null,0,0,0,null,"Result 1000.00µm-2000.00µm",null,2.056,0,1.9E-2,null,"Result 1000.00µm-2000.00µm",null,0,0,0,null,"Result 1000.00µm-2000.00µm",null,0,0,0,null,"Result 1000.00µm-2000.00µm",null,0,0.04,0,null,"Result 1000.00µm-2000.00µm",null,0,0.51,0.498,null,"Result 1000.00µm-2000.00µm",null,6.5439999999999996,2.5110000000000001,4.3070000000000004,null,"Result 1000.00µm-2000.00µm",null,9.9009999999999998,14.066000000000001,8.9640000000000004,null,"Result 1000.00µm-2000.00µm",null,6.6710000000000003,4.9930000000000003,5.1479999999999997,null,"Result 1000.00µm-2000.00µm",null,10.329000000000001,6.7469999999999999,7.94,null,"Result 1000.00µm-2000.00µm",null,0.16200000000000001,1.774,2.1539999999999999,null,"Result 1000.00µm-2000.00µm",null,0.113,2.2570000000000001,0.32500000000000001,null,"Result 1000.00µm-2000.00µm",null,6.5780000000000003,0.49299999999999999,4.1749999999999998,null,"Result 1000.00µm-2000.00µm",null,8.9999999999999993E-3,1.887,0.12,null,"Result 1000.00µm-2000.00µm",null,2.4E-2,0,5.2999999999999999E-2,null,"Result 1000.00µm-2000.00µm",null,5.14,2.8540000000000001,5.1550000000000002,null,"Result 1000.00µm-2000.00µm",null,3.6259999999999999,0.64200000000000002,1.2350000000000001]
["Result Between User Sizes (Sizes in um)",0.01,null,null,null,null,"Result Between User Sizes (Sizes in um)",0.01,null,null,null,null,"Result Between User Sizes (Sizes in um)",0.01,null,null,null,null,null,"Result Between User Sizes (Sizes in um)",0.01,null,null,null,null,"Result Between User Sizes (Sizes in um)",0.01,null,null,null,null,"Result Between User Sizes (Sizes in um)",0.01,null,null,null,null,"Result Between User Sizes (Sizes in um)",0.01,null,null,null,null,"Result Between User Sizes (Sizes in um)",0.01,null,null,null,null,"Result Between User Sizes (Sizes in um)",0.01,null,null,null,null,"Result Between User Sizes (Sizes in um)",0.01,null,null,null,null,"Result Between User Sizes (Sizes in um)",0.01,null,null,null,null,"Result Between User Sizes (Sizes in um)",0.01,null,null,null,null,"Result Between User Sizes (Sizes in um)",0.01,null,null,null,null,"Result Between User Sizes (Sizes in um)",0.01,null,null,null,null,"Result Between User Sizes (Sizes in um)",0.01,null,null,null,null,"Result Between User Sizes (Sizes in um)",0.01,null,null,null,null,"Result Between User Sizes (Sizes in um)",0.01,null,null,null,null,"Result Between User Sizes (Sizes in um)",0.01,null,null,null,null,"Result Between User Sizes (Sizes in um)",0.01,null,null,null,null,"Result Between User Sizes (Sizes in um)",0.01,null,null,null,null,"Result Between User Sizes (Sizes in um)",0.01,null,null,null,null,"Result Between User Sizes (Sizes in um)",0.01,null,null,null,null,"Result Between User Sizes (Sizes in um)",0.01,null,null,null,null,"Result Between User Sizes (Sizes in um)",0.01,null,null,null,null,"Result Between User Sizes (Sizes in um)",0.01,null,null,null,null,"Result Between User Sizes (Sizes in um)",0.01,null,null,null,null,"Result Between User Sizes (Sizes in um)",3768,3769,3770,3771,3772,3773,3774,3775,3776,3777,3778,3779,3780,3781,3782,3783,3784,3785,3786,3787,3788,3789,3790,3791,3792,3793]
[null,1.1481999999999999E-2,0,0,0,null,null,1.1481999999999999E-2,0,0,0,null,null,1.1481999999999999E-2,0,0,0,null,null,null,1.1481999999999999E-2,0,0,0,null,null,1.1481999999999999E-2,0,0,0,null,null,1.1481999999999999E-2,0,0,0,null,null,1.1481999999999999E-2,0,0,0,null,null,1.1481999999999999E-2,0,0,0,null,null,1.1481999999999999E-2,0,0,0,null,null,1.1481999999999999E-2,0,0,0,null,null,1.1481999999999999E-2,0,0,0,null,null,1.1481999999999999E-2,0,0,0,null,null,1.1481999999999999E-2,0,0,0,null,null,1.1481999999999999E-2,0,0,0,null,null,1.1481999999999999E-2,0,0,0,null,null,1.1481999999999999E-2,0,0,0,null,null,1.1481999999999999E-2,0,0,0,null,null,1.1481999999999999E-2,0,0,0,null,null,1.1481999999999999E-2,0,0,0,null,null,1.1481999999999999E-2,0,0,0,null,null,1.1481999999999999E-2,0,0,0,null,null,1.1481999999999999E-2,0,0,0,null,null,1.1481999999999999E-2,0,0,0,null,null,1.1481999999999999E-2,0,0,0,null,null,1.1481999999999999E-2,0,0,0,null,null,1.1481999999999999E-2,0,0,0,null,1.1481999999999999E-2,{"$f":"AVERAGE(C22:E22)","v":0},{"$f":"AVERAGE(I22:K22)","v":0},{"$f":"AVERAGE(O22:Q22)","v":0},{"$f":"AVERAGE(V22:X22)","v":0},{"$f":"AVERAGE(AB22:AD22)","v":0},{"$f":"AVERAGE(AH22:AJ22)","v":0},{"$f":"AVERAGE(AN22:AP22)","v":0},{"$f":"AVERAGE(AT22:AV22)","v":0},{"$f":"AVERAGE(AZ22:BB22)","v":0},{"$f":"AVERAGE(BF22:BH22)","v":0},{"$f":"AVERAGE(BL22:BN22)","v":0},{"$f":"AVERAGE(BR22:BT22)","v":0},{"$f":"AVERAGE(BX22:BZ22)","v":0},{"$f":"AVERAGE(CD22:CF22)","v":0},{"$f":"AVERAGE(CJ22:CL22)","v":0},{"$f":"AVERAGE(CP22:CR22)","v":0},{"$f":"AVERAGE(CV22:CX22)","v":0},{"$f":"AVERAGE(DB22:DD22)","v":0},{"$f":"AVERAGE(DH22:DJ22)","v":0},{"$f":"AVERAGE(DN22:DP22)","v":0},{"$f":"AVERAGE(DT22:DV22)","v":0},{"$f":"AVERAGE(DZ22:EB22)","v":0},{"$f":"AVERAGE(EF22:EH22)","v":0},{"$f":"AVERAGE(EL22:EN22)","v":0},{"$f":"AVERAGE(ER22:ET22)","v":0},{"$f":"AVERAGE(EX22:EZ22)","v":0}]
[null,1.3183E-2,0,0,0,null,null,1.3183E-2,0,0,0,null,null,1.3183E-2,0,0,0,null,null,null,1.3183E-2,0,0,0,null,null,1.3183E-2,0,0,0,null,null,1.3183E-2,0,0,0,null,null,1.3183E-2,0,0,0,null,null,1.3183E-2,0,0,0,null,null,1.3183E-2,0,0,0,null,null,1.3183E-2,0,0,0,null,null,1.3183E-2,0,0,0,null,null,1.3183E-2,0,0,0,null,null,1.3183E-2,0,0,0,null,null,1.3183E-2,0,0,0,null,null,1.3183E-2,0,0,0,null,null,1.3183E-2,0,0,0,null,null,1.3183E-2,0,0,0,null,null,1.3183E-2,0,0,0,null,null,1.3183E-2,0,0,0,null,null,1.3183E-2,0,0,0,null,null,1.3183E-2,0,0,0,null,null,1.3183E-2,0,0,0,null,null,1.3183E-2,0,0,0,null,null,1.3183E-2,0,0,0,null,null,1.3183E-2,0,0,0,null,null,1.3183E-2,0,0,0,null,1.3183E-2,{"$f":"AVERAGE(C23:E23)","v":0},{"$f":"AVERAGE(I23:K23)","v":0},{"$f":"AVERAGE(O23:Q23)","v":0},{"$f":"AVERAGE(V23:X23)","v":0},{"$f":"AVERAGE(AB23:AD23)","v":0},{"$f":"AVERAGE(AH23:AJ23)","v":0},{"$f":"AVERAGE(AN23:AP23)","v":0},{"$f":"AVERAGE(AT23:AV23)","v":0},{"$f":"AVERAGE(AZ23:BB23)","v":0},{"$f":"AVERAGE(BF23:BH23)","v":0},{"$f":"AVERAGE(BL23:BN23)","v":0},{"$f":"AVERAGE(BR23:BT23)","v":0},{"$f":"AVERAGE(BX23:BZ23)","v":0},{"$f":"AVERAGE(CD23:CF23)","v":0},{"$f":"AVERAGE(CJ23:CL23)","v":0},{"$f":"AVERAGE(CP23:CR23)","v":0},{"$f":"AVERAGE(CV23:CX23)","v":0},{"$f":"AVERAGE(DB23:DD23)","v":0},{"$f":"AVERAGE(DH23:DJ23)","v":0},{"$f":"AVERAGE(DN23:DP23)","v":0},{"$f":"AVERAGE(DT23:DV23)","v":0},{"$f":"AVERAGE(DZ23:EB23)","v":0},{"$f":"AVERAGE(EF23:EH23)","v":0},{"$f":"AVERAGE(EL23:EN23)","v":0},{"$f":"AVERAGE(ER23:ET23)","v":0},{"$f":"AVERAGE(EX23:EZ23)","v":0}]
[null,1.5136E-2,0,0,0,null,null,1.5136E-2,0,0,0,null,null,1.5136E-2,0,0,0,null,null,null,1.5136E-2,0,0,0,null,null,1.5136E-2,0,0,0,null,null,1.5136E-2,0,0,0,null,null,1.5136E-2,0,0,0,null,null,1.5136E-2,0,0,0,null,null,1.5136E-2,0,0,0,null,null,1.5136E-2,0,0,0,null,null,1.5136E-2,0,0,0,null,null,1.5136E-2,0,0,0,null,null,1.5136E-2,0,0,0,null,null,1.5136E-2,0,0,0,null,null,1.5136E-2,0,0,0,null,null,1.5136E-2,0,0,0,null,null,1.5136E-2,0,0,0,null,null,1.5136E-2,0,0,0,null,null,1.5136E-2,0,0,0,null,null,1.5136E-2,0,0,0,null,null,1.5136E-2,0,0,0,null,null,1.5136E-2,0,0,0,null,null,1.5136E-2,0,0,0,null,null,1.5136E-2,0,0,0,null,null,1.5136E-2,0,0,0,null,null,1.5136E-2,0,0,0,null,1.5136E-2,0,0,0,0,0,0,0,0,0,0,0,0,0,0,0,0,0,0,0,{"$f":"AVERAGE(DN24:DP24)","v":0},0,0,0,0,0,0]
[null,1.7378000000000001E-2,0,0,0,null,null,1.7378000000000001E-2,0,0,0,null,null,1.7378000000000001E-2,0,0,0,null,null,null,1.7378000000000001E-2,0,0,0,null,null,1.7378000000000001E-2,0,0,0,null,null,1.7378000000000001E-2,0,0,0,null,null,1.7378000000000001E-2,0,0,0,null,null,1.7378000000000001E-2,0,0,0,null,null,1.7378000000000001E-2,0,0,0,null,null,1.7378000000000001E-2,0,0,0,null,null,1.7378000000000001E-2,0,0,0,null,null,1.7378000000000001E-2,0,0,0,null,null,1.7378000000000001E-2,0,0,0,null,null,1.7378000000000001E-2,0,0,0,null,null,1.7378000000000001E-2,0,0,0,null,null,1.7378000000000001E-2,0,0,0,null,null,1.7378000000000001E-2,0,0,0,null,null,1.7378000000000001E-2,0,0,0,null,null,1.7378000000000001E-2,0,0,0,null,null,1.7378000000000001E-2,0,0,0,null,null,1.7378000000000001E-2,0,0,0,null,null,1.7378000000000001E-2,0,0,0,null,null,1.7378000000000001E-2,0,0,0,null,null,1.7378000000000001E-2,0,0,0,null,null,1.7378000000000001E-2,0,0,0,null,null,1.7378000000000001E-2,0,0,0,null,1.7378000000000001E-2,0,0,0,0,0,0,0,0,0,0,0,0,0,0,0,0,0,0,0,0,0,0,0,0,0,0]
[null,1.9952999999999999E-2,0,0,0,null,null,1.9952999999999999E-2,0,0,0,null,null,1.9952999999999999E-2,0,0,0,null,null,null,1.9952999999999999E-2,0,0,0,null,null,1.9952999999999999E-2,0,0,0,null,null,1.9952999999999999E-2,0,0,0,null,null,1.9952999999999999E-2,0,0,0,null,null,1.9952999999999999E-2,0,0,0,null,null,1.9952999999999999E-2,0,0,0,null,null,1.9952999999999999E-2,0,0,0,null,null,1.9952999999999999E-2,0,0,0,null,null,1.9952999999999999E-2,0,0,0,null,null,1.9952999999999999E-2,0,0,0,null,null,1.9952999999999999E-2,0,0,0,null,null,1.9952999999999999E-2,0,0,0,null,null,1.9952999999999999E-2,0,0,0,null,null,1.9952999999999999E-2,0,0,0,null,null,1.9952999999999999E-2,0,0,0,null,null,1.9952999999999999E-2,0,0,0,null,null,1.9952999999999999E-2,0,0,0,null,null,1.9952999999999999E-2,0,0,0,null,null,1.9952999999999999E-2,0,0,0,null,null,1.9952999999999999E-2,0,0,0,null,null,1.9952999999999999E-2,0,0,0,null,null,1.9952999999999999E-2,0,0,0,null,null,1.9952999999999999E-2,0,0,0,null,1.9952999999999999E-2,0,0,0,0,0,0,0,0,0,0,0,0,0,0,0,0,0,0,0,0,0,0,0,0,0,0]
[null,2.2908999999999999E-2,0,0,0,null,null,2.2908999999999999E-2,0,0,0,null,null,2.2908999999999999E-2,0,0,0,null,null,null,2.2908999999999999E-2,0,0,0,null,null,2.2908999999999999E-2,0,0,0,null,null,2.2908999999999999E-2,0,0,0,null,null,2.2908999999999999E-2,0,0,0,null,null,2.2908999999999999E-2,0,0,0,null,null,2.2908999999999999E-2,0,0,0,null,null,2.2908999999999999E-2,0,0,0,null,null,2.2908999999999999E-2,0,0,0,null,null,2.2908999999999999E-2,0,0,0,null,null,2.2908999999999999E-2,0,0,0,null,null,2.2908999999999999E-2,0,0,0,null,null,2.2908999999999999E-2,0,0,0,null,null,2.2908999999999999E-2,0,0,0,null,null,2.2908999999999999E-2,0,0,0,null,null,2.2908999999999999E-2,0,0,0,null,null,2.2908999999999999E-2,0,0,0,null,null,2.2908999999999999E-2,0,0,0,null,null,2.2908999999999999E-2,0,0,0,null,null,2.2908999999999999E-2,0,0,0,null,null,2.2908999999999999E-2,0,0,0,null,null,2.2908999999999999E-2,0,0,0,null,null,2.2908999999999999E-2,0,0,0,null,null,2.2908999999999999E-2,0,0,0,null,2.2908999999999999E-2,0,0,0,0,0,0,0,0,0,0,0,0,0,0,0,0,0,0,0,0,0,0,0,0,0,0]
[null,2.6303E-2,0,0,0,null,null,2.6303E-2,0,0,0,null,null,2.6303E-2,0,0,0,null,null,null,2.6303E-2,0,0,0,null,null,2.6303E-2,0,0,0,null,null,2.6303E-2,0,0,0,null,null,2.6303E-2,0,0,0,null,null,2.6303E-2,0,0,0,null,null,2.6303E-2,0,0,0,null,null,2.6303E-2,0,0,0,null,null,2.6303E-2,0,0,0,null,null,2.6303E-2,0,0,0,null,null,2.6303E-2,0,0,0,null,null,2.6303E-2,0,0,0,null,null,2.6303E-2,0,0,0,null,null,2.6303E-2,0,0,0,null,null,2.6303E-2,0,0,0,null,null,2.6303E-2,0,0,0,null,null,2.6303E-2,0,0,0,null,null,2.6303E-2,0,0,0,null,null,2.6303E-2,0,0,0,null,null,2.6303E-2,0,0,0,null,null,2.6303E-2,0,0,0,null,null,2.6303E-2,0,0,0,null,null,2.6303E-2,0,0,0,null,null,2.6303E-2,0,0,0,null,2.6303E-2,0,0,0,0,0,0,0,0,0,0,0,0,0,0,0,0,0,0,0,0,0,0,0,0,0,0]
[null,3.0200000000000001E-2,0,0,0,null,null,3.0200000000000001E-2,0,0,0,null,null,3.0200000000000001E-2,0,0,0,null,null,null,3.0200000000000001E-2,0,0,0,null,null,3.0200000000000001E-2,0,0,0,null,null,3.0200000000000001E-2,0,0,0,null,null,3.0200000000000001E-2,0,0,0,null,null,3.0200000000000001E-2,0,0,0,null,null,3.0200000000000001E-2,0,0,0,null,null,3.0200000000000001E-2,0,0,0,null,null,3.0200000000000001E-2,0,0,0,null,null,3.0200000000000001E-2,0,0,0,null,null,3.0200000000000001E-2,0,0,0,null,null,3.0200000000000001E-2,0,0,0,null,null,3.0200000000000001E-2,0,0,0,null,null,3.0200000000000001E-2,0,0,0,null,null,3.0200000000000001E-2,0,0,0,null,null,3.0200000000000001E-2,0,0,0,null,null,3.0200000000000001E-2,0,0,0,null,null,3.0200000000000001E-2,0,0,0,null,null,3.0200000000000001E-2,0,0,0,null,null,3.0200000000000001E-2,0,0,0,null,null,3.0200000000000001E-2,0,0,0,null,null,3.0200000000000001E-2,0,0,0,null,null,3.0200000000000001E-2,0,0,0,null,null,3.0200000000000001E-2,0,0,0,null,3.0200000000000001E-2,0,0,0,0,0,0,0,0,0,0,0,0,0,0,0,0,0,0,0,0,0,0,0,0,0,0]
[null,3.4674000000000003E-2,0,0,0,null,null,3.4674000000000003E-2,0,0,0,null,null,3.4674000000000003E-2,0,0,0,null,null,null,3.4674000000000003E-2,0,0,0,null,null,3.4674000000000003E-2,0,0,0,null,null,3.4674000000000003E-2,0,0,0,null,null,3.4674000000000003E-2,0,0,0,null,null,3.4674000000000003E-2,0,0,0,null,null,3.4674000000000003E-2,0,0,0,null,null,3.4674000000000003E-2,0,0,0,null,null,3.4674000000000003E-2,0,0,0,null,null,3.4674000000000003E-2,0,0,0,null,null,3.4674000000000003E-2,0,0,0,null,null,3.4674000000000003E-2,0,0,0,null,null,3.4674000000000003E-2,0,0,0,null,null,3.4674000000000003E-2,0,0,0,null,null,3.4674000000000003E-2,0,0,0,null,null,3.4674000000000003E-2,0,0,0,null,null,3.4674000000000003E-2,0,0,0,null,null,3.4674000000000003E-2,0,0,0,null,null,3.4674000000000003E-2,0,0,0,null,null,3.4674000000000003E-2,0,0,0,null,null,3.4674000000000003E-2,0,0,0,null,null,3.4674000000000003E-2,0,0,0,null,null,3.4674000000000003E-2,0,0,0,null,null,3.4674000000000003E-2,0,0,0,null,3.4674000000000003E-2,0,0,0,0,0,0,0,0,0,0,0,0,0,0,0,0,0,0,0,0,0,0,0,0,0,0]
[null,3.9810999999999999E-2,0,0,0,null,null,3.9810999999999999E-2,0,0,0,null,null,3.9810999999999999E-2,0,0,0,null,null,null,3.9810999999999999E-2,0,0,0,null,null,3.9810999999999999E-2,0,0,0,null,null,3.9810999999999999E-2,0,0,0,null,null,3.9810999999999999E-2,0,0,0,null,null,3.9810999999999999E-2,0,0,0,null,null,3.9810999999999999E-2,0,0,0,null,null,3.9810999999999999E-2,0,0,0,null,null,3.9810999999999999E-2,0,0,0,null,null,3.9810999999999999E-2,0,0,0,null,null,3.9810999999999999E-2,0,0,0,null,null,3.9810999999999999E-2,0,0,0,null,null,3.9810999999999999E-2,0,0,0,null,null,3.9810999999999999E-2,0,0,0,null,null,3.9810999999999999E-2,0,0,0,null,null,3.9810999999999999E-2,0,0,0,null,null,3.9810999999999999E-2,0,0,0,null,null,3.9810999999999999E-2,0,0,0,null,null,3.9810999999999999E-2,0,0,0,null,null,3.9810999999999999E-2,0,0,0,null,null,3.9810999999999999E-2,0,0,0,null,null,3.9810999999999999E-2,0,0,0,null,null,3.9810999999999999E-2,0,0,0,null,null,3.9810999999999999E-2,0,0,0,null,3.9810999999999999E-2,0,0,0,0,0,0,0,0,0,0,0,0,0,0,0,0,0,0,0,0,0,0,0,0,0,0]
[null,4.5709E-2,0,0,0,null,null,4.5709E-2,0,0,0,null,null,4.5709E-2,0,0,0,null,null,null,4.5709E-2,0,0,0,null,null,4.5709E-2,0,0,0,null,null,4.5709E-2,0,0,0,null,null,4.5709E-2,0,0,0,null,null,4.5709E-2,0,0,0,null,null,4.5709E-2,0,0,0,null,null,4.5709E-2,0,0,0,null,null,4.5709E-2,0,0,0,null,null,4.5709E-2,0,0,0,null,null,4.5709E-2,0,0,0,null,null,4.5709E-2,0,0,0,null,null,4.5709E-2,0,0,0,null,null,4.5709E-2,0,0,0,null,null,4.5709E-2,0,0,0,null,null,4.5709E-2,0,0,0,null,null,4.5709E-2,0,0,0,null,null,4.5709E-2,0,0,0,null,null,4.5709E-2,0,0,0,null,null,4.5709E-2,0,0,0,null,null,4.5709E-2,0,0,0,null,null,4.5709E-2,0,0,0,null,null,4.5709E-2,0,0,0,null,null,4.5709E-2,0,0,0,null,4.5709E-2,0,0,0,0,0,0,0,0,0,0,0,0,0,0,0,0,0,0,0,0,0,0,0,0,0,0]
[null,5.2481E-2,0,0,0,null,null,5.2481E-2,0,0,0,null,null,5.2481E-2,0,0,0,null,null,null,5.2481E-2,0,0,0,null,null,5.2481E-2,0,0,0,null,null,5.2481E-2,0,0,0,null,null,5.2481E-2,0,0,0,null,null,5.2481E-2,0,0,0,null,null,5.2481E-2,0,0,0,null,null,5.2481E-2,0,0,0,null,null,5.2481E-2,0,0,0,null,null,5.2481E-2,0,0,0,null,null,5.2481E-2,0,0,0,null,null,5.2481E-2,0,0,0,null,null,5.2481E-2,0,0,0,null,null,5.2481E-2,0,0,0,null,null,5.2481E-2,0,0,0,null,null,5.2481E-2,0,0,0,null,null,5.2481E-2,0,0,0,null,null,5.2481E-2,0,0,0,null,null,5.2481E-2,0,0,0,null,null,5.2481E-2,0,0,0,null,null,5.2481E-2,0,0,0,null,null,5.2481E-2,0,0,0,null,null,5.2481E-2,0,0,0,null,null,5.2481E-2,0,0,0,null,5.2481E-2,0,0,0,0,0,0,0,0,0,0,0,0,0,0,0,0,0,0,0,0,0,0,0,0,0,0]
[null,6.0255999999999997E-2,0,0,0,null,null,6.0255999999999997E-2,0,0,0,null,null,6.0255999999999997E-2,0,0,0,null,null,null,6.0255999999999997E-2,0,0,0,null,null,6.0255999999999997E-2,0,0,0,null,null,6.0255999999999997E-2,0,0,0,null,null,6.0255999999999997E-2,0,0,0,null,null,6.0255999999999997E-2,0,0,0,null,null,6.0255999999999997E-2,0,0,0,null,null,6.0255999999999997E-2,0,0,0,null,null,6.0255999999999997E-2,0,0,0,null,null,6.0255999999999997E-2,0,0,0,null,null,6.0255999999999997E-2,0,0,0,null,null,6.0255999999999997E-2,0,0,0,null,null,6.0255999999999997E-2,0,0,0,null,null,6.0255999999999997E-2,0,0,0,null,null,6.0255999999999997E-2,0,0,0,null,null,6.0255999999999997E-2,0,0,0,null,null,6.0255999999999997E-2,0,0,0,null,null,6.0255999999999997E-2,0,0,0,null,null,6.0255999999999997E-2,0,0,0,null,null,6.0255999999999997E-2,0,0,0,null,null,6.0255999999999997E-2,0,0,0,null,null,6.0255999999999997E-2,0,0,0,null,null,6.0255999999999997E-2,0,0,0,null,null,6.0255999999999997E-2,0,0,0,null,6.0255999999999997E-2,0,0,0,0,0,0,0,0,0,0,0,0,0,0,0,0,0,0,0,0,0,0,0,0,0,0]
[null,6.9182999999999995E-2,0,0,0,null,null,6.9182999999999995E-2,0,0,0,null,null,6.9182999999999995E-2,0,0,0,null,null,null,6.9182999999999995E-2,0,0,0,null,null,6.9182999999999995E-2,0,0,0,null,null,6.9182999999999995E-2,0,0,0,null,null,6.9182999999999995E-2,0,0,0,null,null,6.9182999999999995E-2,0,0,0,null,null,6.9182999999999995E-2,0,0,0,null,null,6.9182999999999995E-2,0,0,0,null,null,6.9182999999999995E-2,0,0,0,null,null,6.9182999999999995E-2,0,0,0,null,null,6.9182999999999995E-2,0,0,0,null,null,6.9182999999999995E-2,0,0,0,null,null,6.9182999999999995E-2,0,0,0,null,null,6.9182999999999995E-2,0,0,0,null,null,6.9182999999999995E-2,0,0,0,null,null,6.9182999999999995E-2,0,0,0,null,null,6.9182999999999995E-2,0,0,0,null,null,6.9182999999999995E-2,0,0,0,null,null,6.9182999999999995E-2,0,0,0,null,null,6.9182999999999995E-2,0,0,0,null,null,6.9182999999999995E-2,0,0,0,null,null,6.9182999999999995E-2,0,0,0,null,null,6.9182999999999995E-2,0,0,0,null,null,6.9182999999999995E-2,0,0,0,null,6.9182999999999995E-2,0,0,0,0,0,0,0,0,0,0,0,0,0,0,0,0,0,0,0,0,0,0,0,0,0,0]
[null,7.9433000000000004E-2,0,0,0,null,null,7.9433000000000004E-2,0,0,0,null,null,7.9433000000000004E-2,0,0,0,null,null,null,7.9433000000000004E-2,0,0,0,null,null,7.9433000000000004E-2,0,0,0,null,null,7.9433000000000004E-2,0,0,0,null,null,7.9433000000000004E-2,0,0,0,null,null,7.9433000000000004E-2,0,0,0,null,null,7.9433000000000004E-2,0,0,0,null,null,7.9433000000000004E-2,0,0,0,null,null,7.9433000000000004E-2,0,0,0,null,null,7.9433000000000004E-2,0,0,0,null,null,7.9433000000000004E-2,0,0,0,null,null,7.9433000000000004E-2,0,0,0,null,null,7.9433000000000004E-2,0,0,0,null,null,7.9433000000000004E-2,0,0,0,null,null,7.9433000000000004E-2,0,0,0,null,null,7.9433000000000004E-2,0,0,0,null,null,7.9433000000000004E-2,0,0,0,null,null,7.9433000000000004E-2,0,0,0,null,null,7.9433000000000004E-2,0,0,0,null,null,7.9433000000000004E-2,0,0,0,null,null,7.9433000000000004E-2,0,0,0,null,null,7.9433000000000004E-2,0,0,0,null,null,7.9433000000000004E-2,0,0,0,null,null,7.9433000000000004E-2,0,0,0,null,7.9433000000000004E-2,0,0,0,0,0,0,0,0,0,0,0,0,0,0,0,0,0,0,0,0,0,0,0,0,0,0]
[null,9.1201000000000004E-2,0,0,0,null,null,9.1201000000000004E-2,0,0,0,null,null,9.1201000000000004E-2,0,0,0,null,null,null,9.1201000000000004E-2,0,0,0,null,null,9.1201000000000004E-2,0,0,0,null,null,9.1201000000000004E-2,0,0,0,null,null,9.1201000000000004E-2,0,0,0,null,null,9.1201000000000004E-2,0,0,0,null,null,9.1201000000000004E-2,0,0,0,null,null,9.1201000000000004E-2,0,0,0,null,null,9.1201000000000004E-2,0,0,0,null,null,9.1201000000000004E-2,0,0,0,null,null,9.1201000000000004E-2,0,0,0,null,null,9.1201000000000004E-2,0,0,0,null,null,9.1201000000000004E-2,0,0,0,null,null,9.1201000000000004E-2,0,0,0,null,null,9.1201000000000004E-2,0,0,0,null,null,9.1201000000000004E-2,0,0,0,null,null,9.1201000000000004E-2,0,0,0,null,null,9.1201000000000004E-2,0,0,0,null,null,9.1201000000000004E-2,0,0,0,null,null,9.1201000000000004E-2,0,0,0,null,null,9.1201000000000004E-2,0,0,0,null,null,9.1201000000000004E-2,0,0,0,null,null,9.1201000000000004E-2,0,0,0,null,null,9.1201000000000004E-2,0,0,0,null,9.1201000000000004E-2,0,0,0,0,0,0,0,0,0,0,0,0,0,0,0,0,0,0,0,0,0,0,0,0,0,0]
[null,0.104713,0,0,0,null,null,0.104713,0,0,0,null,null,0.104713,0,0,0,null,null,null,0.104713,0,0,0,null,null,0.104713,0,0,0,null,null,0.104713,0,0,0,null,null,0.104713,0,0,0,null,null,0.104713,0,0,0,null,null,0.104713,0,0,0,null,null,0.104713,0,0,0,null,null,0.104713,0,0,0,null,null,0.104713,0,0,0,null,null,0.104713,0,0,0,null,null,0.104713,0,0,0,null,null,0.104713,0,0,0,null,null,0.104713,0,0,0,null,null,0.104713,0,0,0,null,null,0.104713,0,0,0,null,null,0.104713,0,0,0,null,null,0.104713,0,0,0,null,null,0.104713,0,0,0,null,null,0.104713,0,0,0,null,null,0.104713,0,0,0,null,null,0.104713,0,0,0,null,null,0.104713,0,0,0,null,null,0.104713,0,0,0,null,0.104713,0,0,0,0,0,0,0,0,0,0,0,0,0,0,0,0,0,0,0,0,0,0,0,0,0,0]
[null,0.120226,0,0,0,null,null,0.120226,0,0,0,null,null,0.120226,0,0,0,null,null,null,0.120226,0,0,0,null,null,0.120226,0,0,0,null,null,0.120226,0,0,0,null,null,0.120226,0,0,0,null,null,0.120226,0,0,0,null,null,0.120226,0,0,0,null,null,0.120226,0,0,0,null,null,0.120226,0,0,0,null,null,0.120226,0,0,0,null,null,0.120226,0,0,0,null,null,0.120226,0,0,0,null,null,0.120226,0,0,0,null,null,0.120226,0,0,0,null,null,0.120226,0,0,0,null,null,0.120226,0,0,0,null,null,0.120226,0,0,0,null,null,0.120226,0,0,0,null,null,0.120226,0,0,0,null,null,0.120226,0,0,0,null,null,0.120226,0,0,0,null,null,0.120226,0,0,0,null,null,0.120226,0,0,0,null,null,0.120226,0,0,0,null,0.120226,0,0,0,0,0,0,0,0,0,0,0,0,0,0,0,0,0,0,0,0,0,0,0,0,0,0]
[null,0.13803799999999999,0,0,0,null,null,0.13803799999999999,0,0,0,null,null,0.13803799999999999,0,0,0,null,null,null,0.13803799999999999,0,0,0,null,null,0.13803799999999999,0,0,0,null,null,0.13803799999999999,0,0,0,null,null,0.13803799999999999,0,0,0,null,null,0.13803799999999999,0,0,0,null,null,0.13803799999999999,0,0,0,null,null,0.13803799999999999,0,0,0,null,null,0.13803799999999999,0,0,0,null,null,0.13803799999999999,0,0,0,null,null,0.13803799999999999,0,0,0,null,null,0.13803799999999999,0,0,0,null,null,0.13803799999999999,0,0,0,null,null,0.13803799999999999,0,0,0,null,null,0.13803799999999999,0,0,0,null,null,0.13803799999999999,0,0,0,null,null,0.13803799999999999,0,0,0,null,null,0.13803799999999999,0,0,0,null,null,0.13803799999999999,0,0,0,null,null,0.13803799999999999,0,0,0,null,null,0.13803799999999999,0,0,0,null,null,0.13803799999999999,0,0,0,null,null,0.13803799999999999,0,0,0,null,null,0.13803799999999999,0,0,0,null,0.13803799999999999,0,0,0,0,0,0,0,0,0,0,0,0,0,0,0,0,0,0,0,0,0,0,0,0,0,0]
[null,0.15848899999999999,0,0,0,null,null,0.15848899999999999,0,0,0,null,null,0.15848899999999999,0,0,0,null,null,null,0.15848899999999999,0,0,0,null,null,0.15848899999999999,0,0,0,null,null,0.15848899999999999,0,0,0,null,null,0.15848899999999999,0,0,0,null,null,0.15848899999999999,0,0,0,null,null,0.15848899999999999,0,0,0,null,null,0.15848899999999999,0,0,0,null,null,0.15848899999999999,0,0,0,null,null,0.15848899999999999,0,0,0,null,null,0.15848899999999999,0,0,0,null,null,0.15848899999999999,0,0,0,null,null,0.15848899999999999,0,0,0,null,null,0.15848899999999999,0,0,0,null,null,0.15848899999999999,0,0,0,null,null,0.15848899999999999,0,0,0,null,null,0.15848899999999999,0,0,0,null,null,0.15848899999999999,0,0,0,null,null,0.15848899999999999,0,0,0,null,null,0.15848899999999999,0,0,0,null,null,0.15848899999999999,0,0,0,null,null,0.15848899999999999,0,0,0,null,null,0.15848899999999999,0,0,0,null,null,0.15848899999999999,0,0,0,null,0.15848899999999999,0,0,0,0,0,0,0,0,0,0,0,0,0,0,0,0,0,0,0,0,0,0,0,0,0,0]
[null,0.18196999999999999,0,0,0,null,null,0.18196999999999999,0,0,0,null,null,0.18196999999999999,0,0,0,null,null,null,0.18196999999999999,0,0,0,null,null,0.18196999999999999,0,0,0,null,null,0.18196999999999999,0,0,0,null,null,0.18196999999999999,0,0,0,null,null,0.18196999999999999,0,0,0,null,null,0.18196999999999999,0,0,0,null,null,0.18196999999999999,0,0,0,null,null,0.18196999999999999,0,0,0,null,null,0.18196999999999999,0,0,0,null,null,0.18196999999999999,0,0,0,null,null,0.18196999999999999,0,0,0,null,null,0.18196999999999999,0,0,0,null,null,0.18196999999999999,0,0,0,null,null,0.18196999999999999,0,0,0,null,null,0.18196999999999999,0,0,0,null,null,0.18196999999999999,0,0,0,null,null,0.18196999999999999,0,0,0,null,null,0.18196999999999999,0,0,0,null,null,0.18196999999999999,0,0,0,null,null,0.18196999999999999,0,0,0,null,null,0.18196999999999999,0,0,0,null,null,0.18196999999999999,0,0,0,null,null,0.18196999999999999,0,0,0,null,0.18196999999999999,0,0,0,0,0,0,0,0,0,0,0,0,0,0,0,0,0,0,0,0,0,0,0,0,0,0]
[null,0.20893,0,0,0,null,null,0.20893,0,0,0,null,null,0.20893,0,0,0,null,null,null,0.20893,0,0,0,null,null,0.20893,0,0,0,null,null,0.20893,0,0,0,null,null,0.20893,0,0,0,null,null,0.20893,0,0,0,null,null,0.20893,0,0,0,null,null,0.20893,0,0,0,null,null,0.20893,0,0,0,null,null,0.20893,0,0,0,null,null,0.20893,0,0,0,null,null,0.20893,0,0,0,null,null,0.20893,0,0,0,null,null,0.20893,0,0,0,null,null,0.20893,0,0,0,null,null,0.20893,0,0,0,null,null,0.20893,0,0,0,null,null,0.20893,0,0,0,null,null,0.20893,0,0,0,null,null,0.20893,0,0,0,null,null,0.20893,0,0,0,null,null,0.20893,0,0,0,null,null,0.20893,0,0,0,null,null,0.20893,0,0,0,null,0.20893,0,0,0,0,0,0,0,0,0,0,0,0,0,0,0,0,0,0,0,0,0,0,0,0,0,0]
[null,0.23988300000000001,0,0,0,null,null,0.23988300000000001,0,0,0,null,null,0.23988300000000001,0,0,0,null,null,null,0.23988300000000001,0,0,0,null,null,0.23988300000000001,0,0,0,null,null,0.23988300000000001,0,0,0,null,null,0.23988300000000001,0,0,0,null,null,0.23988300000000001,0,0,0,null,null,0.23988300000000001,0,0,0,null,null,0.23988300000000001,0,0,0,null,null,0.23988300000000001,0,0,0,null,null,0.23988300000000001,0,0,0,null,null,0.23988300000000001,0,0,0,null,null,0.23988300000000001,0,0,0,null,null,0.23988300000000001,0,0,0,null,null,0.23988300000000001,0,0,0,null,null,0.23988300000000001,0,0,0,null,null,0.23988300000000001,0,0,0,null,null,0.23988300000000001,0,0,0,null,null,0.23988300000000001,0,0,0,null,null,0.23988300000000001,0,0,0,null,null,0.23988300000000001,0,0,0,null,null,0.23988300000000001,0,0,0,null,null,0.23988300000000001,0,0,0,null,null,0.23988300000000001,0,0,0,null,null,0.23988300000000001,0,0,0,null,0.23988300000000001,0,0,0,0,0,0,0,0,0,0,0,0,0,0,0,0,0,0,0,0,0,0,0,0,0,0]
[null,0.27542299999999997,0,0,0,null,null,0.27542299999999997,0,0,0,null,null,0.27542299999999997,0,0,0,null,null,null,0.27542299999999997,0,0,0,null,null,0.27542299999999997,0,0,0,null,null,0.27542299999999997,0,0,0,null,null,0.27542299999999997,0,0,0,null,null,0.27542299999999997,0,0,0,null,null,0.27542299999999997,0,0,0,null,null,0.27542299999999997,0,0,0,null,null,0.27542299999999997,0,0,0,null,null,0.27542299999999997,0,0,0,null,null,0.27542299999999997,0,0,0,null,null,0.27542299999999997,0,0,0,null,null,0.27542299999999997,0,0,0,null,null,0.27542299999999997,0,0,0,null,null,0.27542299999999997,0,0,0,null,null,0.27542299999999997,0,0,0,null,null,0.27542299999999997,0,0,0,null,null,0.27542299999999997,0,0,0,null,null,0.27542299999999997,0,0,0,null,null,0.27542299999999997,0,0,0,null,null,0.27542299999999997,0,0,0,null,null,0.27542299999999997,0,0,0,null,null,0.27542299999999997,0,0,0,null,null,0.27542299999999997,0,0,0,null,0.27542299999999997,0,0,0,0,0,0,0,0,0,0,0,0,0,0,0,0,0,0,0,0,0,0,0,0,0,0]
[null,0.31622800000000001,0,0,0,null,null,0.31622800000000001,0,0,0,null,null,0.31622800000000001,0,0,0,null,null,null,0.31622800000000001,0,0,0,null,null,0.31622800000000001,0,0,0,null,null,0.31622800000000001,0,0,0,null,null,0.31622800000000001,0,0,0,null,null,0.31622800000000001,0,0,0,null,null,0.31622800000000001,0,0,0,null,null,0.31622800000000001,0,0,0,null,null,0.31622800000000001,0,0,0,null,null,0.31622800000000001,0,0,0,null,null,0.31622800000000001,0,0,0,null,null,0.31622800000000001,0,0,0,null,null,0.31622800000000001,0,0,0,null,null,0.31622800000000001,0,0,0,null,null,0.31622800000000001,0,0,0,null,null,0.31622800000000001,0,0,0,null,null,0.31622800000000001,0,0,0,null,null,0.31622800000000001,0,0,0,null,null,0.31622800000000001,0,0,0,null,null,0.31622800000000001,0,0,0,null,null,0.31622800000000001,0,0,0,null,null,0.31622800000000001,0,0,0,null,null,0.31622800000000001,0,0,0,null,null,0.31622800000000001,0,0,0,null,0.31622800000000001,0,0,0,0,0,0,0,0,0,0,0,0,0,0,0,0,0,0,0,0,0,0,0,0,0,0]
[null,0.36307800000000001,0,0,0,null,null,0.36307800000000001,0,0,0,null,null,0.36307800000000001,0,0,0,null,null,null,0.36307800000000001,0,0,0,null,null,0.36307800000000001,0,0,0,null,null,0.36307800000000001,0,0,0,null,null,0.36307800000000001,0,0,0,null,null,0.36307800000000001,0,0,0,null,null,0.36307800000000001,0,0,0,null,null,0.36307800000000001,0,0,0,null,null,0.36307800000000001,0,0,0,null,null,0.36307800000000001,0,0,0,null,null,0.36307800000000001,0,0,0,null,null,0.36307800000000001,0,0,0,null,null,0.36307800000000001,0,0,0,null,null,0.36307800000000001,0,0,0,null,null,0.36307800000000001,0,0,0,null,null,0.36307800000000001,0,0,0,null,null,0.36307800000000001,0,0,0,null,null,0.36307800000000001,0,0,0,null,null,0.36307800000000001,0,0,0,null,null,0.36307800000000001,0,0,0,null,null,0.36307800000000001,0,0,0,null,null,0.36307800000000001,0,0,0,null,null,0.36307800000000001,0,0,0,null,null,0.36307800000000001,0,0,0,null,0.36307800000000001,0,0,0,0,0,0,0,0,0,0,0,0,0,0,0,0,0,0,0,0,0,0,0,0,0,0]
[null,0.41686899999999999,0,0,0,null,null,0.41686899999999999,0,0,0,null,null,0.41686899999999999,0,0,0,null,null,null,0.41686899999999999,0,0,0,null,null,0.41686899999999999,0,0,0,null,null,0.41686899999999999,0,0,0,null,null,0.41686899999999999,0,0,0,null,null,0.41686899999999999,0,0,0,null,null,0.41686899999999999,0,0,0,null,null,0.41686899999999999,0,0,0,null,null,0.41686899999999999,0,0,0,null,null,0.41686899999999999,0,0,0,null,null,0.41686899999999999,0,0,0,null,null,0.41686899999999999,0,0,0,null,null,0.41686899999999999,0,0,0,null,null,0.41686899999999999,0,0,0,null,null,0.41686899999999999,0,0,0,null,null,0.41686899999999999,0,0,0,null,null,0.41686899999999999,0,0,0,null,null,0.41686899999999999,0,0,0,null,null,0.41686899999999999,0,0,0,null,null,0.41686899999999999,0,0,0,null,null,0.41686899999999999,0,0,0,null,null,0.41686899999999999,0,0,0,null,null,0.41686899999999999,0,0,0,null,null,0.41686899999999999,0,0,0,null,0.41686899999999999,0,0,0,0,0,0,0,0,0,0,0,0,0,0,0,0,0,0,0,0,0,0,0,0,0,0]
[null,0.47863,2.0459000000000001E-2,0,0,null,null,0.47863,0.101018,0.114209,0.11630699999999999,null,null,0.47863,0.11085399999999999,0.108697,0.102672,null,null,null,0.47863,6.1274000000000002E-2,7.1734000000000006E-2,7.1987999999999996E-2,null,null,0.47863,8.7821999999999997E-2,8.6652999999999994E-2,7.7495999999999995E-2,null,null,0.47863,7.8646999999999995E-2,7.0054000000000005E-2,7.2221999999999995E-2,null,null,0.47863,5.4342000000000001E-2,5.9026000000000002E-2,6.8961999999999996E-2,null,null,0.47863,7.4041999999999997E-2,9.9862999999999993E-2,9.0658000000000002E-2,null,null,0.47863,7.0357000000000003E-2,6.4619999999999997E-2,6.1426000000000001E-2,null,null,0.47863,0.105826,0.106569,8.7760000000000005E-2,null,null,0.47863,0,0,0,null,null,0.47863,0,0,0,null,null,0.47863,0,0,0,null,null,0.47863,0,0,0,null,null,0.47863,0,0,0,null,null,0.47863,0,0,0,null,null,0.47863,0,0,0,null,null,0.47863,0,0,0,null,null,0.47863,0,0,0,null,null,0.47863,0,0,0,null,null,0.47863,0,0,0,null,null,0.47863,0,0,0,null,null,0.47863,8.3434999999999995E-2,9.0732999999999994E-2,9.8238000000000006E-2,null,null,0.47863,0,0,0,null,null,0.47863,0,0,0,null,null,0.47863,1.6306999999999999E-2,1.5904999999999999E-2,3.8016000000000001E-2,null,0.47863,6.8196666666666675E-3,0.11051133333333334,0.10740766666666667,6.8332000000000004E-2,8.3990333333333334E-2,7.3640999999999998E-2,6.0776666666666666E-2,8.8187666666666664E-2,6.5467666666666674E-2,0.10005166666666666,0,0,0,0,0,0,0,0,0,0,0,0,9.0801999999999994E-2,0,0,2.3409333333333334E-2]
[null,0.54954099999999995,8.3878999999999995E-2,7.1248000000000006E-2,5.4894999999999999E-2,null,null,0.54954099999999995,0.171152,0.19450700000000001,0.19153400000000001,null,null,0.54954099999999995,0.19037399999999999,0.18754799999999999,0.182451,null,null,null,0.54954099999999995,0.111276,0.121055,0.121396,null,null,0.54954099999999995,0.14971499999999999,0.14805499999999999,0.13850699999999999,null,null,0.54954099999999995,0.12099699999999999,0.111459,0.114704,null,null,0.54954099999999995,9.2149999999999996E-2,9.9818000000000004E-2,0.110064,null,null,0.54954099999999995,0.115731,0.15198400000000001,0.138377,null,null,0.54954099999999995,0.10760599999999999,0.102033,0.102507,null,null,0.54954099999999995,0.185145,0.185142,0.16528000000000001,null,null,0.54954099999999995,7.8241000000000005E-2,7.6751E-2,7.3968999999999993E-2,null,null,0.54954099999999995,0,0,0,null,null,0.54954099999999995,6.6942000000000002E-2,6.5831000000000001E-2,7.3427999999999993E-2,null,null,0.54954099999999995,0,0,0,null,null,0.54954099999999995,0,0,0,null,null,0.54954099999999995,0,0,0,null,null,0.54954099999999995,0,0,0,null,null,0.54954099999999995,0,0,5.4214999999999999E-2,null,null,0.54954099999999995,0,5.7576000000000002E-2,3.9515000000000002E-2,null,null,0.54954099999999995,0,0,0,null,null,0.54954099999999995,0,0,0,null,null,0.54954099999999995,3.8862000000000001E-2,6.0016E-2,5.3671000000000003E-2,null,null,0.54954099999999995,0.14610300000000001,0.15148300000000001,0.16464300000000001,null,null,0.54954099999999995,7.8924999999999995E-2,7.6118000000000005E-2,6.3937999999999995E-2,null,null,0.54954099999999995,3.7752000000000001E-2,6.1365999999999997E-2,6.1044000000000001E-2,null,null,0.54954099999999995,8.7585999999999997E-2,9.3247999999999998E-2,9.4847000000000001E-2,null,0.54954099999999995,7.0007333333333338E-2,0.18573100000000001,0.18679100000000001,0.117909,0.14542566666666665,0.11572,0.10067733333333333,0.13536400000000001,0.10404866666666666,0.17852233333333334,7.6320333333333337E-2,0,6.8733666666666665E-2,0,0,0,0,1.8071666666666666E-2,3.2363666666666673E-2,0,0,5.0849666666666661E-2,0.15407633333333334,7.2993666666666665E-2,5.3387333333333335E-2,9.1893666666666665E-2]
[null,0.63095699999999999,0.111707,0.100387,8.0850000000000005E-2,null,null,0.63095699999999999,0.23968500000000001,0.27327600000000002,0.26452399999999998,null,null,0.63095699999999999,0.26653100000000002,0.26316499999999998,0.25961400000000001,null,null,null,0.63095699999999999,0.14984800000000001,0.168457,0.16885700000000001,null,null,0.63095699999999999,0.20694199999999999,0.204844,0.195521,null,null,0.63095699999999999,0.16107099999999999,0.15057400000000001,0.15484999999999999,null,null,0.63095699999999999,0.120419,0.130409,0.14783099999999999,null,null,0.63095699999999999,0.15390799999999999,0.19947400000000001,0.181948,null,null,0.63095699999999999,0.142488,0.131102,0.13417799999999999,null,null,0.63095699999999999,0.25987100000000002,0.259108,0.239231,null,null,0.63095699999999999,0.11229500000000001,0.109169,0.105225,null,null,0.63095699999999999,0,0,0,null,null,0.63095699999999999,9.4245999999999996E-2,9.2459E-2,0.101054,null,null,0.63095699999999999,0,0,0,null,null,0.63095699999999999,0,0,0,null,null,0.63095699999999999,0,0,0,null,null,0.63095699999999999,1.0833000000000001E-2,0,1.3566999999999999E-2,null,null,0.63095699999999999,4.9598000000000003E-2,4.8801999999999998E-2,7.9619999999999996E-2,null,null,0.63095699999999999,1.5986E-2,8.3107E-2,7.7901999999999999E-2,null,null,0.63095699999999999,4.8469999999999999E-2,5.0654999999999999E-2,3.2454999999999998E-2,null,null,0.63095699999999999,4.9359E-2,3.3316999999999999E-2,5.2372000000000002E-2,null,null,0.63095699999999999,7.7938999999999994E-2,8.8214000000000001E-2,7.8504000000000004E-2,null,null,0.63095699999999999,0.20546300000000001,0.20846200000000001,0.22719700000000001,null,null,0.63095699999999999,0.112457,0.108527,9.3477000000000005E-2,null,null,0.63095699999999999,5.4847E-2,9.0383000000000005E-2,9.0311000000000002E-2,null,null,0.63095699999999999,0.120259,0.12865399999999999,0.12633900000000001,null,0.63095699999999999,9.7647999999999999E-2,0.25916166666666668,0.2631033333333333,0.16238733333333333,0.20243566666666668,0.15549833333333332,0.13288633333333333,0.17844333333333331,0.13592266666666666,0.25273666666666667,0.10889633333333333,0,9.5919666666666667E-2,0,0,0,8.1333333333333327E-3,5.9340000000000004E-2,5.899833333333334E-2,4.3859999999999989E-2,4.5016E-2,8.1552333333333338E-2,0.21370733333333333,0.10482033333333333,7.8513666666666662E-2,0.125084]
[null,0.72443599999999997,0.13172900000000001,0.118552,9.5046000000000005E-2,null,null,0.72443599999999997,0.28755999999999998,0.328546,0.31528499999999998,null,null,0.72443599999999997,0.316691,0.31304500000000002,0.31097200000000003,null,null,null,0.72443599999999997,0.18332799999999999,0.20049800000000001,0.20091100000000001,null,null,0.72443599999999997,0.241339,0.23896500000000001,0.23000999999999999,null,null,0.72443599999999997,0.18867700000000001,0.17683399999999999,0.18185699999999999,null,null,0.72443599999999997,0.142426,0.154386,0.17134199999999999,null,null,0.72443599999999997,0.17779700000000001,0.229356,0.209454,null,null,0.72443599999999997,0.16591400000000001,0.15445600000000001,0.16023200000000001,null,null,0.72443599999999997,0.30668200000000001,0.30549500000000002,0.28563,null,null,0.72443599999999997,0.135354,0.13044800000000001,0.12573999999999999,null,null,0.72443599999999997,0,0,0,null,null,0.72443599999999997,0.107491,0.10531799999999999,0.115774,null,null,0.72443599999999997,0,0,0,null,null,0.72443599999999997,1.0697E-2,2.2381000000000002E-2,0,null,null,0.72443599999999997,0,0,0,null,null,0.72443599999999997,5.1361999999999998E-2,1.2444E-2,3.6743999999999999E-2,null,null,0.72443599999999997,7.4165999999999996E-2,7.2781999999999999E-2,9.3412999999999996E-2,null,null,0.72443599999999997,4.2132999999999997E-2,9.6784999999999996E-2,9.4106999999999996E-2,null,null,0.72443599999999997,7.3072999999999999E-2,7.6189000000000007E-2,6.5361000000000002E-2,null,null,0.72443599999999997,7.4415999999999996E-2,4.9549000000000003E-2,7.9076999999999995E-2,null,null,0.72443599999999997,9.4892000000000004E-2,0.103604,9.1948000000000002E-2,null,null,0.72443599999999997,0.24329400000000001,0.244641,0.267239,null,null,0.72443599999999997,0.13416800000000001,0.12950300000000001,0.109416,null,null,0.72443599999999997,7.8573000000000004E-2,0.10684100000000001,0.106956,null,null,0.72443599999999997,0.14469599999999999,0.155249,0.149899,null,0.72443599999999997,0.11510900000000002,0.31046366666666669,0.31356933333333337,0.19491233333333335,0.23677133333333333,0.18245600000000003,0.15605133333333332,0.20553566666666667,0.16020066666666669,0.29926900000000001,0.13051399999999999,0,0.10952766666666668,0,1.1026000000000001E-2,0,3.3516666666666667E-2,8.0120333333333335E-2,7.7674999999999994E-2,7.1541000000000007E-2,6.7680666666666667E-2,9.6814666666666674E-2,0.25172466666666665,0.12436233333333334,9.7456666666666678E-2,0.149948]
[null,0.83176399999999995,0.143982,0.12968499999999999,0.103631,null,null,0.83176399999999995,0.32784600000000003,0.37521399999999999,0.35736499999999999,null,null,0.83176399999999995,0.35530699999999998,0.35159699999999999,0.35148099999999999,null,null,null,0.83176399999999995,0.20650099999999999,0.226467,0.22687299999999999,null,null,0.83176399999999995,0.26377,0.26121499999999997,0.25304500000000002,null,null,0.83176399999999995,0.21113499999999999,0.19769300000000001,0.20336199999999999,null,null,0.83176399999999995,0.15535199999999999,0.16881399999999999,0.187804,null,null,0.83176399999999995,0.19452,0.25011899999999998,0.22870699999999999,null,null,0.83176399999999995,0.184032,0.17047599999999999,0.17763100000000001,null,null,0.83176399999999995,0.34009699999999998,0.33859600000000001,0.31924000000000002,null,null,0.83176399999999995,0.15068699999999999,0.144454,0.13925399999999999,null,null,0.83176399999999995,0,0,0,null,null,0.83176399999999995,0.11229500000000001,0.10986600000000001,0.123196,null,null,0.83176399999999995,0,0,0,null,null,0.83176399999999995,3.2985E-2,5.3324000000000003E-2,1.0318000000000001E-2,null,null,0.83176399999999995,0,0,0,null,null,0.83176399999999995,6.4152000000000001E-2,2.0584000000000002E-2,4.3840999999999998E-2,null,null,0.83176399999999995,8.1305000000000002E-2,7.9635999999999998E-2,0.10161299999999999,null,null,0.83176399999999995,5.1956000000000002E-2,0.104591,0.101532,null,null,0.83176399999999995,8.0741999999999994E-2,8.4073999999999996E-2,7.6973E-2,null,null,0.83176399999999995,8.2520999999999997E-2,6.5271999999999997E-2,8.7779999999999997E-2,null,null,0.83176399999999995,0.103245,0.1129,9.9853999999999998E-2,null,null,0.83176399999999995,0.27130700000000002,0.27084999999999998,0.29659099999999999,null,null,0.83176399999999995,0.14758099999999999,0.14239399999999999,0.118699,null,null,0.83176399999999995,9.6997E-2,0.118143,0.11845899999999999,null,null,0.83176399999999995,0.15876100000000001,0.17052,0.16318299999999999,null,0.83176399999999995,0.12576600000000002,0.35347499999999998,0.35279499999999997,0.219947,0.25934333333333331,0.20406333333333335,0.17065666666666665,0.22444866666666666,0.17737966666666669,0.33264433333333332,0.14479833333333333,0,0.11511900000000001,0,3.2208999999999995E-2,0,4.2859000000000001E-2,8.7517999999999999E-2,8.602633333333333E-2,8.0596333333333325E-2,7.8524333333333335E-2,0.10533300000000001,0.2795826666666667,0.13622466666666666,0.11119966666666666,0.16415466666666667]
[null,0.95499299999999998,0.15176899999999999,0.136902,0.110096,null,null,0.95499299999999998,0.35872399999999999,0.41101599999999999,0.38894099999999998,null,null,0.95499299999999998,0.379998,0.376442,0.37854700000000002,null,null,null,0.95499299999999998,0.22542999999999999,0.24540100000000001,0.24579999999999999,null,null,0.95499299999999998,0.27243600000000001,0.26979500000000001,0.26251799999999997,null,null,0.95499299999999998,0.22808100000000001,0.21271399999999999,0.21892200000000001,null,null,0.95499299999999998,0.163074,0.17791000000000001,0.19673499999999999,null,null,0.95499299999999998,0.20366899999999999,0.26130300000000001,0.23926500000000001,null,null,0.95499299999999998,0.19633900000000001,0.18213799999999999,0.190329,null,null,0.95499299999999998,0.35773700000000003,0.356074,0.33724799999999999,null,null,0.95499299999999998,0.16281599999999999,0.155193,0.14965999999999999,null,null,0.95499299999999998,0,0,0,null,null,0.95499299999999998,0.115296,0.112702,0.126082,null,null,0.95499299999999998,0,0,0,null,null,0.95499299999999998,4.0398999999999997E-2,5.6087999999999999E-2,2.0140999999999999E-2,null,null,0.95499299999999998,0,0,0,null,null,0.95499299999999998,6.4848000000000003E-2,2.0204E-2,4.1331E-2,null,null,0.95499299999999998,8.2957000000000003E-2,8.1056000000000003E-2,0.10792300000000001,null,null,0.95499299999999998,5.1272999999999999E-2,0.11068600000000001,0.10749300000000001,null,null,0.95499299999999998,8.3449999999999996E-2,8.6804000000000006E-2,7.8028E-2,null,null,0.95499299999999998,8.6205000000000004E-2,8.1356999999999999E-2,9.1814999999999994E-2,null,null,0.95499299999999998,0.10982599999999999,0.120071,0.10591100000000001,null,null,0.95499299999999998,0.28784799999999999,0.28565200000000002,0.31356099999999998,null,null,0.95499299999999998,0.156808,0.15124399999999999,0.12581600000000001,null,null,0.95499299999999998,0.10037699999999999,0.12770799999999999,0.12815399999999999,null,null,0.95499299999999998,0.167383,0.17999000000000001,0.17058100000000001,null,0.95499299999999998,0.13292233333333334,0.38622700000000004,0.37832899999999997,0.23887700000000001,0.26824966666666666,0.21990566666666667,0.17923966666666669,0.23474566666666666,0.18960200000000002,0.35035299999999997,0.15588966666666668,0,0.11802666666666665,0,3.8875999999999994E-2,0,4.2127666666666667E-2,9.0645333333333342E-2,8.9817333333333346E-2,8.2760666666666663E-2,8.6458999999999994E-2,0.11193599999999999,0.29568699999999998,0.14462266666666668,0.11874633333333333,0.17265133333333335]
[null,1.0964780000000001,0.15757299999999999,0.142314,0.114674,null,null,1.0964780000000001,0.38883200000000001,0.44570300000000002,0.419182,null,null,1.0964780000000001,0.40017599999999998,0.39692899999999998,0.40167599999999998,null,null,null,1.0964780000000001,0.24357200000000001,0.26375799999999999,0.26418599999999998,null,null,1.0964780000000001,0.27456799999999998,0.27188299999999999,0.26546599999999998,null,null,1.0964780000000001,0.245006,0.22739899999999999,0.234178,null,null,1.0964780000000001,0.168543,0.18493000000000001,0.20349800000000001,null,null,1.0964780000000001,0.210647,0.26947900000000002,0.247139,null,null,1.0964780000000001,0.20738300000000001,0.192467,0.20130600000000001,null,null,1.0964780000000001,0.36902099999999999,0.367226,0.34888999999999998,null,null,1.0964780000000001,0.17440700000000001,0.16527500000000001,0.15950700000000001,null,null,1.0964780000000001,0,0,0,null,null,1.0964780000000001,0.115648,0.11292199999999999,0.127162,null,null,1.0964780000000001,0,0,0,null,null,1.0964780000000001,3.7101000000000002E-2,5.8839000000000002E-2,1.9078999999999999E-2,null,null,1.0964780000000001,0,0,0,null,null,1.0964780000000001,6.0434000000000002E-2,1.5952000000000001E-2,4.4003E-2,null,null,1.0964780000000001,8.7457999999999994E-2,8.5310999999999998E-2,0.112625,null,null,1.0964780000000001,6.3299999999999995E-2,0.114768,0.11157599999999999,null,null,1.0964780000000001,8.8785000000000003E-2,9.2323000000000002E-2,8.2012000000000002E-2,null,null,1.0964780000000001,9.2786999999999994E-2,8.2360000000000003E-2,9.8928000000000002E-2,null,null,1.0964780000000001,0.11490499999999999,0.125444,0.11028,null,null,1.0964780000000001,0.30075200000000002,0.29650399999999999,0.32619100000000001,null,null,1.0964780000000001,0.16433200000000001,0.15848100000000001,0.13097400000000001,null,null,1.0964780000000001,0.107435,0.13587399999999999,0.136544,null,null,1.0964780000000001,0.173037,0.186333,0.17493700000000001,null,1.0964780000000001,0.138187,0.41790566666666668,0.39959366666666662,0.25717200000000001,0.27063900000000002,0.23552766666666666,0.18565700000000004,0.24242166666666667,0.20038533333333333,0.36171233333333336,0.16639633333333334,0,0.11857733333333333,0,3.8339666666666668E-2,0,4.0129666666666668E-2,9.5131333333333346E-2,9.6548000000000009E-2,8.7706666666666669E-2,9.1358333333333333E-2,0.11687633333333332,0.30781566666666665,0.15126233333333336,0.12661766666666666,0.17810233333333333]
[null,1.2589250000000001,0.16523099999999999,0.14941099999999999,0.12096899999999999,null,null,1.2589250000000001,0.424176,0.48605500000000001,0.45466800000000002,null,null,1.2589250000000001,0.42301899999999998,0.42014499999999999,0.42790099999999998,null,null,null,1.2589250000000001,0.266318,0.286416,0.28694599999999998,null,null,1.2589250000000001,0.27646999999999999,0.27373799999999998,0.26791700000000002,null,null,1.2589250000000001,0.26600800000000002,0.24596199999999999,0.25344100000000003,null,null,1.2589250000000001,0.1762,0.19464300000000001,0.212645,null,null,1.2589250000000001,0.22004299999999999,0.28029199999999999,0.25746200000000002,null,null,1.2589250000000001,0.22075,0.20524800000000001,0.21481800000000001,null,null,1.2589250000000001,0.38152900000000001,0.37953700000000001,0.36160100000000001,null,null,1.2589250000000001,0.18978,0.17880099999999999,0.17277300000000001,null,null,1.2589250000000001,0,0,0,null,null,1.2589250000000001,0.11860999999999999,0.11569699999999999,0.13051599999999999,null,null,1.2589250000000001,0,0,0,null,null,1.2589250000000001,4.4928999999999997E-2,5.6440999999999998E-2,1.5973999999999999E-2,null,null,1.2589250000000001,0,0,0,null,null,1.2589250000000001,6.3115000000000004E-2,3.1983999999999999E-2,3.9951E-2,null,null,1.2589250000000001,9.2009999999999995E-2,8.9583999999999997E-2,0.11941499999999999,null,null,1.2589250000000001,8.1168000000000004E-2,0.12055399999999999,0.117229,null,null,1.2589250000000001,9.4159999999999994E-2,9.7834000000000004E-2,8.5851999999999998E-2,null,null,1.2589250000000001,9.9584000000000006E-2,9.0421000000000001E-2,0.106319,null,null,1.2589250000000001,0.122139,0.13312099999999999,0.11663800000000001,null,null,1.2589250000000001,0.31632500000000002,0.30954500000000001,0.34105099999999999,null,null,1.2589250000000001,0.17443500000000001,0.168291,0.13860600000000001,null,null,1.2589250000000001,0.11522399999999999,0.14633199999999999,0.14736299999999999,null,null,1.2589250000000001,0.180455,0.19472500000000001,0.18102299999999999,null,1.2589250000000001,0.14520366666666665,0.45496633333333336,0.42368833333333339,0.27989333333333333,0.27270833333333333,0.255137,0.194496,0.25259900000000002,0.21360533333333334,0.37422233333333338,0.18045133333333332,0,0.12160766666666667,0,3.9114666666666666E-2,0,4.501666666666667E-2,0.10033633333333332,0.10631699999999999,9.2615333333333327E-2,9.8774666666666677E-2,0.12396600000000001,0.32230700000000001,0.160444,0.13630633333333333,0.18540100000000001]
[null,1.4454400000000001,0.178341,0.161438,0.13150000000000001,null,null,1.4454400000000001,0.47215099999999999,0.54056800000000005,0.50346299999999999,null,null,1.4454400000000001,0.45700400000000002,0.45447300000000002,0.46569300000000002,null,null,null,1.4454400000000001,0.29886800000000002,0.31923699999999999,0.31996599999999997,null,null,1.4454400000000001,0.28520200000000001,0.28238000000000002,0.27679999999999999,null,null,1.4454400000000001,0.29574400000000001,0.27316299999999999,0.28159400000000001,null,null,1.4454400000000001,0.19020999999999999,0.21151400000000001,0.22917699999999999,null,null,1.4454400000000001,0.23685600000000001,0.29989700000000002,0.27583400000000002,null,null,1.4454400000000001,0.24058099999999999,0.224218,0.23496500000000001,null,null,1.4454400000000001,0.40384300000000001,0.40148600000000001,0.38415100000000002,null,null,1.4454400000000001,0.212975,0.19964799999999999,0.19320899999999999,null,null,1.4454400000000001,0,0,0,null,null,1.4454400000000001,0.12738099999999999,0.12414600000000001,0.140018,null,null,1.4454400000000001,0,0,0,null,null,1.4454400000000001,6.5803E-2,6.2820000000000001E-2,2.9803E-2,null,null,1.4454400000000001,0,0,0,null,null,1.4454400000000001,6.6747000000000001E-2,6.3636999999999999E-2,5.0373000000000001E-2,null,null,1.4454400000000001,0.101035,9.8238000000000006E-2,0.13081899999999999,null,null,1.4454400000000001,8.6523000000000003E-2,0.13040499999999999,0.126752,null,null,1.4454400000000001,0.10383199999999999,0.10773099999999999,9.3552999999999997E-2,null,null,1.4454400000000001,0.110733,0.100428,0.118385,null,null,1.4454400000000001,0.13428799999999999,0.14605799999999999,0.12757299999999999,null,null,1.4454400000000001,0.34192,0.33183800000000002,0.36579,null,null,1.4454400000000001,0.191165,0.18460399999999999,0.15181800000000001,null,null,1.4454400000000001,0.12805900000000001,0.16180600000000001,0.16342899999999999,null,null,1.4454400000000001,0.193941,0.209845,0.19322,null,1.4454400000000001,0.15709300000000001,0.50539400000000001,0.45905666666666667,0.31269033333333335,0.28146066666666664,0.28350033333333335,0.21030033333333331,0.27086233333333337,0.23325466666666664,0.39649333333333336,0.20194399999999998,0,0.13051500000000002,0,5.2808666666666663E-2,0,6.0252333333333331E-2,0.11003066666666667,0.11456,0.10170533333333333,0.10984866666666666,0.13597299999999998,0.34651600000000005,0.17586233333333334,0.15109800000000001,0.19900199999999998]
[null,1.6595869999999999,0.198932,0.180252,0.147872,null,null,1.6595869999999999,0.53562200000000004,0.61271900000000001,0.56894999999999996,null,null,1.6595869999999999,0.50638700000000003,0.50406600000000001,0.51916200000000001,null,null,null,1.6595869999999999,0.34371600000000002,0.36491600000000002,0.36593300000000001,null,null,1.6595869999999999,0.30532700000000002,0.30235800000000002,0.296734,null,null,1.6595869999999999,0.33576800000000001,0.310778,0.32044899999999998,null,null,1.6595869999999999,0.21292800000000001,0.23794999999999999,0.255693,null,null,1.6595869999999999,0.26360699999999998,0.33147300000000002,0.305116,null,null,1.6595869999999999,0.26883099999999999,0.25118200000000002,0.26380700000000001,null,null,1.6595869999999999,0.440693,0.43776500000000002,0.421788,null,null,1.6595869999999999,0.24595700000000001,0.22978399999999999,0.222694,null,null,1.6595869999999999,0,0,0,null,null,1.6595869999999999,0.14435400000000001,0.14061399999999999,0.15812499999999999,null,null,1.6595869999999999,0,0,0,null,null,1.6595869999999999,7.2834999999999997E-2,7.2372000000000006E-2,6.8199999999999997E-2,null,null,1.6595869999999999,0,0,0,null,null,1.6595869999999999,7.6550999999999994E-2,6.8912000000000001E-2,7.5233999999999995E-2,null,null,1.6595869999999999,0.115136,0.11187999999999999,0.14829999999999999,null,null,1.6595869999999999,9.9995000000000001E-2,0.14583599999999999,0.141601,null,null,1.6595869999999999,0.11859599999999999,0.12278,0.105854,null,null,1.6595869999999999,0.12690599999999999,0.115868,0.13585,null,null,1.6595869999999999,0.15307399999999999,0.166157,0.14477599999999999,null,null,1.6595869999999999,0.381602,0.36734800000000001,0.40474500000000002,null,null,1.6595869999999999,0.216894,0.20968200000000001,0.172628,null,null,1.6595869999999999,0.14687700000000001,0.183944,0.18642600000000001,null,null,1.6595869999999999,0.21612200000000001,0.234509,0.21415500000000001,null,1.6595869999999999,0.17568533333333333,0.57243033333333326,0.50987166666666672,0.35818833333333333,0.30147300000000005,0.32233166666666668,0.23552366666666669,0.30006533333333335,0.26127333333333336,0.43341533333333332,0.23281166666666664,0,0.14769766666666664,0,7.1135666666666666E-2,0,7.3565666666666668E-2,0.12510533333333332,0.12914400000000001,0.11574333333333332,0.12620799999999999,0.15466899999999997,0.38456499999999999,0.1997346666666667,0.17241566666666666,0.22159533333333334]
[null,1.9054610000000001,0.22736799999999999,0.20621800000000001,0.17036799999999999,null,null,1.9054610000000001,0.61466100000000001,0.70287900000000003,0.65147500000000003,null,null,1.9054610000000001,0.57196400000000003,0.56964300000000001,0.589028,null,null,null,1.9054610000000001,0.401252,0.42396600000000001,0.42531600000000003,null,null,1.9054610000000001,0.33842299999999997,0.335254,0.32957799999999998,null,null,1.9054610000000001,0.38542500000000002,0.35831400000000002,0.36948399999999998,null,null,1.9054610000000001,0.24468899999999999,0.27420699999999998,0.29252699999999998,null,null,1.9054610000000001,0.30047400000000002,0.37534000000000001,0.34556999999999999,null,null,1.9054610000000001,0.30580099999999999,0.28631499999999999,0.30157600000000001,null,null,1.9054610000000001,0.49310199999999998,0.48942099999999999,0.47627000000000003,null,null,1.9054610000000001,0.28892800000000002,0.26949899999999999,0.26147399999999998,null,null,1.9054610000000001,0,3.1850000000000003E-2,0,null,null,1.9054610000000001,0.16997699999999999,0.165543,0.185421,null,null,1.9054610000000001,0,0,0,null,null,1.9054610000000001,8.9257000000000003E-2,8.8109000000000007E-2,8.0295000000000005E-2,null,null,1.9054610000000001,0,0,0,null,null,1.9054610000000001,9.2208999999999999E-2,8.4329000000000001E-2,8.9233999999999994E-2,null,null,1.9054610000000001,0.134405,0.13062099999999999,0.171822,null,null,1.9054610000000001,0.117104,0.16692399999999999,0.161883,null,null,1.9054610000000001,0.138937,0.14343800000000001,0.123136,null,null,1.9054610000000001,0.14849000000000001,0.136493,0.15914400000000001,null,null,1.9054610000000001,0.17880799999999999,0.193772,0.16856099999999999,null,null,1.9054610000000001,0.436558,0.41716900000000001,0.45920800000000001,null,null,1.9054610000000001,0.25220700000000001,0.24401400000000001,0.20141100000000001,null,null,1.9054610000000001,0.17208100000000001,0.21307400000000001,0.216698,null,null,1.9054610000000001,0.24759700000000001,0.26931500000000003,0.24431600000000001,null,1.9054610000000001,0.201318,0.65633833333333336,0.57687833333333327,0.4168446666666667,0.33441833333333332,0.37107433333333334,0.27047433333333332,0.34046133333333334,0.29789733333333329,0.48626433333333335,0.27330033333333331,1.0616666666666668E-2,0.173647,0,8.5887000000000005E-2,0,8.8590666666666665E-2,0.145616,0.14863699999999999,0.13517033333333336,0.14804233333333333,0.18038033333333334,0.43764500000000001,0.232544,0.20061766666666667,0.25374266666666667]
[null,2.1877620000000002,0.26165899999999997,0.23755599999999999,0.19744600000000001,null,null,2.1877620000000002,0.70426800000000001,0.805562,0.74588600000000005,null,null,2.1877620000000002,0.649393,0.646818,0.67072299999999996,null,null,null,2.1877620000000002,0.46808300000000003,0.49289100000000002,0.494529,null,null,2.1877620000000002,0.38247500000000001,0.37906800000000002,0.37372,null,null,2.1877620000000002,0.440446,0.41162399999999999,0.42440499999999998,null,null,2.1877620000000002,0.28299600000000003,0.31750299999999998,0.33682699999999999,null,null,2.1877620000000002,0.34440900000000002,0.42788999999999999,0.39388299999999998,null,null,2.1877620000000002,0.34914299999999998,0.327297,0.34569699999999998,null,null,2.1877620000000002,0.55743900000000002,0.55294900000000002,0.54444800000000004,null,null,2.1877620000000002,0.33912199999999998,0.31627,0.307064,null,null,2.1877620000000002,0,8.7777999999999995E-2,0,null,null,2.1877620000000002,0.20214599999999999,0.19686999999999999,0.219751,null,null,2.1877620000000002,0,0,0,null,null,2.1877620000000002,0.10950600000000001,0.10842499999999999,9.9596000000000004E-2,null,null,2.1877620000000002,0,0,2.0896999999999999E-2,null,null,2.1877620000000002,0.112885,0.103422,0.11012,null,null,2.1877620000000002,0.15698200000000001,0.15263499999999999,0.199299,null,null,2.1877620000000002,0.137437,0.19181999999999999,0.18584100000000001,null,null,2.1877620000000002,0.16351299999999999,0.168292,0.144067,null,null,2.1877620000000002,0.173928,0.16111200000000001,0.18664800000000001,null,null,2.1877620000000002,0.20960999999999999,0.22689200000000001,0.197183,null,null,2.1877620000000002,0.50363500000000005,0.47823300000000002,0.525953,null,null,2.1877620000000002,0.29480000000000001,0.28526299999999999,0.23611699999999999,null,null,2.1877620000000002,0.20191000000000001,0.247305,0.252307,null,null,2.1877620000000002,0.286161,0.31179600000000002,0.28135700000000002,null,2.1877620000000002,0.23222033333333333,0.75190533333333331,0.65564466666666665,0.48516766666666666,0.37842100000000006,0.42549166666666666,0.312442,0.38872733333333337,0.34071233333333328,0.55161199999999999,0.32081866666666664,2.9259333333333332E-2,0.20625566666666664,0,0.10584233333333333,6.965666666666666E-3,0.108809,0.16963866666666669,0.17169933333333334,0.15862400000000001,0.17389600000000002,0.21122833333333335,0.50260700000000003,0.27206000000000002,0.23384066666666667,0.29310466666666674]
[null,2.5118860000000001,0.29941400000000001,0.27209299999999997,0.22720000000000001,null,null,2.5118860000000001,0.79932999999999998,0.91489900000000002,0.84662000000000004,null,null,2.5118860000000001,0.73394000000000004,0.73084800000000005,0.75922599999999996,null,null,null,2.5118860000000001,0.54031499999999999,0.56761899999999998,0.569407,null,null,2.5118860000000001,0.43479400000000001,0.43110999999999999,0.42680899999999999,null,null,2.5118860000000001,0.49621799999999999,0.46604200000000001,0.48037000000000002,null,null,2.5118860000000001,0.32472499999999999,0.36450199999999999,0.38522200000000001,null,null,2.5118860000000001,0.39188800000000001,0.48488500000000001,0.44620100000000001,null,null,2.5118860000000001,0.39628000000000002,0.37161,0.39325599999999999,null,null,2.5118860000000001,0.62994499999999998,0.62474399999999997,0.62238400000000005,null,null,2.5118860000000001,0.39333200000000001,0.36707699999999999,0.356512,null,null,2.5118860000000001,2.3616999999999999E-2,0.10498,0,null,null,2.5118860000000001,0.23768600000000001,0.231485,0.257828,null,null,2.5118860000000001,0,0,1.6036000000000002E-2,null,null,2.5118860000000001,0.13281499999999999,0.13178100000000001,0.121517,null,null,2.5118860000000001,0,0,2.3115E-2,null,null,2.5118860000000001,0.13661300000000001,0.125337,0.13358200000000001,null,null,2.5118860000000001,0.180622,0.175673,0.228135,null,null,2.5118860000000001,0.158778,0.218087,0.21113599999999999,null,null,2.5118860000000001,0.19051299999999999,0.19547999999999999,0.166878,null,null,2.5118860000000001,0.20102400000000001,0.18768399999999999,0.21610799999999999,null,null,2.5118860000000001,0.242844,0.26266400000000001,0.22816600000000001,null,null,2.5118860000000001,0.57916500000000004,0.54689100000000002,0.601051,null,null,2.5118860000000001,0.34150199999999997,0.33027099999999998,0.273928,null,null,2.5118860000000001,0.23397699999999999,0.28403099999999998,0.29058400000000001,null,null,2.5118860000000001,0.32899299999999998,0.358852,0.32233400000000001,null,2.5118860000000001,0.2662356666666667,0.85361633333333342,0.74133799999999994,0.55911366666666662,0.43090433333333333,0.48087666666666667,0.35814966666666664,0.44099133333333335,0.38704866666666665,0.625691,0.372307,4.286566666666667E-2,0.24233299999999999,5.3453333333333339E-3,0.12870433333333334,7.705E-3,0.13184399999999999,0.19481000000000001,0.19600033333333333,0.18429033333333333,0.20160533333333333,0.24455800000000003,0.57570233333333343,0.31523366666666663,0.26953066666666664,0.33672633333333329]
[null,2.8840309999999998,0.338279,0.30765700000000001,0.257685,null,null,2.8840309999999998,0.89499899999999999,1.02504,0.94810000000000005,null,null,2.8840309999999998,0.821469,0.817639,0.85000600000000004,null,null,null,2.8840309999999998,0.61368699999999998,0.64368199999999998,0.64541999999999999,null,null,2.8840309999999998,0.49296499999999999,0.48896000000000001,0.48658200000000001,null,null,2.8840309999999998,0.54839599999999999,0.51703699999999997,0.532698,null,null,2.8840309999999998,0.36675799999999997,0.41189399999999998,0.43449399999999999,null,null,2.8840309999999998,0.439695,0.542408,0.498973,null,null,2.8840309999999998,0.44464900000000002,0.41681200000000002,0.44136500000000001,null,null,2.8840309999999998,0.70809800000000001,0.70241399999999998,0.706623,null,null,2.8840309999999998,0.44814999999999999,0.41863699999999998,0.40661199999999997,null,null,2.8840309999999998,4.9695999999999997E-2,0.123486,0,null,null,2.8840309999999998,0.27286899999999997,0.26573799999999997,0.29573700000000003,null,null,2.8840309999999998,0,5.0245999999999999E-2,5.7881000000000002E-2,null,null,2.8840309999999998,0.15706200000000001,0.156084,0.144231,null,null,2.8840309999999998,4.7857999999999998E-2,5.5939000000000003E-2,6.8449999999999997E-2,null,null,2.8840309999999998,0.16083900000000001,0.14771699999999999,0.15742200000000001,null,null,2.8840309999999998,0.20310800000000001,0.19747300000000001,0.25572400000000001,null,null,2.8840309999999998,0.17888799999999999,0.243144,0.23525799999999999,null,null,2.8840309999999998,0.21779899999999999,0.22284899999999999,0.18961500000000001,null,null,2.8840309999999998,0.227049,0.213617,0.244729,null,null,2.8840309999999998,0.27541900000000002,0.29771900000000001,0.258579,null,null,2.8840309999999998,0.65981400000000001,0.61983500000000002,0.68080099999999999,null,null,2.8840309999999998,0.38861800000000002,0.37545000000000001,0.31163099999999999,null,null,2.8840309999999998,0.265401,0.32008300000000001,0.32825599999999999,null,null,2.8840309999999998,0.37335400000000002,0.40750599999999998,0.36449100000000001,null,2.8840309999999998,0.301207,0.95604633333333344,0.82970466666666665,0.63426299999999991,0.48950233333333332,0.53271033333333329,0.40438199999999996,0.49369199999999996,0.43427533333333335,0.70571166666666674,0.42446633333333333,5.7727333333333332E-2,0.27811466666666668,3.6042333333333336E-2,0.15245900000000001,5.7415666666666663E-2,0.15532599999999999,0.21876833333333334,0.21909666666666663,0.21008766666666667,0.228465,0.27723900000000001,0.6534833333333333,0.35856633333333332,0.30458000000000002,0.38178366666666669]
[null,3.3113109999999999,0.37629499999999999,0.34243200000000001,0.28726699999999999,null,null,3.3113109999999999,0.987155,1.1308670000000001,1.045334,null,null,3.3113109999999999,0.90899399999999997,0.90430200000000005,0.93972100000000003,null,null,null,3.3113109999999999,0.68409299999999995,0.71675500000000003,0.71824900000000003,null,null,3.3113109999999999,0.55495899999999998,0.55060200000000004,0.55103500000000005,null,null,3.3113109999999999,0.59361600000000003,0.56103199999999998,0.57774499999999995,null,null,3.3113109999999999,0.40658699999999998,0.45691199999999998,0.48205799999999999,null,null,3.3113109999999999,0.48544799999999999,0.59749600000000003,0.54949999999999999,null,null,3.3113109999999999,0.49186800000000003,0.46071899999999999,0.48751299999999997,null,null,3.3113109999999999,0.79089600000000004,0.78499200000000002,0.79505199999999998,null,null,3.3113109999999999,0.50047699999999995,0.46790100000000001,0.454372,null,null,3.3113109999999999,6.0388999999999998E-2,0.14262900000000001,0,null,null,3.3113109999999999,0.30424499999999999,0.296267,0.32982800000000001,null,null,3.3113109999999999,0,6.9003999999999996E-2,6.9467000000000001E-2,null,null,3.3113109999999999,0.18020900000000001,0.17924300000000001,0.16578799999999999,null,null,3.3113109999999999,6.83E-2,7.9142000000000004E-2,8.6410000000000001E-2,null,null,3.3113109999999999,0.182981,0.16828499999999999,0.179289,null,null,3.3113109999999999,0.22278400000000001,0.21634,0.28005000000000002,null,null,3.3113109999999999,0.19580700000000001,0.26483499999999999,0.25609300000000002,null,null,3.3113109999999999,0.24332799999999999,0.248387,0.21060100000000001,null,null,3.3113109999999999,0.249337,0.236322,0.26976899999999998,null,null,3.3113109999999999,0.30445299999999997,0.32890200000000003,0.28564000000000001,null,null,3.3113109999999999,0.74331000000000003,0.694828,0.76254500000000003,null,null,3.3113109999999999,0.432695,0.41753699999999999,0.34631200000000001,null,null,3.3113109999999999,0.293404,0.352325,0.362037,null,null,3.3113109999999999,0.417271,0.45564700000000002,0.40592499999999998,null,3.3113109999999999,0.33533133333333337,1.0544519999999999,0.91767233333333331,0.70636566666666667,0.55219866666666662,0.57746433333333325,0.44851899999999995,0.54414799999999997,0.48003333333333337,0.79031333333333331,0.47425,6.7672666666666673E-2,0.3101133333333333,4.6157000000000004E-2,0.17507999999999999,7.7950666666666668E-2,0.17685166666666666,0.23972466666666667,0.23891166666666666,0.23410533333333336,0.25180933333333333,0.30633166666666667,0.73356099999999991,0.39884800000000004,0.335922,0.42628100000000008]
[null,3.8018939999999999,0.411943,0.375004,0.31468200000000002,null,null,3.8018939999999999,1.0721350000000001,1.2278359999999999,1.1338509999999999,null,null,3.8018939999999999,0.99457099999999998,0.989008,1.026213,null,null,null,3.8018939999999999,0.74769099999999999,0.78280300000000003,0.78392799999999996,null,null,3.8018939999999999,0.61903200000000003,0.61431999999999998,0.61836899999999995,null,null,3.8018939999999999,0.62957799999999997,0.59561900000000001,0.61311199999999999,null,null,3.8018939999999999,0.44247900000000001,0.497475,0.52603100000000003,null,null,3.8018939999999999,0.52761499999999995,0.64820500000000003,0.59599999999999997,null,null,3.8018939999999999,0.53570600000000002,0.50132900000000002,0.52957399999999999,null,null,3.8018939999999999,0.87860300000000002,0.87264200000000003,0.88708100000000001,null,null,3.8018939999999999,0.54765900000000001,0.51220200000000005,0.497166,null,null,3.8018939999999999,7.1157999999999999E-2,0.16059499999999999,0,null,null,3.8018939999999999,0.32929599999999998,0.32061200000000001,0.35742000000000002,null,null,3.8018939999999999,1.1195E-2,7.6009999999999994E-2,7.7475000000000002E-2,null,null,3.8018939999999999,0.20058000000000001,0.19949,0.184471,null,null,3.8018939999999999,7.6714000000000004E-2,8.8255E-2,9.5905000000000004E-2,null,null,3.8018939999999999,0.20097200000000001,0.18529000000000001,0.19723099999999999,null,null,3.8018939999999999,0.238759,0.231402,0.299954,null,null,3.8018939999999999,0.20818600000000001,0.28173900000000002,0.27224399999999999,null,null,3.8018939999999999,0.26542900000000003,0.27047199999999999,0.22867299999999999,null,null,3.8018939999999999,0.265739,0.25367899999999999,0.288991,null,null,3.8018939999999999,0.32772299999999999,0.35376999999999997,0.30715199999999998,null,null,3.8018939999999999,0.82864099999999996,0.77090700000000001,0.84491899999999998,null,null,3.8018939999999999,0.471055,0.45408300000000001,0.37582399999999999,null,null,3.8018939999999999,0.315722,0.37811099999999997,0.389075,null,null,3.8018939999999999,0.45982099999999998,0.50231700000000001,0.44583099999999998,null,3.8018939999999999,0.36720966666666666,1.1446073333333333,1.0032639999999999,0.77147399999999999,0.61724033333333328,0.61276966666666677,0.48866166666666661,0.59060666666666661,0.52220299999999997,0.87944200000000006,0.51900900000000005,7.7251E-2,0.33577600000000002,5.4893333333333329E-2,0.19484699999999999,8.6957999999999994E-2,0.19449766666666668,0.25670500000000002,0.25405633333333338,0.25485799999999997,0.26946966666666666,0.32954833333333328,0.81482233333333332,0.43365399999999998,0.36096933333333331,0.46932299999999999]
[null,4.3651580000000001,0.44392799999999999,0.40414800000000001,0.33884599999999998,null,null,4.3651580000000001,1.1458969999999999,1.311037,1.209047,null,null,4.3651580000000001,1.0765940000000001,1.0702659999999999,1.107799,null,null,null,4.3651580000000001,0.80055399999999999,0.83780200000000005,0.83853299999999997,null,null,4.3651580000000001,0.68344899999999997,0.67837199999999998,0.68660200000000005,null,null,4.3651580000000001,0.65502899999999997,0.61962600000000001,0.63765799999999995,null,null,4.3651580000000001,0.47332200000000002,0.53207899999999997,0.56503599999999998,null,null,4.3651580000000001,0.56526200000000004,0.69333400000000001,0.63739500000000004,null,null,4.3651580000000001,0.57392500000000002,0.53664599999999996,0.56560500000000002,null,null,4.3651580000000001,0.97195799999999999,0.96590500000000001,0.98277800000000004,null,null,4.3651580000000001,0.58719399999999999,0.54899200000000004,0.53251999999999999,null,null,4.3651580000000001,7.8518000000000004E-2,0.17619799999999999,0,null,null,4.3651580000000001,0.34684399999999999,0.33760099999999998,0.37723200000000001,null,null,4.3651580000000001,2.1226999999999999E-2,7.9097000000000001E-2,8.0124000000000001E-2,null,null,4.3651580000000001,0.21685399999999999,0.215473,0.19905,null,null,4.3651580000000001,8.0413999999999999E-2,9.1522000000000006E-2,0.103299,null,null,4.3651580000000001,0.21357699999999999,0.197686,0.21022199999999999,null,null,4.3651580000000001,0.25095600000000001,0.242677,0.31517899999999999,null,null,4.3651580000000001,0.21549699999999999,0.29335499999999998,0.28321299999999999,null,null,4.3651580000000001,0.28286099999999997,0.28791800000000001,0.24318999999999999,null,null,4.3651580000000001,0.27492,0.26429900000000001,0.30094199999999999,null,null,4.3651580000000001,0.34389399999999998,0.37085800000000002,0.32177,null,null,4.3651580000000001,0.91520500000000005,0.84768600000000005,0.92712000000000006,null,null,4.3651580000000001,0.50194899999999998,0.48355700000000001,0.39891399999999999,null,null,4.3651580000000001,0.33080500000000002,0.395561,0.407246,null,null,4.3651580000000001,0.50086900000000001,0.54741600000000001,0.48426599999999997,null,4.3651580000000001,0.3956406666666667,1.2219936666666666,1.0848863333333334,0.8256296666666666,0.6828076666666667,0.63743766666666668,0.52347900000000003,0.63199700000000003,0.5587253333333333,0.97354700000000005,0.5562353333333333,8.4905333333333333E-2,0.35389233333333331,6.0149333333333332E-2,0.21045900000000003,9.1745000000000007E-2,0.20716166666666666,0.26960400000000001,0.26402166666666665,0.27132299999999998,0.28005366666666665,0.34550733333333339,0.89667033333333335,0.46147333333333335,0.37787066666666669,0.5108503333333333]
[null,5.0118720000000003,0.47223100000000001,0.42982799999999999,0.35969699999999999,null,null,5.0118720000000003,1.2063159999999999,1.377963,1.2687660000000001,null,null,5.0118720000000003,1.156271,1.1493640000000001,1.185732,null,null,null,5.0118720000000003,0.84075200000000005,0.87994600000000001,0.88033300000000003,null,null,5.0118720000000003,0.74879799999999996,0.74329900000000004,0.75598299999999996,null,null,5.0118720000000003,0.67080499999999998,0.63408500000000001,0.65246400000000004,null,null,5.0118720000000003,0.49969400000000003,0.56108100000000005,0.599526,null,null,5.0118720000000003,0.59923099999999996,0.73382599999999998,0.67463200000000001,null,null,5.0118720000000003,0.60574899999999998,0.56604100000000002,0.59518400000000005,null,null,5.0118720000000003,1.0748500000000001,1.0684640000000001,1.0857209999999999,null,null,5.0118720000000003,0.61817299999999997,0.57720700000000003,0.55945999999999996,null,null,5.0118720000000003,8.6114999999999997E-2,0.18795600000000001,0,null,null,5.0118720000000003,0.35811999999999999,0.34839500000000001,0.39052300000000001,null,null,5.0118720000000003,1.9982E-2,8.3337999999999995E-2,8.4276000000000004E-2,null,null,5.0118720000000003,0.228937,0.22708800000000001,0.209456,null,null,5.0118720000000003,8.2929000000000003E-2,9.3561000000000005E-2,0.10587299999999999,null,null,5.0118720000000003,0.22125300000000001,0.205988,0.21887499999999999,null,null,5.0118720000000003,0.26056699999999999,0.2515,0.326959,null,null,5.0118720000000003,0.21848300000000001,0.30065799999999998,0.28996699999999997,null,null,5.0118720000000003,0.295603,0.30074899999999999,0.25458599999999998,null,null,5.0118720000000003,0.277111,0.268291,0.30579499999999998,null,null,5.0118720000000003,0.35340500000000002,0.38064100000000001,0.32986599999999999,null,null,5.0118720000000003,1.005107,0.92737000000000003,1.011137,null,null,5.0118720000000003,0.52593000000000001,0.50660499999999997,0.41623199999999999,null,null,5.0118720000000003,0.33871299999999999,0.404609,0.416269,null,null,5.0118720000000003,0.54222099999999995,0.59297900000000003,0.52321600000000001,null,5.0118720000000003,0.42058533333333331,1.2843483333333332,1.1637890000000002,0.86701033333333333,0.74935999999999992,0.65245133333333338,0.55343366666666671,0.66922966666666672,0.58899133333333342,1.0763450000000001,0.58494666666666673,9.1357000000000008E-2,0.3656793333333333,6.253199999999999E-2,0.221827,9.412100000000001E-2,0.21537199999999998,0.27967533333333333,0.26970266666666665,0.28364600000000001,0.28373233333333331,0.3546373333333333,0.98120466666666672,0.48292233333333329,0.38653033333333336,0.55280533333333326]
[null,5.7543990000000003,0.49680999999999997,0.45203599999999999,0.37725599999999998,null,null,5.7543990000000003,1.250264,1.425406,1.3104880000000001,null,null,5.7543990000000003,1.233989,1.226728,1.2605820000000001,null,null,null,5.7543990000000003,0.86661200000000005,0.90781100000000003,0.90794299999999994,null,null,5.7543990000000003,0.81569599999999998,0.80966199999999999,0.82657400000000003,null,null,5.7543990000000003,0.67879999999999996,0.64114400000000005,0.65972299999999995,null,null,5.7543990000000003,0.52254100000000003,0.58529500000000001,0.63013699999999995,null,null,5.7543990000000003,0.630463,0.77075800000000005,0.70883399999999996,null,null,5.7543990000000003,0.63049500000000003,0.58898099999999998,0.61804199999999998,null,null,5.7543990000000003,1.1899869999999999,1.1829419999999999,1.198639,null,null,5.7543990000000003,0.63984200000000002,0.59598899999999999,0.57728699999999999,null,null,5.7543990000000003,9.0131000000000003E-2,0.194245,0,null,null,5.7543990000000003,0.36617100000000002,0.35595700000000002,0.400366,null,null,5.7543990000000003,2.1115999999999999E-2,8.4436999999999998E-2,8.5380999999999999E-2,null,null,5.7543990000000003,0.23750399999999999,0.23504,0.21642400000000001,null,null,5.7543990000000003,8.0766000000000004E-2,9.0159000000000003E-2,0.10421800000000001,null,null,5.7543990000000003,0.22583900000000001,0.21193000000000001,0.22514799999999999,null,null,5.7543990000000003,0.26941100000000001,0.25990099999999999,0.33725500000000003,null,null,5.7543990000000003,0.218865,0.305566,0.29444199999999998,null,null,5.7543990000000003,0.30423800000000001,0.30957099999999999,0.26369799999999999,null,null,5.7543990000000003,0.273947,0.26704600000000001,0.30507499999999999,null,null,5.7543990000000003,0.35791899999999999,0.38495499999999999,0.33305000000000001,null,null,5.7543990000000003,1.0987389999999999,1.0107680000000001,1.097604,null,null,5.7543990000000003,0.54460600000000003,0.52481900000000004,0.42934299999999997,null,null,5.7543990000000003,0.34070299999999998,0.40651399999999999,0.417271,null,null,5.7543990000000003,0.585426,0.64074799999999998,0.56447599999999998,null,5.7543990000000003,0.44203399999999998,1.3287193333333336,1.2404330000000001,0.89412199999999997,0.81731066666666663,0.65988900000000006,0.57932433333333333,0.70335166666666671,0.61250599999999999,1.1905226666666666,0.60437266666666678,9.4792000000000001E-2,0.3741646666666667,6.3644666666666669E-2,0.229656,9.1714333333333342E-2,0.22097233333333333,0.28885566666666668,0.27295766666666665,0.29250233333333336,0.2820226666666667,0.35864133333333337,1.069037,0.49958933333333339,0.38816266666666666,0.59688333333333332]
[null,6.6069339999999999,0.51904600000000001,0.47210999999999997,0.392704,null,null,6.6069339999999999,1.27668,1.4528620000000001,1.3343579999999999,null,null,6.6069339999999999,1.313466,1.3060339999999999,1.336241,null,null,null,6.6069339999999999,0.87880199999999997,0.92248799999999997,0.92242999999999997,null,null,6.6069339999999999,0.88897099999999996,0.88220699999999996,0.902721,null,null,6.6069339999999999,0.68232199999999998,0.64432699999999998,0.66300400000000004,null,null,6.6069339999999999,0.54445100000000002,0.60739100000000001,0.65936600000000001,null,null,6.6069339999999999,0.66163000000000005,0.80731299999999995,0.74309999999999998,null,null,6.6069339999999999,0.64914300000000003,0.60645300000000002,0.63549199999999995,null,null,6.6069339999999999,1.3246420000000001,1.3166690000000001,1.32911,null,null,6.6069339999999999,0.65318799999999999,0.606182,0.58697500000000002,null,null,6.6069339999999999,9.0650999999999995E-2,0.193826,0,null,null,6.6069339999999999,0.37618299999999999,0.365398,0.412024,null,null,6.6069339999999999,2.1193E-2,8.4557999999999994E-2,8.5736999999999994E-2,null,null,6.6069339999999999,0.24471100000000001,0.24149399999999999,0.22206000000000001,null,null,6.6069339999999999,7.6343999999999995E-2,8.4307000000000007E-2,9.9139000000000005E-2,null,null,6.6069339999999999,0.23085600000000001,0.21881100000000001,0.232679,null,null,6.6069339999999999,0.28020899999999999,0.27079900000000001,0.34908,null,null,6.6069339999999999,0.21926200000000001,0.31102099999999999,0.299618,null,null,6.6069339999999999,0.31049500000000002,0.31611400000000001,0.27212799999999998,null,null,6.6069339999999999,0.26841500000000001,0.26328699999999999,0.30174000000000001,null,null,6.6069339999999999,0.360541,0.38721699999999998,0.33435900000000002,null,null,6.6069339999999999,1.19885,1.1008450000000001,1.1895990000000001,null,null,6.6069339999999999,0.56150699999999998,0.54156599999999999,0.44127,null,null,6.6069339999999999,0.33945700000000001,0.404109,0.41306300000000001,null,null,6.6069339999999999,0.63340700000000005,0.69401400000000002,0.61115699999999995,null,6.6069339999999999,0.46128666666666662,1.3546333333333334,1.3185803333333332,0.90790666666666653,0.89129966666666671,0.66321766666666671,0.60373600000000005,0.73734766666666662,0.63036266666666674,1.3234736666666667,0.61544833333333337,9.4825666666666655E-2,0.38453500000000002,6.3829333333333335E-2,0.23608833333333334,8.6596666666666655E-2,0.22744866666666666,0.30002933333333331,0.27663366666666667,0.29957899999999998,0.27781400000000001,0.36070566666666665,1.163098,0.51478100000000004,0.38554299999999997,0.64619266666666675]
[null,7.5857760000000001,0.53974800000000001,0.49088700000000002,0.40693400000000002,null,null,7.5857760000000001,1.283758,1.4592609999999999,1.340214,null,null,7.5857760000000001,1.3954930000000001,1.3879760000000001,1.413791,null,null,null,7.5857760000000001,0.87841999999999998,0.92537599999999998,0.92513500000000004,null,null,7.5857760000000001,0.97284800000000005,0.96510200000000002,0.98815600000000003,null,null,7.5857760000000001,0.684392,0.64694300000000005,0.66563600000000001,null,null,7.5857760000000001,0.56750199999999995,0.62958700000000001,0.68882399999999999,null,null,7.5857760000000001,0.69431200000000004,0.84547300000000003,0.77936700000000003,null,null,7.5857760000000001,0.66222300000000001,0.61894400000000005,0.64842699999999998,null,null,7.5857760000000001,1.4813430000000001,1.472388,1.480389,null,null,7.5857760000000001,0.65930500000000003,0.60896499999999998,0.58981799999999995,null,null,7.5857760000000001,8.6857000000000004E-2,0.18598600000000001,0,null,null,7.5857760000000001,0.39360499999999998,0.38218400000000002,0.43087999999999999,null,null,7.5857760000000001,2.1378999999999999E-2,8.3741999999999997E-2,8.5430000000000006E-2,null,null,7.5857760000000001,0.25328600000000001,0.24915899999999999,0.229016,null,null,7.5857760000000001,7.1207999999999994E-2,7.7826000000000006E-2,9.2838000000000004E-2,null,null,7.5857760000000001,0.240346,0.230294,0.245477,null,null,7.5857760000000001,0.29525600000000002,0.28664299999999998,0.364952,null,null,7.5857760000000001,0.22244700000000001,0.31981700000000002,0.30835299999999999,null,null,7.5857760000000001,0.31619900000000001,0.32217200000000001,0.281055,null,null,7.5857760000000001,0.26435599999999998,0.26050699999999999,0.29951299999999997,null,null,7.5857760000000001,0.36462899999999998,0.39116800000000002,0.33721099999999998,null,null,7.5857760000000001,1.302411,1.195338,1.285031,null,null,7.5857760000000001,0.57963900000000002,0.55962800000000001,0.45458500000000002,null,null,7.5857760000000001,0.33826200000000001,0.40090500000000001,0.40734700000000001,null,null,7.5857760000000001,0.68618599999999996,0.75289099999999998,0.66347900000000004,null,7.5857760000000001,0.47918966666666662,1.3610776666666666,1.3990866666666666,0.90964366666666674,0.97536866666666666,0.66565700000000005,0.62863766666666665,0.77305066666666677,0.64319799999999994,1.47804,0.61936266666666662,9.0947666666666663E-2,0.402223,6.3517000000000004E-2,0.24382033333333333,8.0624000000000001E-2,0.23870566666666668,0.31561699999999998,0.28353900000000004,0.30647533333333338,0.27479199999999998,0.36433599999999999,1.2609266666666665,0.53128399999999998,0.38217133333333336,0.70085199999999992]
[null,8.7096359999999997,0.56073099999999998,0.51009300000000002,0.42161399999999999,null,null,8.7096359999999997,1.2709729999999999,1.44476,1.329007,null,null,8.7096359999999997,1.4839610000000001,1.4763059999999999,1.4971639999999999,null,null,null,8.7096359999999997,0.86757499999999999,0.91886699999999999,0.91834400000000005,null,null,8.7096359999999997,1.07738,1.0683,1.092705,null,null,8.7096359999999997,0.68704200000000004,0.65139599999999998,0.670014,null,null,8.7096359999999997,0.59464700000000004,0.65498800000000001,0.72119800000000001,null,null,8.7096359999999997,0.73116300000000001,0.88857200000000003,0.82075699999999996,null,null,8.7096359999999997,0.67091900000000004,0.62745700000000004,0.658362,null,null,8.7096359999999997,1.6686939999999999,1.658919,1.6617230000000001,null,null,8.7096359999999997,0.66017499999999996,0.60641599999999996,0.58791800000000005,null,null,8.7096359999999997,7.8375E-2,0.170788,0,null,null,8.7096359999999997,0.423703,0.41167599999999999,0.46205299999999999,null,null,8.7096359999999997,2.1582E-2,8.2669999999999993E-2,8.5188E-2,null,null,8.7096359999999997,0.26674100000000001,0.26139600000000002,0.240567,null,null,8.7096359999999997,6.7959000000000006E-2,7.3685E-2,8.8088E-2,null,null,8.7096359999999997,0.25837399999999999,0.250135,0.267625,null,null,8.7096359999999997,0.31679099999999999,0.30973499999999998,0.38724700000000001,null,null,8.7096359999999997,0.23074700000000001,0.33434799999999998,0.32308999999999999,null,null,8.7096359999999997,0.32332499999999997,0.32967299999999999,0.29145100000000002,null,null,8.7096359999999997,0.26524700000000001,0.26194899999999999,0.30184100000000003,null,null,8.7096359999999997,0.37312800000000002,0.40009899999999998,0.34468199999999999,null,null,8.7096359999999997,1.407518,1.292896,1.3828750000000001,null,null,8.7096359999999997,0.601746,0.58153299999999997,0.47144799999999998,null,null,8.7096359999999997,0.34014499999999998,0.400063,0.40353699999999998,null,null,8.7096359999999997,0.74382899999999996,0.81762699999999999,0.72162199999999999,null,8.7096359999999997,0.49747933333333333,1.3482466666666666,1.4858103333333332,0.90159533333333342,1.0794616666666668,0.66948400000000008,0.65694433333333335,0.81349733333333329,0.65224599999999999,1.6631119999999999,0.61816966666666673,8.3054333333333327E-2,0.43247733333333332,6.314666666666667E-2,0.25623466666666667,7.6577333333333331E-2,0.25871133333333335,0.33792433333333333,0.29606166666666667,0.31481633333333331,0.27634566666666666,0.37263633333333335,1.3610963333333335,0.55157566666666658,0.38124833333333336,0.76102599999999987]
[null,10,0.58257099999999995,0.53027199999999997,0.437554,null,null,10,1.239096,1.410496,1.302265,null,null,10,1.5775539999999999,1.569558,1.585172,null,null,null,10,0.84928999999999999,0.90577799999999997,0.90480099999999997,null,null,10,1.209414,1.19861,1.223204,null,null,10,0.69009200000000004,0.65779299999999996,0.67621200000000004,null,null,10,0.62680000000000002,0.68474599999999997,0.75688900000000003,null,null,10,0.77229800000000004,0.93702600000000003,0.86747700000000005,null,null,10,0.675732,0.63226000000000004,0.66601600000000005,null,null,10,1.8850100000000001,1.874776,1.8722749999999999,null,null,10,0.65779600000000005,0.60094000000000003,0.583561,null,null,10,6.6978999999999997E-2,0.15038699999999999,0,null,null,10,0.46741300000000002,0.45503399999999999,0.50612199999999996,null,null,10,2.1756000000000001E-2,8.1753000000000006E-2,8.5341E-2,null,null,10,0.28747600000000001,0.28042,0.25890200000000002,null,null,10,6.9440000000000002E-2,7.5023999999999993E-2,8.8243000000000002E-2,null,null,10,0.28629199999999999,0.27940300000000001,0.30020400000000003,null,null,10,0.344665,0.33973799999999998,0.41570800000000002,null,null,10,0.244668,0.35470299999999999,0.34389399999999998,null,null,10,0.332814,0.339472,0.30277599999999999,null,null,10,0.273177,0.26958399999999999,0.310726,null,null,10,0.38686700000000002,0.41501399999999999,0.35794599999999999,null,null,10,1.5033399999999999,1.3837930000000001,1.473708,null,null,10,0.62724899999999995,0.60660000000000003,0.49120900000000001,null,null,10,0.346775,0.40344999999999998,0.40400799999999998,null,null,10,0.80088999999999999,0.88236400000000004,0.780142,null,10,0.5167989999999999,1.3172856666666668,1.5774280000000001,0.88662300000000005,1.2104093333333334,0.67469900000000005,0.6894783333333333,0.85893366666666671,0.65800266666666662,1.8773536666666668,0.61409900000000006,7.245533333333333E-2,0.47618966666666668,6.2950000000000006E-2,0.27559933333333331,7.7568999999999999E-2,0.28863300000000003,0.36670366666666671,0.31442166666666665,0.32502066666666662,0.2844956666666667,0.38660899999999998,1.4536136666666666,0.57501933333333333,0.3847443333333333,0.82113199999999997]
[null,11.481536,0.60692900000000005,0.55291100000000004,0.45628099999999999,null,null,11.481536,1.1889110000000001,1.3569830000000001,1.2607649999999999,null,null,11.481536,1.679711,1.670995,1.680863,null,null,null,11.481536,0.82644099999999998,0.88867600000000002,0.88704300000000003,null,null,11.481536,1.3843669999999999,1.371354,1.395308,null,null,11.481536,0.69098499999999996,0.66391999999999995,0.68195099999999997,null,null,11.481536,0.66564199999999996,0.720688,0.79753200000000002,null,null,11.481536,0.81939600000000001,0.99307500000000004,0.92135699999999998,null,null,11.481536,0.67767900000000003,0.63408600000000004,0.672628,null,null,11.481536,2.1385269999999998,2.128253,2.1206580000000002,null,null,11.481536,0.65414000000000005,0.59485200000000005,0.57885600000000004,null,null,11.481536,5.4607999999999997E-2,0.12770400000000001,0,null,null,11.481536,0.522895,0.51065499999999997,0.56084199999999995,null,null,11.481536,2.1786E-2,8.1102999999999995E-2,8.5851999999999998E-2,null,null,11.481536,0.31750400000000001,0.30791600000000002,0.28569099999999997,null,null,11.481536,7.8090999999999994E-2,8.4371000000000002E-2,9.6155000000000004E-2,null,null,11.481536,0.32346399999999997,0.31751200000000002,0.34247300000000003,null,null,11.481536,0.37822499999999998,0.37569399999999997,0.44944800000000001,null,null,11.481536,0.263235,0.37975199999999998,0.36951800000000001,null,null,11.481536,0.34513199999999999,0.35194799999999998,0.31406400000000001,null,null,11.481536,0.288157,0.28355799999999998,0.32619799999999999,null,null,11.481536,0.40484500000000001,0.434892,0.37646200000000002,null,null,11.481536,1.58172,1.4607030000000001,1.550478,null,null,11.481536,0.654111,0.63281900000000002,0.51179799999999998,null,null,11.481536,0.35805399999999998,0.41097499999999998,0.40904099999999999,null,null,11.481536,0.85281899999999999,0.94226500000000002,0.83439600000000003,null,11.481536,0.53870699999999994,1.2688863333333333,1.6771896666666664,0.86738666666666664,1.3836763333333331,0.67895200000000011,0.72795399999999999,0.91127599999999997,0.66146433333333332,2.129146,0.60928266666666675,6.0770666666666667E-2,0.53146400000000005,6.2913666666666659E-2,0.30370366666666665,8.6205666666666667E-2,0.32781633333333332,0.40112233333333336,0.33750166666666664,0.33704799999999996,0.29930433333333334,0.40539966666666666,1.5309670000000002,0.599576,0.39268999999999998,0.87649333333333335]
[null,13.182567000000001,0.63405999999999996,0.57815399999999995,0.47809499999999999,null,null,13.182567000000001,1.12551,1.288761,1.208143,null,null,13.182567000000001,1.7882020000000001,1.7782629999999999,1.7817989999999999,null,null,null,13.182567000000001,0.80398700000000001,0.871502,0.86913200000000002,null,null,13.182567000000001,1.6083229999999999,1.592697,1.6158060000000001,null,null,13.182567000000001,0.68489699999999998,0.66486599999999996,0.68229499999999998,null,null,13.182567000000001,0.70974400000000004,0.76176299999999997,0.84197500000000003,null,null,13.182567000000001,0.87109199999999998,1.0552170000000001,0.98054200000000002,null,null,13.182567000000001,0.67824399999999996,0.63412400000000002,0.679535,null,null,13.182567000000001,2.4205369999999999,2.4105590000000001,2.3987889999999998,null,null,13.182567000000001,0.65123699999999995,0.59072599999999997,0.57594900000000004,null,null,13.182567000000001,2.8757999999999999E-2,0.10853400000000001,0,null,null,13.182567000000001,0.57912399999999997,0.56770500000000002,0.61492400000000003,null,null,13.182567000000001,2.1794000000000001E-2,8.0433000000000004E-2,8.6080000000000004E-2,null,null,13.182567000000001,0.354827,0.34173500000000001,0.31885599999999997,null,null,13.182567000000001,9.4566999999999998E-2,0.102159,0.112791,null,null,13.182567000000001,0.36294700000000002,0.35786200000000001,0.387042,null,null,13.182567000000001,0.41286899999999999,0.41234300000000002,0.48361100000000001,null,null,13.182567000000001,0.28211900000000001,0.40471600000000002,0.39491500000000002,null,null,13.182567000000001,0.35909999999999997,0.36582500000000001,0.32314100000000001,null,null,13.182567000000001,0.306473,0.30064800000000003,0.34460099999999999,null,null,13.182567000000001,0.42253099999999999,0.45478299999999999,0.39618599999999998,null,null,13.182567000000001,1.6292390000000001,1.5110490000000001,1.6008830000000001,null,null,13.182567000000001,0.67633699999999997,0.65438799999999997,0.527891,null,null,13.182567000000001,0.37098700000000001,0.41992400000000002,0.416329,null,null,13.182567000000001,0.89135900000000001,0.98806799999999995,0.87571100000000002,null,13.182567000000001,0.56343633333333332,1.2074713333333333,1.7827546666666667,0.84820700000000004,1.6056086666666667,0.6773526666666666,0.77116066666666672,0.96895033333333336,0.66396766666666662,2.4099616666666668,0.60597066666666666,4.5763999999999999E-2,0.58725099999999997,6.2769000000000005E-2,0.33847266666666664,0.10317233333333335,0.36928366666666673,0.43627433333333338,0.36058333333333331,0.3493553333333333,0.31724066666666667,0.42449999999999993,1.5803903333333331,0.61953866666666668,0.40241333333333335,0.91837933333333333]
[null,15.135612,0.66622899999999996,0.60798600000000003,0.50457099999999999,null,null,15.135612,1.0526489999999999,1.208464,1.1463380000000001,null,null,15.135612,1.908763,1.8969849999999999,1.8929910000000001,null,null,null,15.135612,0.78646000000000005,0.85778299999999996,0.85481399999999996,null,null,15.135612,1.89869,1.8800809999999999,1.9029480000000001,null,null,15.135612,0.66593899999999995,0.65483400000000003,0.67144800000000004,null,null,15.135612,0.75989200000000001,0.80906199999999995,0.892038,null,null,15.135612,0.92942499999999995,1.1257349999999999,1.046816,null,null,15.135612,0.68029600000000001,0.63493900000000003,0.68966099999999997,null,null,15.135612,2.7361789999999999,2.7265760000000001,2.7120440000000001,null,null,15.135612,0.65076500000000004,0.59058100000000002,0.57637700000000003,null,null,15.135612,2.4278000000000001E-2,9.8210000000000006E-2,0,null,null,15.135612,0.62256100000000003,0.61269300000000004,0.65485499999999996,null,null,15.135612,2.2556E-2,7.9427999999999999E-2,8.5281999999999997E-2,null,null,15.135612,0.39649000000000001,0.37875599999999998,0.3553,null,null,15.135612,0.11788999999999999,0.126946,0.137124,null,null,15.135612,0.39583000000000002,0.39233099999999999,0.424873,null,null,15.135612,0.44450899999999999,0.44493500000000002,0.514073,null,null,15.135612,0.29620800000000003,0.42476700000000001,0.41491600000000001,null,null,15.135612,0.37370599999999998,0.38002599999999997,0.32886900000000002,null,null,15.135612,0.32238099999999997,0.31585099999999999,0.360379,null,null,15.135612,0.43461899999999998,0.468802,0.41222599999999998,null,null,15.135612,1.639913,1.529325,1.6197839999999999,null,null,15.135612,0.68839499999999998,0.66600099999999995,0.53445500000000001,null,null,15.135612,0.38123000000000001,0.42613299999999998,0.421705,null,null,15.135612,0.91338299999999994,1.0160180000000001,0.90049699999999999,null,15.135612,0.59292866666666655,1.1358170000000001,1.8995796666666667,0.83301899999999984,1.8939063333333335,0.66407366666666667,0.82033066666666665,1.0339919999999998,0.66829866666666671,2.724933,0.60590766666666662,4.0829333333333336E-2,0.63003633333333331,6.2421999999999998E-2,0.37684866666666667,0.12731999999999999,0.40434466666666663,0.46783899999999995,0.37863033333333335,0.36086699999999999,0.33287033333333332,0.43854900000000002,1.5963406666666666,0.62961699999999998,0.40968933333333335,0.94329933333333338]
[null,17.378008000000001,0.70474599999999998,0.643509,0.53608999999999996,null,null,17.378008000000001,0.97986300000000004,1.1247689999999999,1.0817859999999999,null,null,17.378008000000001,2.0425430000000002,2.0283950000000002,2.0154290000000001,null,null,null,17.378008000000001,0.77979399999999999,0.85214100000000004,0.84905200000000003,null,null,17.378008000000001,2.2550940000000002,2.233444,2.2575919999999998,null,null,17.378008000000001,0.63067200000000001,0.62973100000000004,0.64544400000000002,null,null,17.378008000000001,0.81489699999999998,0.86194499999999996,0.94822200000000001,null,null,17.378008000000001,0.99433199999999999,1.203905,1.1193070000000001,null,null,17.378008000000001,0.68809399999999998,0.64058499999999996,0.70674700000000001,null,null,17.378008000000001,3.071075,3.0614699999999999,3.0461870000000002,null,null,17.378008000000001,0.65411900000000001,0.59587900000000005,0.58102200000000004,null,null,17.378008000000001,2.8649999999999998E-2,0.10194599999999999,0,null,null,17.378008000000001,0.63427500000000003,0.62640200000000001,0.66246099999999997,null,null,17.378008000000001,4.3E-3,7.5338000000000002E-2,8.0332000000000001E-2,null,null,17.378008000000001,0.43473000000000001,0.41156399999999999,0.38761099999999998,null,null,17.378008000000001,0.143099,0.15301100000000001,0.16356699999999999,null,null,17.378008000000001,0.40890900000000002,0.408665,0.44240200000000002,null,null,17.378008000000001,0.46718799999999999,0.46681099999999998,0.53532000000000002,null,null,17.378008000000001,0.29913400000000001,0.43400899999999998,0.42325000000000002,null,null,17.378008000000001,0.38714999999999999,0.39277200000000001,0.33136599999999999,null,null,17.378008000000001,0.32730100000000001,0.32154100000000002,0.36524899999999999,null,null,17.378008000000001,0.43495400000000001,0.46997699999999998,0.418296,null,null,17.378008000000001,1.6133599999999999,1.5147660000000001,1.6068899999999999,null,null,17.378008000000001,0.68515700000000002,0.66278599999999999,0.52720199999999995,null,null,17.378008000000001,0.382936,0.424259,0.41947000000000001,null,null,17.378008000000001,0.91966999999999999,1.0260750000000001,0.90883800000000003,null,17.378008000000001,0.62811499999999998,1.0621393333333333,2.0287890000000002,0.82699566666666657,2.24871,0.63528233333333339,0.87502133333333332,1.1058479999999999,0.67847533333333343,3.0595773333333334,0.61033999999999999,4.3531999999999994E-2,0.641046,5.3323333333333334E-2,0.41130166666666668,0.15322566666666668,0.41999199999999998,0.48977300000000001,0.38546433333333335,0.37042933333333333,0.33803033333333338,0.44107566666666664,1.5783386666666666,0.62504833333333332,0.40888833333333335,0.95152766666666666]
[null,19.952622999999999,0.75387099999999996,0.688612,0.57497399999999999,null,null,19.952622999999999,0.91538299999999995,1.044991,1.0198449999999999,null,null,19.952622999999999,2.199179,2.1822560000000002,2.1584159999999999,null,null,null,19.952622999999999,0.78900300000000001,0.85873699999999997,0.85630799999999996,null,null,19.952622999999999,2.6871849999999999,2.662763,2.690588,null,null,19.952622999999999,0.57975600000000005,0.58948299999999998,0.60439200000000004,null,null,19.952622999999999,0.87836000000000003,0.92445100000000002,1.0163960000000001,null,null,19.952622999999999,1.070516,1.2941339999999999,1.202302,null,null,19.952622999999999,0.70789000000000002,0.65712300000000001,0.73661900000000002,null,null,19.952622999999999,3.424223,3.4137040000000001,3.3997489999999999,null,null,19.952622999999999,0.66237900000000005,0.60732900000000001,0.59008400000000005,null,null,19.952622999999999,3.6533999999999997E-2,0.121753,0,null,null,19.952622999999999,0.59956600000000004,0.59359200000000001,0.62432900000000002,null,null,19.952622999999999,0,7.3998999999999995E-2,7.6424000000000006E-2,null,null,19.952622999999999,0.46256900000000001,0.433666,0.40911999999999998,null,null,19.952622999999999,0.163351,0.17283499999999999,0.18421999999999999,null,null,19.952622999999999,0.39136300000000002,0.39702599999999999,0.42875600000000003,null,null,19.952622999999999,0.47860200000000003,0.47520400000000002,0.546014,null,null,19.952622999999999,0.28699000000000002,0.42999900000000002,0.41715200000000002,null,null,19.952622999999999,0.39935100000000001,0.40410699999999999,0.33416800000000002,null,null,19.952622999999999,0.31336799999999998,0.310699,0.351742,null,null,19.952622999999999,0.42039199999999999,0.45455800000000002,0.41076699999999999,null,null,19.952622999999999,1.5600499999999999,1.477236,1.572775,null,null,19.952622999999999,0.66634400000000005,0.644652,0.50618600000000002,null,null,19.952622999999999,0.37167600000000001,0.41020699999999999,0.40462300000000001,null,null,19.952622999999999,0.92095899999999997,1.02895,0.910991,null,19.952622999999999,0.67248566666666665,0.99340633333333328,2.1799503333333332,0.83468266666666668,2.6801786666666665,0.59121033333333339,0.93973566666666686,1.188984,0.70054399999999994,3.412558666666667,0.61993066666666674,5.2762333333333335E-2,0.60582899999999995,5.0140999999999998E-2,0.43511833333333333,0.17346866666666663,0.40571499999999999,0.49994000000000005,0.37804700000000002,0.37920866666666669,0.32526966666666662,0.42857233333333333,1.5366869999999999,0.6057273333333334,0.39550200000000002,0.95363333333333333]
[null,22.908677000000001,0.817554,0.74701600000000001,0.62297599999999997,null,null,22.908677000000001,0.87270700000000001,0.98336900000000005,0.97153,null,null,22.908677000000001,2.3835850000000001,2.3638970000000001,2.3276729999999999,null,null,null,22.908677000000001,0.81807799999999997,0.88162799999999997,0.88072899999999998,null,null,22.908677000000001,3.1796030000000002,3.153302,3.1876820000000001,null,null,22.908677000000001,0.52498699999999998,0.54392700000000005,0.55846899999999999,null,null,22.908677000000001,0.95512699999999995,1.001835,1.1036459999999999,null,null,22.908677000000001,1.161675,1.3991020000000001,1.2989539999999999,null,null,22.908677000000001,0.74690000000000001,0.69180600000000003,0.78512000000000004,null,null,22.908677000000001,3.77739,3.764662,3.753387,null,null,22.908677000000001,0.67633299999999996,0.62468100000000004,0.60312600000000005,null,null,22.908677000000001,4.8819000000000001E-2,0.15415999999999999,0,null,null,22.908677000000001,0.51522699999999999,0.51012999999999997,0.53930100000000003,null,null,22.908677000000001,0,4.4382999999999999E-2,4.4141E-2,null,null,22.908677000000001,0.47363499999999997,0.43979699999999999,0.41419600000000001,null,null,22.908677000000001,0.17000100000000001,0.17723700000000001,0.18851299999999999,null,null,22.908677000000001,0.33928199999999997,0.353659,0.37982300000000002,null,null,22.908677000000001,0.48093799999999998,0.472331,0.549925,null,null,22.908677000000001,0.261295,0.41601100000000002,0.39983999999999997,null,null,22.908677000000001,0.41208899999999998,0.41611900000000002,0.34509099999999998,null,null,22.908677000000001,0.27671299999999999,0.27967199999999998,0.31639299999999998,null,null,22.908677000000001,0.39426899999999998,0.425819,0.39156299999999999,null,null,22.908677000000001,1.5047079999999999,1.439667,1.5412030000000001,null,null,22.908677000000001,0.64023099999999999,0.619896,0.47949900000000001,null,null,22.908677000000001,0.347333,0.38421100000000002,0.37610700000000002,null,null,22.908677000000001,0.93874899999999994,1.046918,0.92823599999999995,null,22.908677000000001,0.72918200000000011,0.94253533333333339,2.3583849999999997,0.86014500000000005,3.1735290000000003,0.54246099999999997,1.0202026666666666,1.2865770000000001,0.74127533333333329,3.7651463333333335,0.63471333333333335,6.765966666666666E-2,0.52155266666666666,2.9507999999999996E-2,0.4425426666666667,0.1785836666666667,0.35758800000000002,0.5010646666666666,0.35904866666666663,0.39109966666666668,0.29092599999999996,0.40388366666666659,1.4951926666666668,0.5798753333333333,0.36921699999999996,0.97130099999999997]
[null,26.302679999999999,0.90381400000000001,0.82636900000000002,0.68499699999999997,null,null,26.302679999999999,0.86594899999999997,0.95594100000000004,0.94997900000000002,null,null,26.302679999999999,2.607526,2.5856110000000001,2.5360520000000002,null,null,null,26.302679999999999,0.87020699999999995,0.92538600000000004,0.92665500000000001,null,null,26.302679999999999,3.7243689999999998,3.6977220000000002,3.7417099999999999,null,null,26.302679999999999,0.48894900000000002,0.51324400000000003,0.52831899999999998,null,null,26.302679999999999,1.0580860000000001,1.1071519999999999,1.2248870000000001,null,null,26.302679999999999,1.2767550000000001,1.527331,1.418237,null,null,26.302679999999999,0.81457000000000002,0.75406399999999996,0.86000399999999999,null,null,26.302679999999999,4.1236519999999999,4.107361,4.0984889999999998,null,null,26.302679999999999,0.69784299999999999,0.64838600000000002,0.620749,null,null,26.302679999999999,6.1501E-2,0.190472,0,null,null,26.302679999999999,0.39605699999999999,0.38975300000000002,0.42450100000000002,null,null,26.302679999999999,0,6.4349999999999997E-3,5.9509999999999997E-3,null,null,26.302679999999999,0.46867300000000001,0.431923,0.40412599999999999,null,null,26.302679999999999,0.15431600000000001,0.15795400000000001,0.16714300000000001,null,null,26.302679999999999,0.26072699999999999,0.28578399999999998,0.303562,null,null,26.302679999999999,0.48502699999999999,0.469443,0.55988800000000005,null,null,26.302679999999999,0.23155400000000001,0.40404499999999999,0.38347700000000001,null,null,26.302679999999999,0.43160300000000001,0.435471,0.37755,null,null,26.302679999999999,0.22059400000000001,0.23103099999999999,0.26278299999999999,null,null,26.302679999999999,0.368981,0.39701199999999998,0.371338,null,null,26.302679999999999,1.482807,1.4359170000000001,1.547301,null,null,26.302679999999999,0.62563500000000005,0.60712699999999997,0.464671,null,null,26.302679999999999,0.31656200000000001,0.35289100000000001,0.33899899999999999,null,null,26.302679999999999,1.0062549999999999,1.1152949999999999,0.99414199999999997,null,26.302679999999999,0.80506,0.92395633333333338,2.5763963333333333,0.907416,3.7212669999999997,0.51017066666666666,1.1300416666666668,1.4074409999999997,0.80954599999999999,4.1098340000000002,0.65565933333333337,8.3990999999999996E-2,0.40343699999999999,4.1286666666666668E-3,0.43490733333333331,0.15980433333333335,0.28335766666666667,0.50478600000000007,0.33969200000000005,0.41487466666666667,0.23813599999999999,0.37911033333333327,1.488675,0.56581100000000006,0.33615066666666671,1.038564]
[null,30.199517,1.020265,0.93416299999999997,0.76619300000000001,null,null,30.199517,0.91235699999999997,0.98463000000000001,0.97409599999999996,null,null,30.199517,2.8750070000000001,2.8521619999999999,2.789927,null,null,null,30.199517,0.94595899999999999,0.99395500000000003,0.99728600000000001,null,null,30.199517,4.2884840000000004,4.263592,4.3195139999999999,null,null,30.199517,0.508189,0.53116699999999994,0.54826799999999998,null,null,30.199517,1.203179,1.2561119999999999,1.396442,null,null,30.199517,1.4229609999999999,1.685516,1.5676319999999999,null,null,30.199517,0.91876000000000002,0.85184499999999996,0.96669000000000005,null,null,30.199517,4.4441329999999999,4.4234929999999997,4.4145009999999996,null,null,30.199517,0.73006400000000005,0.67996599999999996,0.64534199999999997,null,null,30.199517,6.9544999999999996E-2,0.215306,0,null,null,30.199517,0.28611500000000001,0.27548699999999998,0.32611400000000001,null,null,30.199517,0,0,0,null,null,30.199517,0.45922400000000002,0.423008,0.39097700000000002,null,null,30.199517,0.118994,0.117365,0.118172,null,null,30.199517,0.18363499999999999,0.21843000000000001,0.227573,null,null,30.199517,0.511486,0.48826000000000003,0.59841999999999995,null,null,30.199517,0.21874099999999999,0.41691800000000001,0.39149,null,null,30.199517,0.46867399999999998,0.47347,0.44905800000000001,null,null,30.199517,0.16123899999999999,0.178674,0.20711099999999999,null,null,30.199517,0.36925599999999997,0.39509300000000003,0.37269200000000002,null,null,30.199517,1.5388489999999999,1.5082789999999999,1.6345670000000001,null,null,30.199517,0.65385400000000005,0.63708200000000004,0.49051400000000001,null,null,30.199517,0.29655199999999998,0.33301399999999998,0.30893999999999999,null,null,30.199517,1.1626289999999999,1.2766029999999999,1.1488849999999999,null,30.199517,0.90687366666666669,0.95702766666666672,2.839032,0.97906666666666664,4.2905299999999995,0.52920800000000001,1.2852443333333332,1.5587029999999997,0.91243166666666664,4.4273756666666664,0.68512399999999996,9.4950333333333317E-2,0.2959053333333333,0,0.42440300000000003,0.11817699999999999,0.20987933333333333,0.53272200000000003,0.34238300000000005,0.46373400000000004,0.18234133333333333,0.37901366666666664,1.5605649999999998,0.59381666666666666,0.3128353333333333,1.1960389999999999]
[null,34.673684999999999,1.1782969999999999,1.0815779999999999,0.875556,null,null,34.673684999999999,1.031026,1.0948359999999999,1.0670949999999999,null,null,34.673684999999999,3.1919089999999999,3.17022,3.0978140000000001,null,null,null,34.673684999999999,1.046554,1.093558,1.0976710000000001,null,null,34.673684999999999,4.8444669999999999,4.8235380000000001,4.8924649999999996,null,null,34.673684999999999,0.62853499999999995,0.64161500000000005,0.66294600000000004,null,null,34.673684999999999,1.4143190000000001,1.4719549999999999,1.6411169999999999,null,null,34.673684999999999,1.6107739999999999,1.8845080000000001,1.7583709999999999,null,null,34.673684999999999,1.067944,0.99336899999999995,1.1112629999999999,null,null,34.673684999999999,4.7274630000000002,4.7026669999999999,4.6891410000000002,null,null,34.673684999999999,0.78006699999999995,0.72529999999999994,0.68406,null,null,34.673684999999999,6.7780000000000007E-2,0.212476,0,null,null,34.673684999999999,0.25540000000000002,0.23653199999999999,0.31561899999999998,null,null,34.673684999999999,0,0,0,null,null,34.673684999999999,0.47161500000000001,0.4405,0.40104299999999998,null,null,34.673684999999999,5.2252E-2,4.9019E-2,4.2863999999999999E-2,null,null,34.673684999999999,0.15445400000000001,0.19334799999999999,0.19773399999999999,null,null,34.673684999999999,0.59122300000000005,0.56096100000000004,0.69800700000000004,null,null,34.673684999999999,0.25447599999999998,0.48764200000000002,0.457646,null,null,34.673684999999999,0.540408,0.54772900000000002,0.58157800000000004,null,null,34.673684999999999,0.12751599999999999,0.14760799999999999,0.17780000000000001,null,null,34.673684999999999,0.43111699999999997,0.45965699999999998,0.42995299999999997,null,null,34.673684999999999,1.7184379999999999,1.700879,1.8486130000000001,null,null,34.673684999999999,0.76653800000000005,0.75056900000000004,0.59497599999999995,null,null,34.673684999999999,0.31472600000000001,0.35107699999999997,0.31201499999999999,null,null,34.673684999999999,1.4500900000000001,1.577518,1.4362550000000001,null,34.673684999999999,1.0451436666666667,1.064319,3.1533143333333329,1.079261,4.8534899999999999,0.64436533333333335,1.5091303333333332,1.7512176666666666,1.0575253333333334,4.7064236666666668,0.72980899999999993,9.3418666666666664E-2,0.26918366666666665,0,0.43771933333333335,4.8045000000000004E-2,0.18184533333333333,0.61673033333333338,0.39992133333333335,0.55657166666666669,0.15097466666666667,0.44024233333333335,1.7559766666666665,0.70402766666666672,0.3259393333333333,1.4879543333333334]
[null,39.810716999999997,1.38686,1.2776320000000001,1.021992,null,null,39.810716999999997,1.2390190000000001,1.3112779999999999,1.253166,null,null,39.810716999999997,3.5521780000000001,3.5344180000000001,3.4566059999999998,null,null,null,39.810716999999997,1.1721029999999999,1.230553,1.2326330000000001,null,null,39.810716999999997,5.3499679999999996,5.3344959999999997,5.4153330000000004,null,null,39.810716999999997,0.89633799999999997,0.89086799999999999,0.919323,null,null,39.810716999999997,1.7140610000000001,1.7758830000000001,1.977325,null,null,39.810716999999997,1.8458749999999999,2.1307260000000001,1.9969440000000001,null,null,39.810716999999997,1.2656289999999999,1.181683,1.2952520000000001,null,null,39.810716999999997,4.9562850000000003,4.9288460000000001,4.9058229999999998,null,null,39.810716999999997,0.85868500000000003,0.79520900000000005,0.74946100000000004,null,null,39.810716999999997,5.1036999999999999E-2,0.166101,0,null,null,39.810716999999997,0.39654899999999998,0.36547000000000002,0.48523500000000003,null,null,39.810716999999997,0,0,0,null,null,39.810716999999997,0.54762,0.52657100000000001,0.47546500000000003,null,null,39.810716999999997,0,0,0,null,null,39.810716999999997,0.23677799999999999,0.26766499999999999,0.27668900000000002,null,null,39.810716999999997,0.76053800000000005,0.72523899999999997,0.89511399999999997,null,null,39.810716999999997,0.37809700000000002,0.65464299999999997,0.62119899999999995,null,null,39.810716999999997,0.66774100000000003,0.67942899999999995,0.79533200000000004,null,null,39.810716999999997,0.161634,0.174618,0.215943,null,null,39.810716999999997,0.597526,0.63830500000000001,0.58547099999999996,null,null,39.810716999999997,2.055453,2.0464799999999999,2.2230599999999998,null,null,39.810716999999997,1.0081329999999999,0.99090699999999998,0.81828999999999996,null,null,39.810716999999997,0.40714499999999998,0.44178099999999998,0.38423400000000002,null,null,39.810716999999997,1.897262,2.0511300000000001,1.886701,null,39.810716999999997,1.228828,1.2678209999999999,3.514400666666667,1.2117630000000001,5.3665989999999999,0.90217633333333325,1.8224229999999999,1.9911816666666666,1.2475213333333335,4.9303180000000006,0.80111833333333349,7.2379333333333337E-2,0.41575133333333336,0,0.51655200000000001,0,0.26037733333333329,0.79363033333333333,0.55131299999999994,0.71416733333333327,0.18406500000000001,0.60710066666666673,2.1083309999999997,0.93911,0.41105333333333333,1.9450310000000002]
[null,45.708818999999998,1.6545289999999999,1.530993,1.215986,null,null,45.708818999999998,1.550702,1.6551309999999999,1.554996,null,null,45.708818999999998,3.944105,3.9334129999999998,3.856833,null,null,null,45.708818999999998,1.3258529999999999,1.414345,1.410034,null,null,45.708818999999998,5.7675470000000004,5.7574880000000004,5.846711,null,null,45.708818999999998,1.350292,1.3194969999999999,1.358665,null,null,45.708818999999998,2.1239750000000002,2.187481,2.420248,null,null,45.708818999999998,2.1319149999999998,2.4290759999999998,2.2875700000000001,null,null,45.708818999999998,1.5134069999999999,1.4174450000000001,1.5188839999999999,null,null,45.708818999999998,5.1162359999999998,5.0889239999999996,5.0526039999999997,null,null,45.708818999999998,0.98241400000000001,0.90803999999999996,0.86145400000000005,null,null,45.708818999999998,2.0743999999999999E-2,7.5271000000000005E-2,0,null,null,45.708818999999998,0.80778499999999998,0.76136099999999995,0.93066000000000004,null,null,45.708818999999998,1.9559999999999998E-3,8.0599999999999997E-4,9.3499999999999996E-4,null,null,45.708818999999998,0.74153100000000005,0.73491700000000004,0.66713800000000001,null,null,45.708818999999998,1.4E-3,1.4400000000000001E-3,0,null,null,45.708818999999998,0.50015200000000004,0.50386399999999998,0.53261999999999998,null,null,45.708818999999998,1.056602,1.0191129999999999,1.22557,null,null,45.708818999999998,0.63098200000000004,0.95638000000000001,0.92097700000000005,null,null,45.708818999999998,0.87518300000000004,0.89282799999999995,1.1080190000000001,null,null,45.708818999999998,0.31292500000000001,0.30283500000000002,0.369232,null,null,45.708818999999998,0.91220699999999999,0.97977599999999998,0.884077,null,null,45.708818999999998,2.5648270000000002,2.5598960000000002,2.7730419999999998,null,null,45.708818999999998,1.419098,1.397297,1.197009,null,null,45.708818999999998,0.61359600000000003,0.643293,0.56683600000000001,null,null,45.708818999999998,2.5151020000000002,2.711951,2.512724,null,45.708818999999998,1.4671693333333333,1.586943,3.9114503333333333,1.3834106666666666,5.7905820000000006,1.3428180000000001,2.2439013333333331,2.2828536666666666,1.4832453333333333,5.0859213333333324,0.91730266666666671,3.2004999999999999E-2,0.83326866666666666,1.2323333333333333E-3,0.7145286666666667,9.4666666666666673E-4,0.512212,1.1004283333333333,0.83611300000000011,0.95867666666666673,0.32833066666666672,0.92535333333333336,2.6325883333333331,1.3378013333333332,0.60790833333333338,2.5799256666666666]
[null,52.480746000000003,1.9835769999999999,1.8443080000000001,1.4652080000000001,null,null,52.480746000000003,1.970772,2.1344669999999999,1.9849460000000001,null,null,52.480746000000003,4.3431129999999998,4.3423220000000002,4.2747789999999997,null,null,null,52.480746000000003,1.5137970000000001,1.65496,1.63887,null,null,52.480746000000003,6.0588699999999998,6.0521209999999996,6.1437949999999999,null,null,52.480746000000003,2.0056820000000002,1.9464410000000001,2.000391,null,null,52.480746000000003,2.6534010000000001,2.7134649999999998,2.9706700000000001,null,null,52.480746000000003,2.4647130000000002,2.7765119999999999,2.6258789999999999,null,null,52.480746000000003,1.807958,1.6961580000000001,1.7782450000000001,null,null,52.480746000000003,5.191395,5.1680260000000002,5.117178,null,null,52.480746000000003,1.1715009999999999,1.0884419999999999,1.045534,null,null,52.480746000000003,0,0,0,null,null,52.480746000000003,1.5671679999999999,1.504424,1.724645,null,null,52.480746000000003,8.8472999999999996E-2,4.8378999999999998E-2,5.6342000000000003E-2,null,null,52.480746000000003,1.1104670000000001,1.120789,1.0312509999999999,null,null,52.480746000000003,8.9376999999999998E-2,9.6171000000000006E-2,0,null,null,52.480746000000003,1.0027759999999999,0.95418899999999995,1.022071,null,null,52.480746000000003,1.5061789999999999,1.4692620000000001,1.712485,null,null,52.480746000000003,1.0455989999999999,1.4195990000000001,1.3832610000000001,null,null,52.480746000000003,1.185576,1.2095819999999999,1.527582,null,null,52.480746000000003,0.62818600000000002,0.57330099999999995,0.68251499999999998,null,null,52.480746000000003,1.4069259999999999,1.519933,1.360911,null,null,52.480746000000003,3.2288890000000001,3.2240709999999999,3.4804080000000002,null,null,52.480746000000003,2.0212249999999998,1.9903489999999999,1.751072,null,null,52.480746000000003,0.96812500000000001,0.98811099999999996,0.89740500000000001,null,null,52.480746000000003,3.2814030000000001,3.5386359999999999,3.2927430000000002,null,52.480746000000003,1.7643643333333336,2.0300616666666667,4.3200713333333338,1.6025423333333333,6.0849286666666664,1.9841713333333335,2.7791786666666667,2.6223679999999998,1.7607869999999999,5.1588663333333331,1.1018256666666666,0,1.5987456666666666,6.4397999999999997E-2,1.0875023333333333,6.1849333333333333E-2,0.99301199999999989,1.5626420000000001,1.2828196666666667,1.30758,0.62800066666666665,1.4292566666666666,3.3111226666666664,1.9208819999999998,0.95121366666666674,3.3709273333333329]
[null,60.255958999999997,2.3675039999999998,2.2117800000000001,1.7719119999999999,null,null,60.255958999999997,2.490221,2.7373799999999999,2.537795,null,null,60.255958999999997,4.7135629999999997,4.7243069999999996,4.6737450000000003,null,null,null,60.255958999999997,1.7459979999999999,1.961951,1.928831,null,null,60.255958999999997,6.1909510000000001,6.1836070000000003,6.2700389999999997,null,null,60.255958999999997,2.8425639999999999,2.756386,2.8292350000000002,null,null,60.255958999999997,3.2927070000000001,3.3412310000000001,3.6098029999999999,null,null,60.255958999999997,2.8315950000000001,3.1608710000000002,2.997897,null,null,60.255958999999997,2.1420430000000001,2.0094759999999998,2.0664289999999998,null,null,60.255958999999997,5.166461,5.1515139999999997,5.0878230000000002,null,null,60.255958999999997,1.447449,1.3649690000000001,1.329704,null,null,60.255958999999997,0,0,0,null,null,60.255958999999997,2.7018270000000002,2.6251989999999998,2.8866619999999998,null,null,60.255958999999997,0.168379,0.14192399999999999,0.164606,null,null,60.255958999999997,1.699916,1.726691,1.611343,null,null,60.255958999999997,0.31099700000000002,0.345275,0.23968900000000001,null,null,60.255958999999997,1.7697860000000001,1.641078,1.768556,null,null,60.255958999999997,2.1152099999999998,2.0801859999999999,2.3558490000000001,null,null,60.255958999999997,1.633869,2.0484260000000001,2.0105089999999999,null,null,60.255958999999997,1.615405,1.6437390000000001,2.048791,null,null,60.255958999999997,1.1383259999999999,1.013161,1.18496,null,null,60.255958999999997,2.0889899999999999,2.2678280000000002,2.028791,null,null,60.255958999999997,3.993077,3.985449,4.2888539999999997,null,null,60.255958999999997,2.805965,2.7607490000000001,2.4738540000000002,null,null,60.255958999999997,1.4881409999999999,1.4926159999999999,1.3986940000000001,null,null,60.255958999999997,4.1368939999999998,4.4688720000000002,4.1667350000000001,null,60.255958999999997,2.1170653333333331,2.5884653333333332,4.7038716666666671,1.8789266666666666,6.2148656666666673,2.8093950000000003,3.4145803333333333,2.9967876666666666,2.0726493333333331,5.1352660000000006,1.3807073333333335,0,2.7378959999999997,0.158303,1.6793166666666666,0.29865366666666665,1.7264733333333335,2.1837483333333334,1.8976013333333333,1.7693116666666668,1.1121489999999998,2.1285363333333334,4.0891266666666661,2.6801893333333333,1.4598169999999999,4.2575003333333328]
[null,69.183097000000004,2.7927849999999999,2.6208279999999999,2.1331980000000001,null,null,69.183097000000004,3.0892529999999998,3.4338860000000002,3.1910729999999998,null,null,69.183097000000004,5.0152409999999996,5.0372050000000002,5.0109469999999998,null,null,null,69.183097000000004,2.0389740000000001,2.3455270000000001,2.2918440000000002,null,null,69.183097000000004,6.1401190000000003,6.1275709999999997,6.2003709999999996,null,null,69.183097000000004,3.8077109999999998,3.7006299999999999,3.796065,null,null,69.183097000000004,4.0144830000000002,4.0403390000000003,4.3023389999999999,null,null,69.183097000000004,3.2154219999999998,3.5646460000000002,3.384029,null,null,69.183097000000004,2.508928,2.3500230000000002,2.3779970000000001,null,null,69.183097000000004,5.0279069999999999,5.0260769999999999,4.9533649999999998,null,null,69.183097000000004,1.8318909999999999,1.7684820000000001,1.7425349999999999,null,null,69.183097000000004,0,0,0,null,null,69.183097000000004,4.1743269999999999,4.0902710000000004,4.37066,null,null,69.183097000000004,0.27826800000000002,0.27825299999999997,0.3145,null,null,69.183097000000004,2.5338530000000001,2.57314,2.430094,null,null,69.183097000000004,0.71932200000000002,0.80151799999999995,0.67924899999999999,null,null,69.183097000000004,2.7824119999999999,2.5473309999999998,2.7519930000000001,null,null,69.183097000000004,2.8667989999999999,2.8321010000000002,3.131256,null,null,69.183097000000004,2.3835730000000002,2.8225180000000001,2.7793749999999999,null,null,69.183097000000004,2.1745749999999999,2.2014320000000001,2.6569340000000001,null,null,69.183097000000004,1.8514269999999999,1.629337,1.8836189999999999,null,null,69.183097000000004,2.9383159999999999,3.2022840000000001,2.8743780000000001,null,null,69.183097000000004,4.7769789999999999,4.764265,5.1146669999999999,null,null,69.183097000000004,3.7351200000000002,3.6702840000000001,3.3336100000000002,null,null,69.183097000000004,2.1702859999999999,2.1532179999999999,2.0734710000000001,null,null,69.183097000000004,4.9969760000000001,5.411321,5.0480390000000002,null,69.183097000000004,2.5156036666666668,3.2380706666666668,5.0211309999999996,2.2254483333333335,6.1560203333333332,3.7681353333333334,4.1190536666666668,3.3880323333333333,2.4123160000000001,5.0024496666666662,1.7809693333333334,0,4.2117526666666665,0.29034033333333337,2.5123623333333334,0.7333630000000001,2.6939119999999996,2.9433853333333335,2.6618220000000004,2.3443136666666664,1.7881276666666668,3.0049926666666664,4.8853036666666663,3.5796713333333336,2.1323249999999998,5.1521119999999998]
[null,79.432822999999999,3.230197,3.0438519999999998,2.5321449999999999,null,null,79.432822999999999,3.7259470000000001,4.1626709999999996,3.8912059999999999,null,null,79.432822999999999,5.2025589999999999,5.2328089999999996,5.2366159999999997,null,null,null,79.432822999999999,2.4079280000000001,2.8062480000000001,2.7323770000000001,null,null,79.432822999999999,5.8952460000000002,5.8739699999999999,5.9255360000000001,null,null,79.432822999999999,4.7983419999999999,4.6807400000000001,4.8009599999999999,null,null,79.432822999999999,4.7587190000000001,4.748723,4.9840229999999996,null,null,79.432822999999999,3.5894309999999998,3.9591370000000001,3.754149,null,null,79.432822999999999,2.8963770000000002,2.70662,2.704971,null,null,79.432822999999999,4.7687629999999999,4.7840730000000002,4.7072700000000003,null,null,79.432822999999999,2.3338719999999999,2.3177479999999999,2.2986119999999999,null,null,79.432822999999999,0,0,0,null,null,79.432822999999999,5.8436399999999997,5.7624149999999998,6.0276610000000002,null,null,79.432822999999999,0.42714099999999999,0.48228599999999999,0.52433700000000005,null,null,79.432822999999999,3.5850610000000001,3.6294940000000002,3.4607359999999998,null,null,79.432822999999999,1.3344720000000001,1.4863109999999999,1.3412759999999999,null,null,79.432822999999999,3.9491149999999999,3.5902150000000002,3.8810289999999998,null,null,79.432822999999999,3.7037300000000002,3.6637529999999998,3.972855,null,null,79.432822999999999,3.2395209999999999,3.6796829999999998,3.623777,null,null,79.432822999999999,2.8519950000000001,2.8667379999999998,3.317339,null,null,79.432822999999999,2.7313040000000002,2.3897430000000002,2.7428029999999999,null,null,79.432822999999999,3.887289,4.249663,3.8367049999999998,null,null,79.432822999999999,5.4714070000000001,5.4509619999999996,5.8425649999999996,null,null,79.432822999999999,4.7234999999999996,4.6352599999999997,4.2578050000000003,null,null,79.432822999999999,2.9721039999999999,2.9286300000000001,2.8849239999999998,null,null,79.432822999999999,5.7473390000000002,6.2402540000000002,5.8188909999999998,null,79.432822999999999,2.9353979999999997,3.9266079999999999,5.223994666666667,2.6488510000000001,5.8982506666666668,4.760014,4.8304883333333342,3.7675723333333333,2.769322666666667,4.7533686666666668,2.3167439999999999,0,5.8779053333333335,0.47792133333333336,3.5584303333333338,1.3873530000000001,3.8067863333333332,3.7801126666666662,3.5143269999999998,3.0120240000000003,2.6212833333333339,3.9912190000000005,5.5883113333333334,4.5388550000000008,2.9285526666666666,5.935494666666667]
[null,91.201083999999994,3.6512950000000002,3.454329,2.9505430000000001,null,null,91.201083999999994,4.3601559999999999,4.8602109999999996,4.5799279999999998,null,null,91.201083999999994,5.2400950000000002,5.2732970000000003,5.3117609999999997,null,null,null,91.201083999999994,2.8738619999999999,3.3460619999999999,3.2575229999999999,null,null,91.201083999999994,5.4569720000000004,5.4260440000000001,5.450507,null,null,91.201083999999994,5.7072010000000004,5.5926270000000002,5.7379769999999999,null,null,91.201083999999994,5.4622580000000003,5.4018579999999998,5.5908819999999997,null,null,91.201083999999994,3.9341759999999999,4.3219159999999999,4.0851879999999996,null,null,91.201083999999994,3.3006720000000001,3.0780829999999999,3.0499350000000001,null,null,91.201083999999994,4.3854839999999999,4.4207280000000004,4.3446660000000001,null,null,91.201083999999994,2.9589829999999999,3.027625,3.007666,null,null,91.201083999999994,8.3908999999999997E-2,0.110489,0,null,null,91.201083999999994,7.5263590000000002,7.460477,7.6692470000000004,null,null,91.201083999999994,0.63065300000000002,0.77757299999999996,0.81062699999999999,null,null,91.201083999999994,4.7992119999999998,4.8391630000000001,4.6510860000000003,null,null,91.201083999999994,2.155008,2.3984019999999999,2.2385130000000002,null,null,91.201083999999994,5.1457980000000001,4.6574590000000002,5.0327859999999998,null,null,91.201083999999994,4.558656,4.5032759999999996,4.8053229999999996,null,null,91.201083999999994,4.1328719999999999,4.5478209999999999,4.4673220000000002,null,null,91.201083999999994,3.6343000000000001,3.6209069999999999,4.0006120000000003,null,null,91.201083999999994,3.7232729999999998,3.2455419999999999,3.709686,null,null,91.201083999999994,4.8547969999999996,5.3215180000000002,4.8397019999999999,null,null,91.201083999999994,5.9819079999999998,5.9490660000000002,6.3707190000000002,null,null,91.201083999999994,5.6801640000000004,5.5673579999999996,5.1711739999999997,null,null,91.201083999999994,3.8377140000000001,3.7646289999999998,3.7805360000000001,null,null,91.201083999999994,6.2906019999999998,6.8465559999999996,6.3783580000000004,null,91.201083999999994,{"$f":"AVERAGE(C87:E87)","v":3.3520556666666668},{"$f":"AVERAGE(I87:K87)","v":4.6000983333333325},{"$f":"AVERAGE(O87:Q87)","v":5.2750510000000004},{"$f":"AVERAGE(V87:X87)","v":3.1591489999999998},{"$f":"AVERAGE(AB87:AD87)","v":5.4445076666666665},{"$f":"AVERAGE(AH87:AJ87)","v":5.6792683333333338},{"$f":"AVERAGE(AN87:AP87)","v":5.4849993333333336},{"$f":"AVERAGE(AT87:AV87)","v":4.1137599999999992},{"$f":"AVERAGE(AZ87:BB87)","v":3.1428966666666667},{"$f":"AVERAGE(BF87:BH87)","v":4.3836260000000005},{"$f":"AVERAGE(BL87:BN87)","v":2.9980913333333334},{"$f":"AVERAGE(BR87:BT87)","v":6.4799333333333334E-2},{"$f":"AVERAGE(BX87:BZ87)","v":7.5520276666666675},{"$f":"AVERAGE(CD87:CF87)","v":0.73961766666666673},{"$f":"AVERAGE(CJ87:CL87)","v":4.7631536666666667},{"$f":"AVERAGE(CP87:CR87)","v":2.2639743333333331},{"$f":"AVERAGE(CV87:CX87)","v":4.9453476666666667},{"$f":"AVERAGE(DB87:DD87)","v":4.6224183333333331},{"$f":"AVERAGE(DH87:DJ87)","v":4.382671666666667},{"$f":"AVERAGE(DN87:DP87)","v":3.7519396666666669},{"$f":"AVERAGE(DT87:DV87)","v":3.5595003333333328},{"$f":"AVERAGE(DZ87:EB87)","v":5.0053389999999993},{"$f":"AVERAGE(EF87:EH87)","v":6.1005643333333337},{"$f":"AVERAGE(EL87:EN87)","v":5.4728986666666666},{"$f":"AVERAGE(ER87:ET87)","v":3.7942929999999997},{"$f":"AVERAGE(EX87:EZ87)","v":6.5051719999999991}]
[null,104.712855,4.0132729999999999,3.8123320000000001,3.3526699999999998,null,null,104.712855,4.9307410000000003,5.4392690000000004,5.1726380000000001,null,null,104.712855,5.1045790000000002,5.1336890000000004,5.20946,null,null,null,104.712855,3.4379949999999999,3.9424399999999999,3.8509479999999998,null,null,104.712855,4.8552770000000001,4.8174229999999998,4.8122480000000003,null,null,104.712855,6.402609,6.3058769999999997,6.4734239999999996,null,null,104.712855,6.0369330000000003,5.9136170000000003,6.0411149999999996,null,null,104.712855,4.2256330000000002,4.6240620000000003,4.3506460000000002,null,null,104.712855,3.7090519999999998,3.4575870000000002,3.4113349999999998,null,null,104.712855,3.8959830000000002,3.9513569999999998,3.8799169999999998,null,null,104.712855,3.6790409999999998,3.872925,3.8397489999999999,null,null,104.712855,0.65231799999999995,0.67502200000000001,0.18199499999999999,null,null,104.712855,8.9567099999999993,8.9180299999999999,9.0306840000000008,null,null,104.712855,0.916605,1.1816690000000001,1.184952,null,null,104.712855,6.0484780000000002,6.0737860000000001,5.8779909999999997,null,null,104.712855,3.119847,3.470977,3.299191,null,null,104.712855,6.1855070000000003,5.5804650000000002,6.0248710000000001,null,null,104.712855,5.3277369999999999,5.2436579999999999,5.5195020000000001,null,null,104.712855,4.9533649999999998,5.3192490000000001,5.1997270000000002,null,null,104.712855,4.4728789999999998,4.4116049999999998,4.6574350000000004,null,null,104.712855,4.7215740000000004,4.1035740000000001,4.6827649999999998,null,null,104.712855,5.7169639999999999,6.2824809999999998,5.7603049999999998,null,null,104.712855,6.2225960000000002,6.1697249999999997,6.6046069999999997,null,null,104.712855,6.4823740000000001,6.3486250000000002,5.9693360000000002,null,null,104.712855,4.6696650000000002,4.5667359999999997,4.6613800000000003,null,null,104.712855,6.5390490000000003,7.1299739999999998,6.6350280000000001,null,104.712855,3.7260916666666666,5.1808826666666663,5.1492426666666669,3.7437943333333337,4.8283160000000001,6.3939700000000004,5.9972216666666656,4.4001136666666669,3.5259913333333333,3.9090856666666665,3.797238333333333,0.50311166666666662,8.9684746666666673,1.0944086666666666,6.0000850000000012,3.2966716666666667,5.9302810000000008,5.3636323333333324,5.1574470000000003,4.513973,4.5026376666666668,5.9199166666666665,6.332309333333332,6.2667783333333338,4.6325936666666676,6.7680170000000004]
[null,120.226443,4.2884099999999998,4.0935009999999998,3.7136879999999999,null,null,120.226443,5.3984690000000004,5.840401,5.609369,null,null,120.226443,4.7908150000000003,4.8085240000000002,4.9233289999999998,null,null,null,120.226443,4.1039130000000004,4.5788650000000004,4.5013500000000004,null,null,120.226443,4.1236899999999999,4.0845140000000004,4.0499150000000004,null,null,120.226443,6.8032560000000002,6.7377390000000004,6.9215309999999999,null,null,120.226443,6.4221089999999998,6.2263479999999998,6.2809999999999997,null,null,120.226443,4.4585549999999996,4.8544010000000002,4.543806,null,null,120.226443,4.1238900000000003,3.8551069999999998,3.8036810000000001,null,null,120.226443,3.3191980000000001,3.3923260000000002,3.3279619999999999,null,null,120.226443,4.4676390000000001,4.8268430000000002,4.7650730000000001,null,null,120.226443,1.8650960000000001,1.7943180000000001,1.2215210000000001,null,null,120.226443,9.9275950000000002,9.9250620000000005,9.9100380000000001,null,null,120.226443,1.3379920000000001,1.732545,1.6822600000000001,null,null,120.226443,7.216685,7.2180470000000003,7.0302259999999999,null,null,120.226443,4.160336,4.6302669999999999,4.4474960000000001,null,null,120.226443,6.9176630000000001,6.2231170000000002,6.7121259999999996,null,null,120.226443,5.9345059999999998,5.807124,6.0360529999999999,null,null,120.226443,5.6162400000000003,5.9163779999999999,5.742165,null,null,120.226443,5.331982,5.200583,5.2628370000000002,null,null,120.226443,5.6428979999999997,4.8907550000000004,5.5835869999999996,null,null,120.226443,6.3801920000000001,7.0315830000000004,6.5030720000000004,null,null,120.226443,6.158595,6.0741350000000001,6.5018260000000003,null,null,120.226443,7.0487520000000004,6.9029660000000002,6.586487,null,null,120.226443,5.3930309999999997,5.2620300000000002,5.4469719999999997,null,null,120.226443,6.459606,7.0500350000000003,6.553572,null,120.226443,4.0318663333333324,5.6160796666666668,4.8408893333333332,4.394709333333334,4.0860396666666672,6.8208419999999998,6.3098190000000001,4.6189206666666669,3.9275593333333334,3.3464953333333334,4.6865183333333329,1.6269783333333334,9.9208983333333336,1.5842656666666668,7.1549860000000001,4.4126996666666676,6.6176353333333324,5.9258943333333329,5.7582610000000001,5.2651339999999998,5.3724133333333342,6.6382823333333336,6.2448520000000007,6.8460683333333323,5.3673443333333326,6.687737666666667]
[null,138.03842599999999,4.4465159999999999,4.2712700000000003,3.9976820000000002,null,null,138.03842599999999,5.7143230000000003,6.0080600000000004,5.8300419999999997,null,null,138.03842599999999,4.3274600000000003,4.3285309999999999,4.4806439999999998,null,null,null,138.03842599999999,4.8285920000000004,5.2010290000000001,5.1567470000000002,null,null,138.03842599999999,3.3408419999999999,3.307115,3.2469920000000001,null,null,138.03842599999999,6.8576509999999997,6.8306060000000004,7.0210970000000001,null,null,138.03842599999999,6.5624469999999997,6.2935220000000003,6.2703870000000004,null,null,138.03842599999999,4.6277889999999999,5.0007840000000003,4.6616479999999996,null,null,138.03842599999999,4.5315260000000004,4.2668879999999998,4.2269509999999997,null,null,138.03842599999999,2.7109359999999998,2.796055,2.7397100000000001,null,null,138.03842599999999,5.2491180000000002,5.7983219999999998,5.6943039999999998,null,null,138.03842599999999,3.690601,3.4762059999999999,2.8494329999999999,null,null,138.03842599999999,10.255167999999999,10.291287000000001,10.137441000000001,null,null,138.03842599999999,1.9469609999999999,2.4512480000000001,2.3282829999999999,null,null,138.03842599999999,8.1387920000000005,8.1097859999999997,7.9476319999999996,null,null,138.03842599999999,5.1447430000000001,5.7329949999999998,5.5344030000000002,null,null,138.03842599999999,7.2021709999999999,6.4597059999999997,6.9635309999999997,null,null,138.03842599999999,6.2971450000000004,6.1163239999999996,6.2788259999999996,null,null,138.03842599999999,6.0279319999999998,6.2596109999999996,6.0194289999999997,null,null,138.03842599999999,6.1323270000000001,5.9126519999999996,5.7732099999999997,null,null,138.03842599999999,6.3787240000000001,5.5146129999999998,6.3096959999999997,null,null,138.03842599999999,6.746766,7.4634809999999998,6.9614760000000002,null,null,138.03842599999999,5.8029849999999996,5.6737789999999997,6.072527,null,null,138.03842599999999,7.3067279999999997,7.1639679999999997,6.9573749999999999,null,null,138.03842599999999,5.917573,5.7628199999999996,6.0338190000000003,null,null,138.03842599999999,6.0708599999999997,6.6233199999999997,6.1521910000000002,null,138.03842599999999,4.2384893333333338,5.8508083333333332,4.3788783333333337,5.0621226666666672,3.2983163333333336,6.9031180000000001,6.3754520000000001,4.7634069999999999,4.3417883333333336,2.7489003333333333,5.5805813333333338,3.3387466666666668,10.227965333333335,2.2421639999999998,8.0654033333333341,5.4707136666666676,6.8751360000000004,6.230764999999999,6.1023239999999994,5.9393963333333337,6.0676776666666656,7.0572410000000003,5.849763666666667,7.1426903333333334,5.9047373333333333,6.2821236666666662]
[null,158.48931899999999,4.4799179999999996,4.3423530000000001,4.1909910000000004,null,null,158.48931899999999,5.8586229999999997,5.9272130000000001,5.8155270000000003,null,null,158.48931899999999,3.7462029999999999,3.7288929999999998,3.9127550000000002,null,null,null,158.48931899999999,5.5743689999999999,5.7694340000000004,5.7772750000000004,null,null,158.48931899999999,2.560581,2.538068,2.4583110000000001,null,null,158.48931899999999,6.5811260000000003,6.5923049999999996,6.7774369999999999,null,null,158.48931899999999,6.4440119999999999,6.1097279999999996,6.0052620000000001,null,null,158.48931899999999,4.7445440000000003,5.0660429999999996,4.7173759999999998,null,null,158.48931899999999,4.93363,4.7042140000000003,4.694693,null,null,158.48931899999999,2.1095169999999999,2.1985269999999999,2.151081,null,null,158.48931899999999,5.9673210000000001,6.7142850000000003,6.5593130000000004,null,null,158.48931899999999,6.0836480000000002,5.6936980000000004,5.2094909999999999,null,null,158.48931899999999,9.8856680000000008,9.9567160000000001,9.6716080000000009,null,null,158.48931899999999,2.8240430000000001,3.3862369999999999,3.1806130000000001,null,null,158.48931899999999,8.7161829999999991,8.6523249999999994,8.5336970000000001,null,null,158.48931899999999,5.9814030000000002,6.6802710000000003,6.4550970000000003,null,null,158.48931899999999,6.9908489999999999,6.2469650000000003,6.7394439999999998,null,null,158.48931899999999,6.3865309999999997,6.1497529999999996,6.2259440000000001,null,null,158.48931899999999,6.1511060000000004,6.3242969999999996,6.0127119999999996,null,null,158.48931899999999,6.8246099999999998,6.5038819999999999,6.1749239999999999,null,null,158.48931899999999,6.8843779999999999,5.9407100000000002,6.8209340000000003,null,null,158.48931899999999,6.7797859999999996,7.541601,7.0908119999999997,null,null,158.48931899999999,5.2035520000000002,5.0158959999999997,5.3640850000000002,null,null,158.48931899999999,7.2438750000000001,7.1244079999999999,7.0708099999999998,null,null,158.48931899999999,6.2081299999999997,6.0347239999999998,6.3719320000000002,null,null,158.48931899999999,5.4281610000000002,5.9079620000000004,5.488029,null,158.48931899999999,4.3377540000000003,5.867121,3.7959503333333333,5.7070259999999999,2.5189866666666667,6.6502893333333333,6.1863339999999996,4.8426543333333329,4.777512333333334,2.1530416666666667,6.4136396666666675,5.6622790000000007,9.8379973333333339,3.1302976666666669,8.6340683333333335,6.3722570000000003,6.6590859999999994,6.2540760000000004,6.1627049999999999,6.5011386666666668,6.548674000000001,7.137399666666667,5.1945109999999994,7.1463643333333335,6.2049286666666665,5.6080506666666672]
[null,181.97008600000001,4.3920029999999999,4.3121660000000004,4.280062,null,null,181.97008600000001,5.8139519999999996,5.6130269999999998,5.5739340000000004,null,null,181.97008600000001,3.1180469999999998,3.086306,3.2888060000000001,null,null,null,181.97008600000001,6.2407149999999998,6.2049029999999998,6.2764220000000002,null,null,181.97008600000001,1.8698920000000001,1.860938,1.769854,null,null,181.97008600000001,6.0489620000000004,6.0880109999999998,6.2543040000000003,null,null,181.97008600000001,6.0873390000000001,5.7089610000000004,5.5231279999999998,null,null,181.97008600000001,4.8137129999999999,5.0496939999999997,4.7219889999999998,null,null,181.97008600000001,5.3022349999999996,5.1441929999999996,5.1827120000000004,null,null,181.97008600000001,1.580271,1.663457,1.6269499999999999,null,null,181.97008600000001,6.5215709999999998,7.4401679999999999,7.2375720000000001,null,null,181.97008600000001,8.6822680000000005,8.1390030000000007,7.9301779999999997,null,null,181.97008600000001,8.8867539999999998,8.9831859999999999,8.5989710000000006,null,null,181.97008600000001,3.9864929999999998,4.5212199999999996,4.2426909999999998,null,null,181.97008600000001,8.8598560000000006,8.7596729999999994,8.6978469999999994,null,null,181.97008600000001,6.554424,7.3428610000000001,7.0782639999999999,null,null,181.97008600000001,6.3258010000000002,5.6246809999999998,6.0907790000000004,null,null,181.97008600000001,6.2024520000000001,5.9226029999999996,5.8976980000000001,null,null,181.97008600000001,5.9800399999999998,6.1177400000000004,5.742184,null,null,181.97008600000001,7.3215469999999998,6.9018240000000004,6.4348330000000002,null,null,181.97008600000001,7.1231460000000002,6.1458449999999996,7.0821949999999996,null,null,181.97008600000001,6.4831190000000003,7.2718160000000003,6.8816959999999998,null,null,181.97008600000001,4.4632430000000003,4.2098040000000001,4.4899909999999998,null,null,181.97008600000001,6.888115,6.8139750000000001,6.9363330000000003,null,null,181.97008600000001,6.2476409999999998,6.0626480000000003,6.4260020000000004,null,null,181.97008600000001,4.645804,5.0281409999999997,4.6809529999999997,null,181.97008600000001,4.3280770000000004,5.6669710000000002,3.1643863333333329,6.2406800000000002,1.8335613333333332,6.1304256666666674,5.7731426666666676,4.8617986666666662,5.2097133333333332,1.6235593333333334,7.0664370000000005,8.2504830000000009,8.8229703333333322,4.2501346666666668,8.7724586666666671,6.991849666666667,6.0137536666666671,6.0075843333333339,5.9466546666666673,6.8860680000000007,6.7837286666666659,6.8788770000000001,4.3876793333333337,6.8794743333333335,6.2454303333333341,4.7849659999999998]
[null,208.92961299999999,4.198512,4.1997439999999999,4.2721499999999999,null,null,208.92961299999999,5.5749250000000004,5.0937780000000004,5.1321570000000003,null,null,208.92961299999999,2.4804059999999999,2.4428709999999998,2.644288,null,null,null,208.92961299999999,6.7475759999999996,6.4519080000000004,6.5902130000000003,null,null,208.92961299999999,1.2940050000000001,1.297215,1.2038709999999999,null,null,208.92961299999999,5.3468109999999998,5.3968720000000001,5.5294740000000004,null,null,208.92961299999999,5.5268870000000003,5.1357210000000002,4.865761,null,null,208.92961299999999,4.8391149999999996,4.9483389999999998,4.6818600000000004,null,null,208.92961299999999,5.6181900000000002,5.5697210000000004,5.6719200000000001,null,null,208.92961299999999,1.1408739999999999,1.208423,1.1877200000000001,null,null,208.92961299999999,6.8490859999999998,7.8868020000000003,7.6524080000000003,null,null,208.92961299999999,11.111991,10.487705999999999,10.658199,null,null,208.92961299999999,7.3970589999999996,7.5046099999999996,7.0650120000000003,null,null,208.92961299999999,5.45913,5.8596349999999999,5.5375430000000003,null,null,208.92961299999999,8.5549599999999995,8.4174159999999993,8.4218390000000003,null,null,208.92961299999999,6.8271490000000004,7.6758689999999996,7.3609349999999996,null,null,208.92961299999999,5.3070620000000002,4.6843560000000002,5.1240509999999997,null,null,208.92961299999999,5.776796,5.4831219999999998,5.3438379999999999,null,null,208.92961299999999,5.5495419999999998,5.6787179999999999,5.2577860000000003,null,null,208.92961299999999,7.5743669999999996,7.0701669999999996,6.5387829999999996,null,null,208.92961299999999,7.1155010000000001,6.1597119999999999,7.1120729999999996,null,null,208.92961299999999,5.89879,6.7025860000000002,6.3692529999999996,null,null,208.92961299999999,3.6566960000000002,3.3375430000000001,3.5336449999999999,null,null,208.92961299999999,6.2877739999999998,6.2812190000000001,6.5847689999999997,null,null,208.92961299999999,6.0643000000000002,5.8776570000000001,6.2104800000000004,null,null,208.92961299999999,3.8076490000000001,4.0742060000000002,3.8219569999999998,null,208.92961299999999,4.2234686666666663,5.2669533333333334,2.5225216666666666,6.5965656666666668,1.2650303333333333,5.4243856666666668,5.1761230000000005,4.8231046666666666,5.6199436666666669,1.1790056666666666,7.4627653333333335,10.752632,7.3222269999999989,5.6187693333333328,8.4647383333333313,7.2879843333333341,5.0384896666666661,5.5345853333333324,5.4953486666666658,7.0611056666666663,6.7957619999999999,6.3235429999999999,3.5092946666666669,6.3845873333333332,6.050812333333333,3.9012706666666666]
[null,239.88329200000001,3.9355889999999998,4.0371920000000001,4.1854620000000002,null,null,239.88329200000001,5.1539289999999998,4.4380490000000004,4.5552450000000002,null,null,239.88329200000001,1.8982490000000001,1.8665350000000001,2.0434079999999999,null,null,null,239.88329200000001,6.9809479999999997,6.4450630000000002,6.6385129999999997,null,null,239.88329200000001,0.86830399999999996,0.87834000000000001,0.79154199999999997,null,null,239.88329200000001,4.6021580000000002,4.6432399999999996,4.7280819999999997,null,null,239.88329200000001,4.8428000000000004,4.4781930000000001,4.1233570000000004,null,null,239.88329200000001,4.8112339999999998,4.7562870000000004,4.5926729999999996,null,null,239.88329200000001,5.8301179999999997,5.9170220000000002,6.0895799999999998,null,null,239.88329200000001,0.81549000000000005,0.86010500000000001,0.86125200000000002,null,null,239.88329200000001,6.8806690000000001,7.9549070000000004,7.7187400000000004,null,null,239.88329200000001,12.798410000000001,12.207955,12.760581999999999,null,null,239.88329200000001,5.6742290000000004,5.78118,5.338457,null,null,239.88329200000001,7.1039700000000003,7.269768,6.9544110000000003,null,null,239.88329200000001,7.850174,7.6769420000000004,7.74899,null,null,239.88329200000001,6.7925180000000003,7.6594139999999999,7.2953659999999996,null,null,239.88329200000001,4.1428950000000002,3.6176360000000001,4.046646,null,null,239.88329200000001,5.186286,4.9253419999999997,4.6685379999999999,null,null,239.88329200000001,4.9467759999999998,5.0904689999999997,4.6563860000000004,null,null,239.88329200000001,7.5308279999999996,6.9747880000000002,6.4647269999999999,null,null,239.88329200000001,6.9014720000000001,6.0299930000000002,6.9422350000000002,null,null,239.88329200000001,5.1311270000000002,5.941783,5.6486539999999996,null,null,239.88329200000001,2.893068,2.522824,2.6243129999999999,null,null,239.88329200000001,5.5368680000000001,5.6129759999999997,6.0721679999999996,null,null,239.88329200000001,5.7181499999999996,5.546017,5.7801640000000001,null,null,239.88329200000001,3.032305,3.1768749999999999,3.0398459999999998,null,239.88329200000001,4.052747666666666,4.7157410000000004,1.936064,6.6881746666666659,0.84606199999999987,4.6578266666666659,4.4814500000000006,4.7200646666666666,5.9455733333333329,0.84561566666666665,7.5181053333333336,12.588982333333334,5.5979553333333341,7.1093830000000002,7.7587019999999995,7.2490993333333336,3.9357256666666665,4.9267219999999998,4.8978770000000003,6.9901143333333335,6.6245666666666665,5.5738546666666666,2.6800683333333333,5.7406706666666665,5.6814436666666666,3.0830086666666667]
[null,275.42286999999999,3.6364109999999998,3.8544939999999999,4.0490089999999999,null,null,275.42286999999999,4.5560039999999997,3.687357,3.887648,null,null,275.42286999999999,1.386544,1.3715759999999999,1.502273,null,null,null,275.42286999999999,6.8718539999999999,6.1509679999999998,6.377084,null,null,275.42286999999999,0.57551699999999995,0.58520499999999998,0.51149599999999995,null,null,275.42286999999999,3.8835709999999999,3.8987599999999998,3.920776,null,null,275.42286999999999,4.0878620000000003,3.791315,3.3492980000000001,null,null,275.42286999999999,4.7114900000000004,4.4564329999999996,4.4355180000000001,null,null,275.42286999999999,5.8964509999999999,6.1297730000000001,6.3700859999999997,null,null,275.42286999999999,0.58626699999999998,0.60338999999999998,0.63286399999999998,null,null,275.42286999999999,6.592327,7.6057730000000001,7.4066850000000004,null,null,275.42286999999999,13.375362000000001,12.940117000000001,13.794276999999999,null,null,275.42286999999999,3.9031579999999999,4.00082,3.6039119999999998,null,null,275.42286999999999,8.7775390000000009,8.6321119999999993,8.3851410000000008,null,null,275.42286999999999,6.815976,6.6109689999999999,6.74878,null,null,275.42286999999999,6.506043,7.3388439999999999,6.9426750000000004,null,null,275.42286999999999,3.0040100000000001,2.5834440000000001,3.0253450000000002,null,null,275.42286999999999,4.495158,4.3260379999999996,3.95425,null,null,275.42286999999999,4.2524980000000001,4.420051,4.0140370000000001,null,null,275.42286999999999,7.1754790000000002,6.6118490000000003,6.2002449999999998,null,null,275.42286999999999,6.527717,5.81182,6.6096320000000004,null,null,275.42286999999999,4.2678820000000002,5.0754950000000001,4.8042829999999999,null,null,275.42286999999999,2.2130839999999998,1.818754,1.8148489999999999,null,null,275.42286999999999,4.6943169999999999,4.8615950000000003,5.4320870000000001,null,null,275.42286999999999,5.2691809999999997,5.1374129999999996,5.1976690000000003,null,null,275.42286999999999,2.3658030000000001,2.3857759999999999,2.3900779999999999,null,275.42286999999999,3.846638,4.0436696666666672,1.4201309999999998,6.4666353333333335,0.55740599999999996,3.9010356666666666,3.7428249999999998,4.5344803333333337,6.1321033333333332,0.60750700000000002,7.2015950000000002,13.369918666666669,3.8359633333333334,8.5982640000000004,6.7252416666666663,6.929187333333334,2.8709330000000004,4.2584819999999999,4.2288620000000003,6.6625243333333337,6.3163896666666668,4.715886666666667,1.9488956666666664,4.9959996666666662,5.2014209999999999,2.3805523333333332]
[null,316.22776599999997,3.353958,3.690566,3.9064649999999999,null,null,316.22776599999997,3.8306079999999998,2.9198900000000001,3.2061660000000001,null,null,316.22776599999997,0.97728400000000004,0.98493399999999998,1.0560449999999999,null,null,null,316.22776599999997,6.3942100000000002,5.5801189999999998,5.807366,null,null,316.22776599999997,0.40482200000000002,0.40733900000000001,0.34881800000000002,null,null,316.22776599999997,3.266559,3.2487940000000002,3.1961759999999999,null,null,316.22776599999997,3.3493919999999999,3.1545830000000001,2.6297459999999999,null,null,316.22776599999997,4.522087,4.0488850000000003,4.1942870000000001,null,null,316.22776599999997,5.7740780000000003,6.1368169999999997,6.4249140000000002,null,null,316.22776599999997,0.44067600000000001,0.43030299999999999,0.49222300000000002,null,null,316.22776599999997,6.0109159999999999,6.8658149999999996,6.7427809999999999,null,null,316.22776599999997,12.649502,12.449699000000001,13.449809,null,null,316.22776599999997,2.3147250000000001,2.3597869999999999,2.0062190000000002,null,null,316.22776599999997,10.173696,9.7039580000000001,9.5816870000000005,null,null,316.22776599999997,5.5976189999999999,5.3727580000000001,5.5692500000000003,null,null,316.22776599999997,6.0675309999999998,6.8063399999999996,6.4142450000000002,null,null,316.22776599999997,2.1032259999999998,1.7825329999999999,2.2561460000000002,null,null,316.22776599999997,3.8046120000000001,3.7854480000000001,3.3150460000000002,null,null,316.22776599999997,3.5875889999999999,3.7655449999999999,3.4326660000000002,null,null,316.22776599999997,6.5399710000000004,6.0209919999999997,5.7567120000000003,null,null,316.22776599999997,6.0515780000000001,5.5605700000000002,6.1583480000000002,null,null,316.22776599999997,3.4419279999999999,4.2258610000000001,3.9650810000000001,null,null,316.22776599999997,1.6690240000000001,1.2906880000000001,1.1757420000000001,null,null,316.22776599999997,3.852319,4.1049350000000002,4.724469,null,null,316.22776599999997,4.7944800000000001,4.7375610000000004,4.5619399999999999,null,null,316.22776599999997,1.8627050000000001,1.764335,1.932857,null,316.22776599999997,3.6503296666666665,3.3188879999999998,1.0060876666666667,5.9272316666666667,0.38699299999999998,3.2371763333333337,3.044573666666667,4.2550863333333337,6.1119363333333334,0.45440066666666667,6.5398373333333337,12.849670000000001,2.2269103333333331,9.819780333333334,5.5132089999999998,6.4293719999999999,2.0473016666666664,3.6350353333333332,3.5952666666666668,6.1058916666666674,5.9234986666666671,3.8776233333333336,1.3784846666666668,4.2272410000000002,4.6979936666666662,1.853299]
[null,363.07805500000001,3.1243020000000001,3.568765,3.79636,null,null,363.07805500000001,3.0176599999999998,2.1767069999999999,2.5486080000000002,null,null,363.07805500000001,0.66705999999999999,0.69690300000000005,0.70336299999999996,null,null,null,363.07805500000001,5.5715909999999997,4.7665899999999999,4.9593470000000002,null,null,363.07805500000001,0.32285199999999997,0.31392799999999998,0.268681,null,null,363.07805500000001,2.7582409999999999,2.7119239999999998,2.5749140000000001,null,null,363.07805500000001,2.6654409999999999,2.5944310000000002,1.999331,null,null,363.07805500000001,4.2233229999999997,3.528956,3.8485839999999998,null,null,363.07805500000001,5.437856,5.8917950000000001,6.1880280000000001,null,null,363.07805500000001,0.351045,0.31718499999999999,0.411769,null,null,363.07805500000001,5.190658,5.7979000000000003,5.7848949999999997,null,null,363.07805500000001,10.74147,10.792277,11.774899,null,null,363.07805500000001,0.119537,0.27444000000000002,9.9401000000000003E-2,null,null,363.07805500000001,11.037447999999999,10.293602,10.333303000000001,null,null,363.07805500000001,4.3157269999999999,4.0755119999999998,4.3227359999999999,null,null,363.07805500000001,5.5740350000000003,6.1536410000000004,5.8150079999999997,null,null,363.07805500000001,1.550019,1.326065,1.83111,null,null,363.07805500000001,3.1750560000000001,3.3541219999999998,2.810718,null,null,363.07805500000001,3.031139,3.1803949999999999,2.9653040000000002,null,null,363.07805500000001,5.6716680000000004,5.251779,5.1501869999999998,null,null,363.07805500000001,5.4981540000000004,5.3002229999999999,5.6029799999999996,null,null,363.07805500000001,2.731484,3.4490690000000002,3.2063570000000001,null,null,363.07805500000001,1.2552289999999999,0.94045000000000001,0.70777299999999999,null,null,363.07805500000001,3.0529060000000001,3.3716390000000001,3.9725429999999999,null,null,363.07805500000001,4.3313629999999996,4.3910629999999999,3.9401700000000002,null,null,363.07805500000001,1.517803,1.3089170000000001,1.6627369999999999,null,363.07805500000001,3.4964756666666665,2.5809916666666664,0.6891086666666667,5.0991759999999999,0.3018203333333333,2.6816929999999997,2.419734333333333,3.8669543333333336,5.8392263333333334,0.35999966666666666,5.591151,11.102881999999999,0.16445933333333335,10.554784333333332,4.2379916666666659,5.8475613333333341,1.5690646666666668,3.1132986666666667,3.0589460000000002,5.3578779999999995,5.4671190000000003,3.1289700000000003,0.96781733333333342,3.4656959999999999,4.2208653333333332,1.4964856666666666]
[null,416.86938300000003,2.9799579999999999,3.5029460000000001,3.7510479999999999,null,null,416.86938300000003,2.2032240000000001,1.495743,1.964067,null,null,416.86938300000003,0.454679,0.49988700000000003,0.42011599999999999,null,null,null,416.86938300000003,4.5126920000000004,3.8056130000000001,3.9421369999999998,null,null,416.86938300000003,0.297319,0.277196,0.239785,null,null,416.86938300000003,2.3580410000000001,2.2988209999999998,2.0756899999999998,null,null,416.86938300000003,2.082649,2.1360980000000001,1.5003649999999999,null,null,416.86938300000003,3.8167330000000002,2.925138,3.4037329999999999,null,null,416.86938300000003,4.8986859999999997,5.3871320000000003,5.6279880000000002,null,null,416.86938300000003,0.29068500000000003,0.24002000000000001,0.36519099999999999,null,null,416.86938300000003,4.2457510000000003,4.5540779999999996,4.6602309999999996,null,null,416.86938300000003,8.1240989999999993,8.3549740000000003,9.1867560000000008,null,null,416.86938300000003,0,0,0,null,null,416.86938300000003,11.128648999999999,10.230271,10.430054999999999,null,null,416.86938300000003,3.082913,2.876179,3.1609929999999999,null,null,416.86938300000003,5.1226500000000001,5.4850770000000004,5.2505369999999996,null,null,416.86938300000003,1.4048480000000001,1.2814099999999999,1.785442,null,null,416.86938300000003,2.674013,3.0672980000000001,2.487733,null,null,416.86938300000003,2.660053,2.7217709999999999,2.657645,null,null,416.86938300000003,4.6742900000000001,4.3996459999999997,4.4376639999999998,null,null,416.86938300000003,4.8974419999999999,5.0380250000000002,4.9676049999999998,null,null,416.86938300000003,2.2155109999999998,2.8048479999999998,2.6061230000000002,null,null,416.86938300000003,0.96365800000000001,0.76742100000000002,0.41859000000000002,null,null,416.86938300000003,2.3208169999999999,2.6785130000000001,3.2258770000000001,null,null,416.86938300000003,3.9098220000000001,4.1192149999999996,3.4072900000000002,null,null,416.86938300000003,1.318508,1.0117499999999999,1.5552950000000001,null,416.86938300000003,3.4113173333333329,1.887678,0.45822733333333332,4.0868140000000004,0.27143333333333336,2.2441840000000002,1.9063706666666669,3.3818679999999994,5.304602,0.29863200000000001,4.4866866666666665,8.5552763333333335,0,10.596324999999998,3.0400283333333333,5.2860880000000003,1.4905666666666668,2.7430146666666668,2.6798230000000003,4.5038666666666662,4.967690666666666,2.5421606666666663,0.71655633333333346,2.741735666666667,3.8121089999999995,1.2951843333333333]
[null,478.63009199999999,2.9245649999999999,3.4832809999999998,3.7779430000000001,null,null,478.63009199999999,1.4503379999999999,0.86429400000000001,1.467503,null,null,478.63009199999999,0.31870300000000001,0.368649,9.1691999999999996E-2,null,null,null,478.63009199999999,3.3312659999999998,2.7950279999999998,2.8281930000000002,null,null,478.63009199999999,0.29532000000000003,0.26811800000000002,0.23166300000000001,null,null,478.63009199999999,2.027857,1.978402,1.6761710000000001,null,null,478.63009199999999,1.6034809999999999,1.763328,1.1342000000000001,null,null,478.63009199999999,3.307661,2.2711209999999999,2.8708459999999998,null,null,478.63009199999999,4.1834889999999998,4.6481219999999999,4.7458780000000003,null,null,478.63009199999999,0.24385299999999999,0.19137699999999999,0.32449800000000001,null,null,478.63009199999999,3.2749079999999999,3.2409620000000001,3.4821209999999998,null,null,478.63009199999999,5.2436499999999997,5.5586399999999996,6.2205519999999996,null,null,478.63009199999999,0,0,0,null,null,478.63009199999999,10.363222,9.4672920000000005,9.7861039999999999,null,null,478.63009199999999,1.902936,1.845804,2.1563189999999999,null,null,478.63009199999999,4.7540420000000001,4.8507179999999996,4.7619389999999999,null,null,478.63009199999999,1.6267,1.6237630000000001,2.0590350000000002,null,null,478.63009199999999,2.3225609999999999,2.907978,2.3345820000000002,null,null,478.63009199999999,2.4960960000000001,2.4031570000000002,2.5090110000000001,null,null,478.63009199999999,3.6321129999999999,3.5418699999999999,3.6683650000000001,null,null,478.63009199999999,4.2491770000000004,4.7480880000000001,4.2536259999999997,null,null,478.63009199999999,1.9108989999999999,2.25387,2.1800799999999998,null,null,478.63009199999999,0.75745399999999996,0.69925599999999999,0.22259200000000001,null,null,478.63009199999999,1.663583,2.0206140000000001,2.5037560000000001,null,null,478.63009199999999,3.509827,3.88964,2.991441,null,null,478.63009199999999,1.2244919999999999,0.83191199999999998,1.551312,null,478.63009199999999,3.3952629999999999,1.2607116666666667,0.25968133333333332,2.984829,0.26503366666666667,1.8941433333333333,1.5003363333333333,2.8165426666666669,4.5258296666666666,0.25324266666666667,3.3326636666666665,5.6742806666666654,0,9.8722060000000003,1.9683529999999998,4.7888996666666666,1.7698326666666666,2.5217070000000001,2.4694213333333335,3.6141159999999997,4.4169636666666667,2.1149496666666665,0.55976733333333328,2.0626510000000002,3.4636359999999997,1.202572]
[null,549.54087400000003,2.939406,3.4814440000000002,3.855712,null,null,549.54087400000003,0.83696899999999996,0.38798899999999997,1.046082,null,null,549.54087400000003,0.23755599999999999,0.282472,0,null,null,null,549.54087400000003,2.1871339999999999,1.804459,1.834711,null,null,549.54087400000003,0.28657300000000002,0.26292900000000002,0.21978900000000001,null,null,549.54087400000003,1.7354849999999999,1.7198770000000001,1.3595120000000001,null,null,549.54087400000003,1.2286109999999999,1.458861,0.89694399999999996,null,null,549.54087400000003,2.7286000000000001,1.601521,2.2926410000000002,null,null,549.54087400000003,3.3627739999999999,3.7521339999999999,3.6078510000000001,null,null,549.54087400000003,0.16861300000000001,0.10308,0.269401,null,null,549.54087400000003,2.3935119999999999,2.0815039999999998,2.3667910000000001,null,null,549.54087400000003,2.9573309999999999,3.1702409999999999,3.5564640000000001,null,null,549.54087400000003,0,0,0,null,null,549.54087400000003,8.8492239999999995,8.1074140000000003,8.4699220000000004,null,null,549.54087400000003,0.95640700000000001,1.0938749999999999,1.393853,null,null,549.54087400000003,4.4713630000000002,4.2770060000000001,4.3531570000000004,null,null,549.54087400000003,2.1014629999999999,2.2504460000000002,2.5240580000000001,null,null,549.54087400000003,2.1259220000000001,2.833755,2.3091789999999999,null,null,549.54087400000003,2.5268299999999999,2.2248480000000002,2.4961989999999998,null,null,549.54087400000003,2.652209,2.7473079999999999,2.918949,null,null,549.54087400000003,3.5668090000000001,4.3992100000000001,3.4898159999999998,null,null,549.54087400000003,1.8053490000000001,1.7079610000000001,1.922169,null,null,549.54087400000003,0.60559300000000005,0.69910700000000003,0.14649400000000001,null,null,549.54087400000003,1.055501,1.326546,1.8504970000000001,null,null,549.54087400000003,3.12439,3.6386029999999998,2.703919,null,null,549.54087400000003,1.1946129999999999,0.73012500000000002,1.5813699999999999,null,549.54087400000003,3.4255206666666669,0.75701333333333343,0.17334266666666664,1.9421013333333335,0.25643033333333337,1.6049579999999999,1.1948053333333333,2.2075873333333331,3.5742530000000001,0.18036466666666665,2.2806023333333334,3.2280119999999997,0,8.4755199999999995,1.148045,4.367175333333333,2.2919890000000001,2.422952,2.415959,2.7728219999999997,3.818611666666667,1.8118263333333333,0.48373133333333335,1.4108479999999999,3.1556373333333334,1.1687026666666667]
[null,630.95734400000003,2.9831829999999999,3.4542920000000001,3.9357120000000001,null,null,630.95734400000003,0.397281,0.150252,0.66419700000000004,null,null,630.95734400000003,0.187473,0.21623999999999999,0,null,null,null,630.95734400000003,0.89982700000000004,0.839696,0.52533700000000005,null,null,630.95734400000003,0.26078000000000001,0.246057,0.19151899999999999,null,null,630.95734400000003,1.4478580000000001,1.4855590000000001,1.1014759999999999,null,null,630.95734400000003,0.93737400000000004,1.1932990000000001,0.762131,null,null,630.95734400000003,2.1085579999999999,0.97636299999999998,1.7061809999999999,null,null,630.95734400000003,2.5015109999999998,2.7980309999999999,2.3008980000000001,null,null,630.95734400000003,6.5869999999999998E-2,3.3237999999999997E-2,0.18473000000000001,null,null,630.95734400000003,1.6680440000000001,0.54569999999999996,1.218456,null,null,630.95734400000003,0.66560699999999995,0.66701999999999995,1.2058420000000001,null,null,630.95734400000003,0,0,0,null,null,630.95734400000003,6.8056700000000001,6.344773,6.6656449999999996,null,null,630.95734400000003,0.17668200000000001,0.48278500000000002,0.79787600000000003,null,null,630.95734400000003,4.2284040000000003,3.74037,3.977989,null,null,630.95734400000003,2.6750240000000001,3.0121129999999998,3.0251489999999999,null,null,630.95734400000003,2.0548030000000002,2.780402,2.3407390000000001,null,null,630.95734400000003,2.697425,2.1582669999999999,2.5696469999999998,null,null,630.95734400000003,1.7891630000000001,1.989368,2.229895,null,null,630.95734400000003,2.862765,3.9566029999999999,2.7005219999999999,null,null,630.95734400000003,1.8449409999999999,1.3415280000000001,1.787183,null,null,630.95734400000003,0.46941100000000002,0.76465799999999995,0.14832600000000001,null,null,630.95734400000003,0.67116100000000001,0.80151300000000003,1.2591490000000001,null,null,630.95734400000003,2.656034,3.2997619999999999,2.5168710000000001,null,null,630.95734400000003,1.1885129999999999,0.66027599999999997,1.578811,null,630.95734400000003,3.4577290000000001,0.40391000000000005,0.134571,0.75495333333333337,0.23278533333333332,1.3449643333333334,0.96426800000000013,1.5970340000000001,2.53348,9.4612666666666678E-2,1.1440666666666666,0.8461563333333334,0,6.6053626666666672,0.48578100000000002,3.9822543333333336,2.9040953333333328,2.3919813333333333,2.4751129999999999,2.0028086666666667,3.1732966666666669,1.6578839999999999,0.46079833333333325,0.91060766666666682,2.8242223333333332,1.1425333333333334]
[null,724.43596000000002,3.0039820000000002,3.3582459999999998,3.9518119999999999,null,null,724.43596000000002,0.15784899999999999,8.5804000000000005E-2,0.37801800000000002,null,null,724.43596000000002,0.14533099999999999,0.16355800000000001,0,null,null,null,724.43596000000002,4.5061999999999998E-2,0.30039199999999999,1.6330999999999998E-2,null,null,724.43596000000002,0.18715699999999999,0.20758699999999999,0.13236300000000001,null,null,724.43596000000002,1.1575489999999999,1.2546170000000001,0.89038499999999998,null,null,724.43596000000002,0.71177000000000001,0.95237300000000003,0.69772299999999998,null,null,724.43596000000002,1.4363779999999999,0.25480000000000003,1.111971,null,null,724.43596000000002,1.6887030000000001,1.8036939999999999,0.94889400000000002,null,null,724.43596000000002,0,0,9.9920999999999996E-2,null,null,724.43596000000002,1.139545,0,0.40617500000000001,null,null,724.43596000000002,0,0,0,null,null,724.43596000000002,0,0,0,null,null,724.43596000000002,4.640498,4.4711860000000003,4.6810479999999997,null,null,724.43596000000002,0,0.14402699999999999,0.37803999999999999,null,null,724.43596000000002,3.9646750000000002,3.211951,3.580816,null,null,724.43596000000002,3.1801279999999998,3.7288770000000002,3.407613,null,null,724.43596000000002,2.06182,2.6868280000000002,2.3538809999999999,null,null,724.43596000000002,2.9250129999999999,2.1602779999999999,2.666674,null,null,724.43596000000002,1.0039689999999999,1.398247,1.5768709999999999,null,null,724.43596000000002,2.1695609999999999,3.40544,1.9336230000000001,null,null,724.43596000000002,1.9510799999999999,1.1522190000000001,1.71777,null,null,724.43596000000002,0.32062299999999999,0.83669099999999996,0.14485600000000001,null,null,724.43596000000002,0.48609999999999998,0.36280800000000002,0.68797200000000003,null,null,724.43596000000002,2.2728630000000001,2.7792810000000001,2.3848579999999999,null,null,724.43596000000002,1.1765110000000001,0.59001499999999996,1.497158,null,724.43596000000002,3.4380133333333336,0.20722366666666669,0.10296299999999999,0.12059499999999999,0.17570233333333332,1.1008503333333335,0.78728866666666664,0.93438299999999996,1.4804303333333333,3.3306999999999996E-2,0.51524000000000003,0,0,4.5975773333333336,0.17402233333333331,3.5858140000000005,3.4388726666666667,2.3675096666666668,2.5839883333333336,1.3263623333333332,2.5028746666666666,1.6070229999999999,0.4340566666666667,0.51229333333333338,2.4790006666666664,1.0878946666666667]
[null,831.76377100000002,2.95289,3.156228,3.8426040000000001,null,null,831.76377100000002,8.0138000000000001E-2,4.4983000000000002E-2,0.239319,null,null,831.76377100000002,0.105504,9.5351000000000005E-2,0,null,null,null,831.76377100000002,0,0.163632,0,null,null,831.76377100000002,0.11439299999999999,0.165631,8.9734999999999995E-2,null,null,831.76377100000002,0.86409199999999997,1.0192049999999999,0.71803099999999997,null,null,831.76377100000002,0.53238799999999997,0.72015399999999996,0.66766199999999998,null,null,831.76377100000002,0.795539,0,0.63324899999999995,null,null,831.76377100000002,0.86143700000000001,0.990201,7.7300999999999995E-2,null,null,831.76377100000002,0,0,4.9828999999999998E-2,null,null,831.76377100000002,0.80305400000000005,0,0.19006899999999999,null,null,831.76377100000002,0,0,0,null,null,831.76377100000002,0,0,0,null,null,831.76377100000002,2.4045130000000001,2.5543529999999999,2.6757870000000001,null,null,831.76377100000002,0,0.16731599999999999,0.22327900000000001,null,null,831.76377100000002,3.624746,2.6643370000000002,3.1233460000000002,null,null,831.76377100000002,3.4877359999999999,4.2461229999999999,3.5655000000000001,null,null,831.76377100000002,2.0885259999999999,2.5113590000000001,2.289676,null,null,831.76377100000002,3.118881,2.1772800000000001,2.7233749999999999,null,null,831.76377100000002,0.44036500000000001,1.0878540000000001,1.081116,null,null,831.76377100000002,1.50664,2.7731110000000001,1.1206940000000001,null,null,831.76377100000002,2.0252849999999998,0.89853099999999997,1.655206,null,null,831.76377100000002,0.155006,0.84748999999999997,0.12814600000000001,null,null,831.76377100000002,0.28281299999999998,9.6404000000000004E-2,0.29567300000000002,null,null,831.76377100000002,2.1022729999999998,2.18127,2.252643,null,null,831.76377100000002,1.1431420000000001,0.50027200000000005,1.3207880000000001,null,831.76377100000002,3.3172406666666667,0.12147999999999999,6.6951666666666673E-2,5.4544000000000002E-2,0.123253,0.86710933333333318,0.64006799999999997,0.47626266666666667,0.64297966666666662,1.6609666666666665E-2,0.33104099999999997,0,0,2.5448843333333335,0.13019833333333333,3.1374763333333333,3.7664529999999998,2.2965203333333335,2.6731786666666664,0.86977833333333321,1.8001483333333335,1.5263406666666663,0.3768806666666667,0.22496333333333332,2.1787286666666668,0.98806733333333341]
[null,954.99258599999996,2.7985280000000001,2.8462000000000001,3.5715599999999998,null,null,954.99258599999996,7.0319000000000007E-2,1.8734000000000001E-2,0.13897300000000001,null,null,954.99258599999996,4.283E-2,4.3331000000000001E-2,0,null,null,null,954.99258599999996,0,2.3126000000000001E-2,0,null,null,954.99258599999996,2.9628999999999999E-2,0.14257400000000001,0.116495,null,null,954.99258599999996,0.60361100000000001,0.78732000000000002,0.58186499999999997,null,null,954.99258599999996,0.38808599999999999,0.492037,0.64104700000000003,null,null,954.99258599999996,0.420985,0,0.38076199999999999,null,null,954.99258599999996,0.13506699999999999,0.39733400000000002,0,null,null,954.99258599999996,0,0,0,null,null,954.99258599999996,0.62456800000000001,0,0.103226,null,null,954.99258599999996,0,0,0,null,null,954.99258599999996,0,0,0,null,null,954.99258599999996,0.41960900000000001,0.76052299999999995,0.73281399999999997,null,null,954.99258599999996,0,0.148452,0.20266799999999999,null,null,954.99258599999996,3.1869969999999999,2.106563,2.5883829999999999,null,null,954.99258599999996,3.5284209999999998,4.4593829999999999,3.4579659999999999,null,null,954.99258599999996,2.0798359999999998,2.2415479999999999,2.1211959999999999,null,null,954.99258599999996,3.198372,2.1562169999999998,2.6872569999999998,null,null,954.99258599999996,0.24065600000000001,0.89054100000000003,0.85617900000000002,null,null,954.99258599999996,0.86656299999999997,2.0804100000000001,0.43448599999999998,null,null,954.99258599999996,2.0251899999999998,0.62932900000000003,1.5557190000000001,null,null,954.99258599999996,6.8831000000000003E-2,0.79826699999999995,9.1923000000000005E-2,null,null,954.99258599999996,0.13364100000000001,0,0.18684899999999999,null,null,954.99258599999996,1.8245800000000001,1.7231449999999999,2.076101,null,null,954.99258599999996,1.075399,0.38941799999999999,1.0687679999999999,null,954.99258599999996,3.0720960000000002,7.6008666666666669E-2,2.8720333333333334E-2,7.7086666666666666E-3,9.6232666666666675E-2,0.65759866666666678,0.50705666666666671,0.26724900000000001,0.17746700000000001,0,0.24259800000000001,0,0,0.63764866666666664,0.11703999999999999,2.6273143333333331,3.8152566666666665,2.1475266666666664,2.6806153333333333,0.66245866666666664,1.1271530000000001,1.4034126666666664,0.31967366666666663,0.10682999999999999,1.8746086666666664,0.84452833333333333]
[null,1096.478196,2.530796,2.4283640000000002,3.1452450000000001,null,null,1096.478196,9.3520000000000006E-2,0,5.2192000000000002E-2,null,null,1096.478196,0,3.2017999999999998E-2,0,null,null,null,1096.478196,0,0,0,null,null,1096.478196,0,0.11704199999999999,0.12597,null,null,1096.478196,0.35615799999999997,0.56517799999999996,0.47370299999999999,null,null,1096.478196,0.26942500000000003,0.31204100000000001,0.59633700000000001,null,null,1096.478196,0.22281100000000001,0,0.13597899999999999,null,null,1096.478196,0,0,0,null,null,1096.478196,0,0,0,null,null,1096.478196,0.55045500000000003,0,3.8110999999999999E-2,null,null,1096.478196,0,0,0,null,null,1096.478196,0,0,0,null,null,1096.478196,0,8.6999000000000007E-2,0,null,null,1096.478196,0,0.14787400000000001,0.17253099999999999,null,null,1096.478196,2.669454,1.565078,1.986639,null,null,1096.478196,3.301437,4.3352630000000003,3.1125639999999999,null,null,1096.478196,1.9962569999999999,1.8976029999999999,1.8586,null,null,1096.478196,3.110932,2.05613,2.527123,null,null,1096.478196,6.6658999999999996E-2,0.702241,0.64995499999999995,null,null,1096.478196,0.25982899999999998,1.3517490000000001,0.27602900000000002,null,null,1096.478196,1.9825999999999999,0.36588999999999999,1.400266,null,null,1096.478196,1.9386E-2,0.69836500000000001,7.2511000000000006E-2,null,null,1096.478196,4.2279999999999998E-2,0,9.0246000000000007E-2,null,null,1096.478196,1.505169,1.245557,1.8358730000000001,null,null,1096.478196,0.99431199999999997,0.28477200000000003,0.78286999999999995,null,1096.478196,2.7014683333333331,4.8570666666666672E-2,1.0672666666666665E-2,0,8.1004000000000007E-2,0.46501299999999995,0.39260099999999998,0.11959666666666667,0,0,0.19618866666666668,0,0,2.899966666666667E-2,0.10680166666666667,2.0737236666666665,3.5830880000000001,1.9174866666666668,2.5647283333333331,0.47295166666666666,0.62920233333333342,1.2495853333333333,0.26342066666666669,4.4175333333333337E-2,1.5288663333333334,0.68731799999999998]
[null,1258.9254120000001,2.156873,1.890212,2.6001910000000001,null,null,1258.9254120000001,0.115603,0,0,null,null,1258.9254120000001,0,2.2579999999999999E-2,0,null,null,null,1258.9254120000001,0,0,0,null,null,1258.9254120000001,0,0.105874,0.12786600000000001,null,null,1258.9254120000001,0.11407399999999999,0.341113,0.36909399999999998,null,null,1258.9254120000001,0.16076799999999999,0.180447,0.517675,null,null,1258.9254120000001,2.0490999999999999E-2,0,3.5430999999999997E-2,null,null,1258.9254120000001,0,0,0,null,null,1258.9254120000001,0,0,0,null,null,1258.9254120000001,0.51971100000000003,0,0,null,null,1258.9254120000001,0,0,0,null,null,1258.9254120000001,0,0,0,null,null,1258.9254120000001,0,0,0,null,null,1258.9254120000001,0,0.13797699999999999,0.14344599999999999,null,null,1258.9254120000001,2.0890330000000001,1.0201150000000001,1.4280459999999999,null,null,1258.9254120000001,2.8566660000000001,3.9013740000000001,2.5988289999999998,null,null,1258.9254120000001,1.8158920000000001,1.517652,1.5319959999999999,null,null,1258.9254120000001,2.835512,1.853979,2.2277429999999998,null,null,1258.9254120000001,5.1029999999999999E-2,0.49907099999999999,0.59077500000000005,null,null,1258.9254120000001,0,0.82212099999999999,0.15067900000000001,null,null,1258.9254120000001,1.826192,0.20808199999999999,1.190372,null,null,1258.9254120000001,0,0.56745299999999999,4.7005999999999999E-2,null,null,1258.9254120000001,0,0,0,null,null,1258.9254120000001,1.3893200000000001,0.81815599999999999,1.5309029999999999,null,null,1258.9254120000001,0.961812,0.201928,0.49996699999999999,null,1258.9254120000001,2.2157586666666664,3.853433333333333E-2,7.5266666666666667E-3,0,7.7913333333333334E-2,0.27476033333333333,0.28629666666666664,1.8640666666666666E-2,0,0,0.173237,0,0,0,9.3807666666666664E-2,1.5123980000000001,3.1189563333333332,1.6218466666666664,2.305744666666667,0.38029200000000002,0.32426666666666665,1.0748819999999999,0.20481966666666665,0,1.2461263333333334,0.55456899999999998]
[null,1445.4397710000001,1.722864,1.513063,1.95753,null,null,1445.4397710000001,0.12396,0,0,null,null,1445.4397710000001,0,0,0,null,null,null,1445.4397710000001,0,0,0,null,null,1445.4397710000001,0,8.7721999999999994E-2,0.11763800000000001,null,null,1445.4397710000001,0,0.18809500000000001,0.29078300000000001,null,null,1445.4397710000001,9.4263E-2,6.3940999999999998E-2,0.406943,null,null,1445.4397710000001,0,0,0,null,null,1445.4397710000001,0,0,0,null,null,1445.4397710000001,0,0,0,null,null,1445.4397710000001,0.47853099999999998,0,0,null,null,1445.4397710000001,0,0,0,null,null,1445.4397710000001,0,0,0,null,null,1445.4397710000001,0,0,0,null,null,1445.4397710000001,0,0.1192,0.112264,null,null,1445.4397710000001,1.463257,0.49139300000000002,0.95240800000000003,null,null,1445.4397710000001,2.2744080000000002,3.225501,2.0048159999999999,null,null,1445.4397710000001,1.534408,1.122085,1.1642250000000001,null,null,1445.4397710000001,2.3821759999999998,1.549202,1.8055019999999999,null,null,1445.4397710000001,3.6126999999999999E-2,0.36208699999999999,0.497222,null,null,1445.4397710000001,0,0.47043600000000002,5.9119999999999997E-3,null,null,1445.4397710000001,1.5392490000000001,6.2826000000000007E-2,0.94262299999999999,null,null,1445.4397710000001,0,0.40426600000000001,2.7594E-2,null,null,1445.4397710000001,0,0,0,null,null,1445.4397710000001,1.1963220000000001,0.610514,1.180877,null,null,1445.4397710000001,0.85047200000000001,0.146673,0.237542,null,1445.4397710000001,1.7311523333333334,4.1320000000000003E-2,0,0,6.8453333333333324E-2,0.15962600000000002,0.18838233333333335,0,0,0,0.15951033333333334,0,0,0,7.7154666666666663E-2,0.96901933333333334,2.5015750000000003,1.2735726666666667,1.9122933333333332,0.29847866666666667,0.15878266666666666,0.84823266666666675,0.14395333333333335,0,0.99590433333333339,0.41156233333333331]
[null,1659.5869070000001,1.1785509999999999,1.0981129999999999,1.272948,null,null,1659.5869070000001,0.11057599999999999,0,0,null,null,1659.5869070000001,0,0,0,null,null,null,1659.5869070000001,0,0,0,null,null,1659.5869070000001,0,6.5045000000000006E-2,9.3187999999999993E-2,null,null,1659.5869070000001,0,0.121965,0.224407,null,null,1659.5869070000001,6.6337999999999994E-2,0,0.30505700000000002,null,null,1659.5869070000001,0,0,0,null,null,1659.5869070000001,0,0,0,null,null,1659.5869070000001,0,0,0,null,null,1659.5869070000001,0.39577000000000001,0,0,null,null,1659.5869070000001,0,0,0,null,null,1659.5869070000001,0,0,0,null,null,1659.5869070000001,0,0,0,null,null,1659.5869070000001,0,8.9118000000000003E-2,7.7300999999999995E-2,null,null,1659.5869070000001,0.83931699999999998,1.6478E-2,0.46951900000000002,null,null,1659.5869070000001,1.61338,2.396798,1.4049780000000001,null,null,1659.5869070000001,1.1680919999999999,0.72512900000000002,0.76413299999999995,null,null,1659.5869070000001,1.796071,1.1648080000000001,1.3197209999999999,null,null,1659.5869070000001,2.4018999999999999E-2,0.27515499999999998,0.38223600000000002,null,null,1659.5869070000001,0,0.121729,0,null,null,1659.5869070000001,1.14394,0,0.67601,null,null,1659.5869070000001,0,0.27333499999999999,0,null,null,1659.5869070000001,0,0,0,null,null,1659.5869070000001,0.91706500000000002,0.42377500000000001,0.79760200000000003,null,null,1659.5869070000001,0.668319,8.5147E-2,7.9179999999999997E-3,null,1659.5869070000001,1.1832039999999999,3.6858666666666665E-2,0,0,5.2744333333333338E-2,0.11545733333333334,0.12379833333333334,0,0,0,0.13192333333333334,0,0,0,5.5472999999999995E-2,0.44177133333333335,1.8050519999999999,0.88578466666666655,1.4268666666666665,0.22713666666666668,4.0576333333333332E-2,0.60665000000000002,9.111166666666666E-2,0,0.71281399999999995,0.25379466666666667]
[null,1905.460718,0.60131500000000004,0.60112399999999999,0.68637499999999996,null,null,1905.460718,7.0765999999999996E-2,0,0,null,null,1905.460718,0,0,0,null,null,null,1905.460718,0,0,0,null,null,1905.460718,0,3.7229999999999999E-2,5.6904999999999997E-2,null,null,1905.460718,0,6.9180000000000005E-2,0.12331499999999999,null,null,1905.460718,3.9453000000000002E-2,0,0.16182199999999999,null,null,1905.460718,0,0,0,null,null,1905.460718,0,0,0,null,null,1905.460718,0,0,0,null,null,1905.460718,0.24088799999999999,0,0,null,null,1905.460718,0,0,0,null,null,1905.460718,0,0,0,null,null,1905.460718,0,0,0,null,null,1905.460718,0,5.2983000000000002E-2,4.4398E-2,null,null,1905.460718,0.36198000000000002,0,0.16014600000000001,null,null,1905.460718,0.82064800000000004,1.3587419999999999,0.75562300000000004,null,null,1905.460718,0.67406900000000003,0.33766299999999999,0.39218700000000001,null,null,1905.460718,1.0192829999999999,0.66569800000000001,0.74761,null,null,1905.460718,1.5594999999999999E-2,0.15004899999999999,0.20804800000000001,null,null,1905.460718,0,1.5004E-2,0,null,null,1905.460718,0.61834199999999995,0,0.36825400000000003,null,null,1905.460718,0,0.14754500000000001,0,null,null,1905.460718,0,0,0,null,null,1905.460718,0.53091299999999997,0.17951900000000001,0.37814999999999999,null,null,1905.460718,0.39312799999999998,2.9291999999999999E-2,0,null,1905.460718,0.6296046666666667,2.3588666666666664E-2,0,0,3.1378333333333334E-2,6.4165E-2,6.7091666666666661E-2,0,0,0,8.0295999999999992E-2,0,0,0,3.2460333333333334E-2,0.17404200000000003,0.97833766666666655,0.46797300000000003,0.81086366666666665,0.12456400000000001,5.0013333333333333E-3,0.32886533333333334,4.9181666666666672E-2,0,0.36286066666666666,0.14080666666666666]
[null,2187.7616240000002,0.13206100000000001,0.13955999999999999,0.16727500000000001,null,null,2187.7616240000002,1.7500999999999999E-2,0,0,null,null,2187.7616240000002,0,0,0,null,null,null,2187.7616240000002,0,0,0,null,null,2187.7616240000002,0,8.3669999999999994E-3,1.3396999999999999E-2,null,null,2187.7616240000002,0,1.4952E-2,3.4104000000000002E-2,null,null,2187.7616240000002,8.4840000000000002E-3,0,4.4274000000000001E-2,null,null,2187.7616240000002,0,0,0,null,null,2187.7616240000002,0,0,0,null,null,2187.7616240000002,0,0,0,null,null,2187.7616240000002,5.9323000000000001E-2,0,0,null,null,2187.7616240000002,0,0,0,null,null,2187.7616240000002,0,0,0,null,null,2187.7616240000002,0,0,0,null,null,2187.7616240000002,0,1.21E-2,9.1229999999999992E-3,null,null,2187.7616240000002,7.0983000000000004E-2,0,3.8644999999999999E-2,null,null,2187.7616240000002,0.171432,0.32247399999999998,0.17224600000000001,null,null,2187.7616240000002,0.16156000000000001,6.5827999999999998E-2,8.8996000000000006E-2,null,null,2187.7616240000002,0.240366,0.15865899999999999,0.178733,null,null,2187.7616240000002,0,4.1346000000000001E-2,5.7396000000000003E-2,null,null,2187.7616240000002,0,0,0,null,null,2187.7616240000002,0.137965,0,8.4399000000000002E-2,null,null,2187.7616240000002,0,4.0922E-2,0,null,null,2187.7616240000002,0,0,0,null,null,2187.7616240000002,0.127248,4.5387999999999998E-2,7.3234999999999995E-2,null,null,2187.7616240000002,9.4971E-2,0,0,null,2187.7616240000002,0.14629866666666666,5.8336666666666667E-3,0,0,7.2546666666666662E-3,1.6352000000000002E-2,1.7586000000000001E-2,0,0,0,1.9774333333333335E-2,0,0,0,7.0743333333333326E-3,3.6542666666666668E-2,0.22205066666666665,0.10546133333333334,0.19258600000000001,3.2913999999999999E-2,0,7.4121333333333331E-2,1.3640666666666667E-2,0,8.1957000000000002E-2,3.1656999999999998E-2]
[null,2511.8864319999998,0,0,0,null,null,2511.8864319999998,0,0,0,null,null,2511.8864319999998,0,0,0,null,null,null,2511.8864319999998,0,0,0,null,null,2511.8864319999998,0,0,0,null,null,2511.8864319999998,0,0,0,null,null,2511.8864319999998,0,0,0,null,null,2511.8864319999998,0,0,0,null,null,2511.8864319999998,0,0,0,null,null,2511.8864319999998,0,0,0,null,null,2511.8864319999998,0,0,0,null,null,2511.8864319999998,0,0,0,null,null,2511.8864319999998,0,0,0,null,null,2511.8864319999998,0,0,0,null,null,2511.8864319999998,0,0,0,null,null,2511.8864319999998,0,0,0,null,null,2511.8864319999998,0,0,0,null,null,2511.8864319999998,0,0,0,null,null,2511.8864319999998,0,0,0,null,null,2511.8864319999998,0,0,0,null,null,2511.8864319999998,0,0,0,null,null,2511.8864319999998,0,0,0,null,null,2511.8864319999998,0,0,0,null,null,2511.8864319999998,0,0,0,null,null,2511.8864319999998,0,0,0,null,null,2511.8864319999998,0,0,0,null,2511.8864319999998,0,0,0,0,0,0,0,0,0,0,0,0,0,0,0,0,0,0,0,0,0,0,0,0,0,0]
[null,2884.0315030000002,0,0,0,null,null,2884.0315030000002,0,0,0,null,null,2884.0315030000002,0,0,0,null,null,null,2884.0315030000002,0,0,0,null,null,2884.0315030000002,0,0,0,null,null,2884.0315030000002,0,0,0,null,null,2884.0315030000002,0,0,0,null,null,2884.0315030000002,0,0,0,null,null,2884.0315030000002,0,0,0,null,null,2884.0315030000002,0,0,0,null,null,2884.0315030000002,0,0,0,null,null,2884.0315030000002,0,0,0,null,null,2884.0315030000002,0,0,0,null,null,2884.0315030000002,0,0,0,null,null,2884.0315030000002,0,0,0,null,null,2884.0315030000002,0,0,0,null,null,2884.0315030000002,0,0,0,null,null,2884.0315030000002,0,0,0,null,null,2884.0315030000002,0,0,0,null,null,2884.0315030000002,0,0,0,null,null,2884.0315030000002,0,0,0,null,null,2884.0315030000002,0,0,0,null,null,2884.0315030000002,0,0,0,null,null,2884.0315030000002,0,0,0,null,null,2884.0315030000002,0,0,0,null,null,2884.0315030000002,0,0,0,null,2884.0315030000002,0,0,0,0,0,0,0,0,0,0,0,0,0,0,0,0,0,0,0,0,0,0,0,0,0,0]
[null,3311.3112150000002,0,0,0,null,null,3311.3112150000002,0,0,0,null,null,3311.3112150000002,0,0,0,null,null,null,3311.3112150000002,0,0,0,null,null,3311.3112150000002,0,0,0,null,null,3311.3112150000002,0,0,0,null,null,3311.3112150000002,0,0,0,null,null,3311.3112150000002,0,0,0,null,null,3311.3112150000002,0,0,0,null,null,3311.3112150000002,0,0,0,null,null,3311.3112150000002,0,0,0,null,null,3311.3112150000002,0,0,0,null,null,3311.3112150000002,0,0,0,null,null,3311.3112150000002,0,0,0,null,null,3311.3112150000002,0,0,0,null,null,3311.3112150000002,0,0,0,null,null,3311.3112150000002,0,0,0,null,null,3311.3112150000002,0,0,0,null,null,3311.3112150000002,0,0,0,null,null,3311.3112150000002,0,0,0,null,null,3311.3112150000002,0,0,0,null,null,3311.3112150000002,0,0,0,null,null,3311.3112150000002,0,0,0,null,null,3311.3112150000002,0,0,0,null,null,3311.3112150000002,0,0,0,null,null,3311.3112150000002,0,0,0,null,3311.3112150000002,0,0,0,0,0,0,0,0,0,0,0,0,0,0,0,0,0,0,0,0,0,0,0,0,0,0]
[null,3801.893963,0,0,0,null,null,3801.893963,0,0,0,null,null,3801.893963,0,0,0,null,null,null,3801.893963,0,0,0,null,null,3801.893963,0,0,0,null,null,3801.893963,0,0,0,null,null,3801.893963,0,0,0,null,null,3801.893963,0,0,0,null,null,3801.893963,0,0,0,null,null,3801.893963,0,0,0,null,null,3801.893963,0,0,0,null,null,3801.893963,0,0,0,null,null,3801.893963,0,0,0,null,null,3801.893963,0,0,0,null,null,3801.893963,0,0,0,null,null,3801.893963,0,0,0,null,null,3801.893963,0,0,0,null,null,3801.893963,0,0,0,null,null,3801.893963,0,0,0,null,null,3801.893963,0,0,0,null,null,3801.893963,0,0,0,null,null,3801.893963,0,0,0,null,null,3801.893963,0,0,0,null,null,3801.893963,0,0,0,null,null,3801.893963,0,0,0,null,null,3801.893963,0,0,0,null,3801.893963,0,0,0,0,0,0,0,0,0,0,0,0,0,0,0,0,0,0,0,0,0,0,0,0,0,0]
[null,4365.1583220000002,0,0,0,null,null,4365.1583220000002,0,0,0,null,null,4365.1583220000002,0,0,0,null,null,null,4365.1583220000002,0,0,0,null,null,4365.1583220000002,0,0,0,null,null,4365.1583220000002,0,0,0,null,null,4365.1583220000002,0,0,0,null,null,4365.1583220000002,0,0,0,null,null,4365.1583220000002,0,0,0,null,null,4365.1583220000002,0,0,0,null,null,4365.1583220000002,0,0,0,null,null,4365.1583220000002,0,0,0,null,null,4365.1583220000002,0,0,0,null,null,4365.1583220000002,0,0,0,null,null,4365.1583220000002,0,0,0,null,null,4365.1583220000002,0,0,0,null,null,4365.1583220000002,0,0,0,null,null,4365.1583220000002,0,0,0,null,null,4365.1583220000002,0,0,0,null,null,4365.1583220000002,0,0,0,null,null,4365.1583220000002,0,0,0,null,null,4365.1583220000002,0,0,0,null,null,4365.1583220000002,0,0,0,null,null,4365.1583220000002,0,0,0,null,null,4365.1583220000002,0,0,0,null,null,4365.1583220000002,0,0,0,null,4365.1583220000002,0,0,0,0,0,0,0,0,0,0,0,0,0,0,0,0,0,0,0,0,0,0,0,0,0,0]
[null,5011.8723360000004,0,0,0,null,null,5011.8723360000004,0,0,0,null,null,5011.8723360000004,0,0,0,null,null,null,5011.8723360000004,0,0,0,null,null,5011.8723360000004,0,0,0,null,null,5011.8723360000004,0,0,0,null,null,5011.8723360000004,0,0,0,null,null,5011.8723360000004,0,0,0,null,null,5011.8723360000004,0,0,0,null,null,5011.8723360000004,0,0,0,null,null,5011.8723360000004,0,0,0,null,null,5011.8723360000004,0,0,0,null,null,5011.8723360000004,0,0,0,null,null,5011.8723360000004,0,0,0,null,null,5011.8723360000004,0,0,0,null,null,5011.8723360000004,0,0,0,null,null,5011.8723360000004,0,0,0,null,null,5011.8723360000004,0,0,0,null,null,5011.8723360000004,0,0,0,null,null,5011.8723360000004,0,0,0,null,null,5011.8723360000004,0,0,0,null,null,5011.8723360000004,0,0,0,null,null,5011.8723360000004,0,0,0,null,null,5011.8723360000004,0,0,0,null,null,5011.8723360000004,0,0,0,null,null,5011.8723360000004,0,0,0,null,5011.8723360000004,0,0,0,0,0,0,0,0,0,0,0,0,0,0,0,0,0,0,0,0,0,0,0,0,0,0]
[null,5754.3993730000002,0,0,0,null,null,5754.3993730000002,0,0,0,null,null,5754.3993730000002,0,0,0,null,null,null,5754.3993730000002,0,0,0,null,null,5754.3993730000002,0,0,0,null,null,5754.3993730000002,0,0,0,null,null,5754.3993730000002,0,0,0,null,null,5754.3993730000002,0,0,0,null,null,5754.3993730000002,0,0,0,null,null,5754.3993730000002,0,0,0,null,null,5754.3993730000002,0,0,0,null,null,5754.3993730000002,0,0,0,null,null,5754.3993730000002,0,0,0,null,null,5754.3993730000002,0,0,0,null,null,5754.3993730000002,0,0,0,null,null,5754.3993730000002,0,0,0,null,null,5754.3993730000002,0,0,0,null,null,5754.3993730000002,0,0,0,null,null,5754.3993730000002,0,0,0,null,null,5754.3993730000002,0,0,0,null,null,5754.3993730000002,0,0,0,null,null,5754.3993730000002,0,0,0,null,null,5754.3993730000002,0,0,0,null,null,5754.3993730000002,0,0,0,null,null,5754.3993730000002,0,0,0,null,null,5754.3993730000002,0,0,0,null,5754.3993730000002,0,0,0,0,0,0,0,0,0,0,0,0,0,0,0,0,0,0,0,0,0,0,0,0,0,0]
[null,6606.9344799999999,0,0,0,null,null,6606.9344799999999,0,0,0,null,null,6606.9344799999999,0,0,0,null,null,null,6606.9344799999999,0,0,0,null,null,6606.9344799999999,0,0,0,null,null,6606.9344799999999,0,0,0,null,null,6606.9344799999999,0,0,0,null,null,6606.9344799999999,0,0,0,null,null,6606.9344799999999,0,0,0,null,null,6606.9344799999999,0,0,0,null,null,6606.9344799999999,0,0,0,null,null,6606.9344799999999,0,0,0,null,null,6606.9344799999999,0,0,0,null,null,6606.9344799999999,0,0,0,null,null,6606.9344799999999,0,0,0,null,null,6606.9344799999999,0,0,0,null,null,6606.9344799999999,0,0,0,null,null,6606.9344799999999,0,0,0,null,null,6606.9344799999999,0,0,0,null,null,6606.9344799999999,0,0,0,null,null,6606.9344799999999,0,0,0,null,null,6606.9344799999999,0,0,0,null,null,6606.9344799999999,0,0,0,null,null,6606.9344799999999,0,0,0,null,null,6606.9344799999999,0,0,0,null,null,6606.9344799999999,0,0,0,null,6606.9344799999999,0,0,0,0,0,0,0,0,0,0,0,0,0,0,0,0,0,0,0,0,0,0,0,0,0,0]
[null,7585.7757499999998,0,0,0,null,null,7585.7757499999998,0,0,0,null,null,7585.7757499999998,0,0,0,null,null,null,7585.7757499999998,0,0,0,null,null,7585.7757499999998,0,0,0,null,null,7585.7757499999998,0,0,0,null,null,7585.7757499999998,0,0,0,null,null,7585.7757499999998,0,0,0,null,null,7585.7757499999998,0,0,0,null,null,7585.7757499999998,0,0,0,null,null,7585.7757499999998,0,0,0,null,null,7585.7757499999998,0,0,0,null,null,7585.7757499999998,0,0,0,null,null,7585.7757499999998,0,0,0,null,null,7585.7757499999998,0,0,0,null,null,7585.7757499999998,0,0,0,null,null,7585.7757499999998,0,0,0,null,null,7585.7757499999998,0,0,0,null,null,7585.7757499999998,0,0,0,null,null,7585.7757499999998,0,0,0,null,null,7585.7757499999998,0,0,0,null,null,7585.7757499999998,0,0,0,null,null,7585.7757499999998,0,0,0,null,null,7585.7757499999998,0,0,0,null,null,7585.7757499999998,0,0,0,null,null,7585.7757499999998,0,0,0,null,7585.7757499999998,0,0,0,0,0,0,0,0,0,0,0,0,0,0,0,0,0,0,0,0,0,0,0,0,0,0]
[null,8709.6358999999993,0,0,0,null,null,8709.6358999999993,0,0,0,null,null,8709.6358999999993,0,0,0,null,null,null,8709.6358999999993,0,0,0,null,null,8709.6358999999993,0,0,0,null,null,8709.6358999999993,0,0,0,null,null,8709.6358999999993,0,0,0,null,null,8709.6358999999993,0,0,0,null,null,8709.6358999999993,0,0,0,null,null,8709.6358999999993,0,0,0,null,null,8709.6358999999993,0,0,0,null,null,8709.6358999999993,0,0,0,null,null,8709.6358999999993,0,0,0,null,null,8709.6358999999993,0,0,0,null,null,8709.6358999999993,0,0,0,null,null,8709.6358999999993,0,0,0,null,null,8709.6358999999993,0,0,0,null,null,8709.6358999999993,0,0,0,null,null,8709.6358999999993,0,0,0,null,null,8709.6358999999993,0,0,0,null,null,8709.6358999999993,0,0,0,null,null,8709.6358999999993,0,0,0,null,null,8709.6358999999993,0,0,0,null,null,8709.6358999999993,0,0,0,null,null,8709.6358999999993,0,0,0,null,null,8709.6358999999993,0,0,0,null,8709.6358999999993,0,0,0,0,0,0,0,0,0,0,0,0,0,0,0,0,0,0,0,0,0,0,0,0,0,0]
[null,10000,0,0,0,null,null,10000,0,0,0,null,null,10000,0,0,0,null,null,null,10000,0,0,0,null,null,10000,0,0,0,null,null,10000,0,0,0,null,null,10000,0,0,0,null,null,10000,0,0,0,null,null,10000,0,0,0,null,null,10000,0,0,0,null,null,10000,0,0,0,null,null,10000,0,0,0,null,null,10000,0,0,0,null,null,10000,0,0,0,null,null,10000,0,0,0,null,null,10000,0,0,0,null,null,10000,0,0,0,null,null,10000,0,0,0,null,null,10000,0,0,0,null,null,10000,0,0,0,null,null,10000,0,0,0,null,null,10000,0,0,0,null,null,10000,0,0,0,null,null,10000,0,0,0,null,null,10000,0,0,0,null,null,10000,0,0,0,null,10000,0,0,0,0,0,0,0,0,0,0,0,0,0,0,0,0,0,0,0,0,0,0,0,0,0,0]

{"sheet":"Calculations","index":20,"n_rows":50,"n_cols":12,"rows_kept":50,"cut":false,"hidden":true,"merged":[[0,6,0,7],[16,6,16,7],[26,6,26,7],[35,6,35,7],[0,9,0,10],[16,9,16,10],[26,9,26,10],[35,9,35,10],[0,0,0,1],[16,0,16,1],[26,0,26,1],[35,0,35,1],[0,3,0,4],[16,3,16,4],[26,3,26,4],[35,3,35,4]]}
["Basics",null,null,"Basics",null,null,"Basics",null,null,"Basics"]
[{"$f":"IF('Texture Calculator'!$G$4+1.5*'Texture Calculator'!$E$4<0.15,1,0)","v":0},"((silt + 1.5*clay) < 15)","SAND",{"$f":"IF('Texture Calculator'!$G$5+1.5*'Texture Calculator'!$E$5<0.15,1,0)","v":0},"((silt + 1.5*clay) < 15)","SAND",{"$f":"IF('Texture Calculator'!$G$6+1.5*'Texture Calculator'!$E$6<0.15,1,0)","v":0},"((silt + 1.5*clay) < 15)","SAND",{"$f":"IF('Texture Calculator'!$G$7+1.5*'Texture Calculator'!$E$7<0.15,1,0)","v":0},"((silt + 1.5*clay) < 15)","SAND"]
[{"$f":"IF(AND('Texture Calculator'!$G$4+1.5*'Texture Calculator'!$E$4>=0.15, 'Texture Calculator'!$G$4+2*'Texture Calculator'!$E$4<0.3), 2, 0)","v":2},"((silt + 1.5*clay >= 15) && (silt + 2*clay < 30))","LOAMY SAND",{"$f":"IF(AND('Texture Calculator'!$G$5+1.5*'Texture Calculator'!$E$5>=0.15, 'Texture Calculator'!$G$5+2*'Texture Calculator'!$E$5<0.3), 2, 0)","v":0},"((silt + 1.5*clay >= 15) && (silt + 2*clay < 30))","LOAMY SAND",{"$f":"IF(AND('Texture Calculator'!$G$6+1.5*'Texture Calculator'!$E$6>=0.15, 'Texture Calculator'!$G$6+2*'Texture Calculator'!$E$6<0.3), 2, 0)","v":0},"((silt + 1.5*clay >= 15) && (silt + 2*clay < 30))","LOAMY SAND",{"$f":"IF(AND('Texture Calculator'!$G$7+1.5*'Texture Calculator'!$E$7>=0.15, 'Texture Calculator'!$G$7+2*'Texture Calculator'!$E$7<0.3), 2, 0)","v":0},"((silt + 1.5*clay >= 15) && (silt + 2*clay < 30))","LOAMY SAND"]
[{"$f":"IF(OR(AND('Texture Calculator'!$E$4>=0.07, 'Texture Calculator'!$E$4<0.2,'Texture Calculator'!$C$4>0.52,'Texture Calculator'!$G$4+2*'Texture Calculator'!$E$4>=0.3), AND('Texture Calculator'!$E$4<0.07, 'Texture Calculator'!$G$4<0.5, 'Texture Calculator'!$G$4+2*'Texture Calculator'!$E$4>=0.3)), 3,0)","v":0},"((clay >= 7 && clay < 20) && (sand > 52) && ((silt + 2*clay) >= 30) || (clay < 7 && silt < 50 && (silt+2*clay)>=30))","SANDY LOAM",{"$f":"IF(OR(AND('Texture Calculator'!$E$5>=0.07, 'Texture Calculator'!$E$5<0.2,'Texture Calculator'!$C$5>0.52,'Texture Calculator'!$G$5+2*'Texture Calculator'!$E$5>=0.3), AND('Texture Calculator'!$E$5<0.07, 'Texture Calculator'!$G$5<0.5, 'Texture Calculator'!$G$5+2*'Texture Calculator'!$E$5>=0.3)), 3,0)","v":3},"((clay >= 7 && clay < 20) && (sand > 52) && ((silt + 2*clay) >= 30) || (clay < 7 && silt < 50 && (silt+2*clay)>=30))","SANDY LOAM",{"$f":"IF(OR(AND('Texture Calculator'!$E$6>=0.07, 'Texture Calculator'!$E$6<0.2,'Texture Calculator'!$C$6>0.52,'Texture Calculator'!$G$6+2*'Texture Calculator'!$E$6>=0.3), AND('Texture Calculator'!$E$6<0.07, 'Texture Calculator'!$G$6<0.5, 'Texture Calculator'!$G$6+2*'Texture Calculator'!$E$6>=0.3)), 3,0)","v":0},"((clay >= 7 && clay < 20) && (sand > 52) && ((silt + 2*clay) >= 30) || (clay < 7 && silt < 50 && (silt+2*clay)>=30))","SANDY LOAM",{"$f":"IF(OR(AND('Texture Calculator'!$E$7>=0.07, 'Texture Calculator'!$E$7<0.2,'Texture Calculator'!$C$7>0.52,'Texture Calculator'!$G$7+2*'Texture Calculator'!$E$7>=0.3), AND('Texture Calculator'!$E$7<0.07, 'Texture Calculator'!$G$7<0.5, 'Texture Calculator'!$G$7+2*'Texture Calculator'!$E$7>=0.3)), 3,0)","v":3},"((clay >= 7 && clay < 20) && (sand > 52) && ((silt + 2*clay) >= 30) || (clay < 7 && silt < 50 && (silt+2*clay)>=30))","SANDY LOAM"]
[{"$f":"IF(AND('Texture Calculator'!$E$4>=0.07, 'Texture Calculator'!$E$4<0.27, 'Texture Calculator'!$G$4>=0.28, 'Texture Calculator'!$G$4<0.5, 'Texture Calculator'!$C$4<=0.52), 4, 0)","v":0},"((clay >= 7 && clay < 27) && (silt >= 28 && silt < 50) && (sand <= 52))","LOAM",{"$f":"IF(AND('Texture Calculator'!$E$5>=0.07, 'Texture Calculator'!$E$5<0.27, 'Texture Calculator'!$G$5>=0.28, 'Texture Calculator'!$G$5<0.5, 'Texture Calculator'!$C$5<=0.52), 4, 0)","v":0},"((clay >= 7 && clay < 27) && (silt >= 28 && silt < 50) && (sand <= 52))","LOAM",{"$f":"IF(AND('Texture Calculator'!$E$6>=0.07, 'Texture Calculator'!$E$6<0.27, 'Texture Calculator'!$G$6>=0.28, 'Texture Calculator'!$G$6<0.5, 'Texture Calculator'!$C$6<=0.52), 4, 0)","v":4},"((clay >= 7 && clay < 27) && (silt >= 28 && silt < 50) && (sand <= 52))","LOAM",{"$f":"IF(AND('Texture Calculator'!$E$7>=0.07, 'Texture Calculator'!$E$7<0.27, 'Texture Calculator'!$G$7>=0.28, 'Texture Calculator'!$G$7<0.5, 'Texture Calculator'!$C$7<=0.52), 4, 0)","v":0},"((clay >= 7 && clay < 27) && (silt >= 28 && silt < 50) && (sand <= 52))","LOAM"]
[{"$f":"IF(OR(AND('Texture Calculator'!$G$4>=0.5, 'Texture Calculator'!$E$4>=0.12,'Texture Calculator'!$E$4<0.27), AND('Texture Calculator'!$G$4>=0.5,'Texture Calculator'!$G$4<0.8,'Texture Calculator'!$E$4<0.12)), 5,0)","v":0},"((silt >= 50 && (clay >= 12 && clay < 27)) || ((silt >= 50 && silt < 80) && clay < 12))","SILT LOAM",{"$f":"IF(OR(AND('Texture Calculator'!$G$5>=0.5, 'Texture Calculator'!$E$5>=0.12,'Texture Calculator'!$E$5<0.27), AND('Texture Calculator'!$G$5>=0.5,'Texture Calculator'!$G$5<0.8,'Texture Calculator'!$E$5<0.12)), 5,0)","v":0},"((silt >= 50 && (clay >= 12 && clay < 27)) || ((silt >= 50 && silt < 80) && clay < 12))","SILT LOAM",{"$f":"IF(OR(AND('Texture Calculator'!$G$6>=0.5, 'Texture Calculator'!$E$6>=0.12,'Texture Calculator'!$E$6<0.27), AND('Texture Calculator'!$G$6>=0.5,'Texture Calculator'!$G$6<0.8,'Texture Calculator'!$E$6<0.12)), 5,0)","v":0},"((silt >= 50 && (clay >= 12 && clay < 27)) || ((silt >= 50 && silt < 80) && clay < 12))","SILT LOAM",{"$f":"IF(OR(AND('Texture Calculator'!$G$7>=0.5, 'Texture Calculator'!$E$7>=0.12,'Texture Calculator'!$E$7<0.27), AND('Texture Calculator'!$G$7>=0.5,'Texture Calculator'!$G$7<0.8,'Texture Calculator'!$E$7<0.12)), 5,0)","v":0},"((silt >= 50 && (clay >= 12 && clay < 27)) || ((silt >= 50 && silt < 80) && clay < 12))","SILT LOAM"]
[{"$f":"IF(AND('Texture Calculator'!$G$4>=0.8, 'Texture Calculator'!$E$4<0.12), 6, 0)","v":0},"(silt >= 80 && clay < 12)","SILT",{"$f":"IF(AND('Texture Calculator'!$G$5>=0.8, 'Texture Calculator'!$E$5<0.12), 6, 0)","v":0},"(silt >= 80 && clay < 12)","SILT",{"$f":"IF(AND('Texture Calculator'!$G$6>=0.8, 'Texture Calculator'!$E$6<0.12), 6, 0)","v":0},"(silt >= 80 && clay < 12)","SILT",{"$f":"IF(AND('Texture Calculator'!$G$7>=0.8, 'Texture Calculator'!$E$7<0.12), 6, 0)","v":0},"(silt >= 80 && clay < 12)","SILT"]
[{"$f":"IF(AND('Texture Calculator'!$E$4>=0.2, 'Texture Calculator'!$E$4<0.35, 'Texture Calculator'!$G$4<0.28, 'Texture Calculator'!$C$4>0.45), 7, 0)","v":0},"((clay >= 20 && clay < 35) && (silt < 28) && (sand > 45)) ","SANDY CLAY LOAM",{"$f":"IF(AND('Texture Calculator'!$E$5>=0.2, 'Texture Calculator'!$E$5<0.35, 'Texture Calculator'!$G$5<0.28, 'Texture Calculator'!$C$5>0.45), 7, 0)","v":0},"((clay >= 20 && clay < 35) && (silt < 28) && (sand > 45)) ","SANDY CLAY LOAM",{"$f":"IF(AND('Texture Calculator'!$E$6>=0.2, 'Texture Calculator'!$E$6<0.35, 'Texture Calculator'!$G$6<0.28, 'Texture Calculator'!$C$6>0.45), 7, 0)","v":0},"((clay >= 20 && clay < 35) && (silt < 28) && (sand > 45)) ","SANDY CLAY LOAM",{"$f":"IF(AND('Texture Calculator'!$E$7>=0.2, 'Texture Calculator'!$E$7<0.35, 'Texture Calculator'!$G$7<0.28, 'Texture Calculator'!$C$7>0.45), 7, 0)","v":0},"((clay >= 20 && clay < 35) && (silt < 28) && (sand > 45)) ","SANDY CLAY LOAM"]
[{"$f":"IF(AND('Texture Calculator'!$E$4>=0.27, 'Texture Calculator'!$E$4<0.4, 'Texture Calculator'!$C$4>0.2, 'Texture Calculator'!$C$4<=0.45), 8, 0)","v":0},"((clay >= 27 && clay < 40) && (sand > 20 && sand <= 45))","CLAY LOAM",{"$f":"IF(AND('Texture Calculator'!$E$5>=0.27, 'Texture Calculator'!$E$5<0.4, 'Texture Calculator'!$C$5>0.2, 'Texture Calculator'!$C$5<=0.45), 8, 0)","v":0},"((clay >= 27 && clay < 40) && (sand > 20 && sand <= 45))","CLAY LOAM",{"$f":"IF(AND('Texture Calculator'!$E$6>=0.27, 'Texture Calculator'!$E$6<0.4, 'Texture Calculator'!$C$6>0.2, 'Texture Calculator'!$C$6<=0.45), 8, 0)","v":0},"((clay >= 27 && clay < 40) && (sand > 20 && sand <= 45))","CLAY LOAM",{"$f":"IF(AND('Texture Calculator'!$E$7>=0.27, 'Texture Calculator'!$E$7<0.4, 'Texture Calculator'!$C$7>0.2, 'Texture Calculator'!$C$7<=0.45), 8, 0)","v":0},"((clay >= 27 && clay < 40) && (sand > 20 && sand <= 45))","CLAY LOAM"]
[{"$f":"IF(AND('Texture Calculator'!$E$4>=0.27, 'Texture Calculator'!$E$4<0.4, 'Texture Calculator'!$C$4<=0.2), 9, 0)","v":0},"((clay >= 27 && clay < 40) && (sand  <= 20))","SILTY CLAY LOAM",{"$f":"IF(AND('Texture Calculator'!$E$5>=0.27, 'Texture Calculator'!$E$5<0.4, 'Texture Calculator'!$C$5<=0.2), 9, 0)","v":0},"((clay >= 27 && clay < 40) && (sand  <= 20))","SILTY CLAY LOAM",{"$f":"IF(AND('Texture Calculator'!$E$6>=0.27, 'Texture Calculator'!$E$6<0.4, 'Texture Calculator'!$C$6<=0.2), 9, 0)","v":0},"((clay >= 27 && clay < 40) && (sand  <= 20))","SILTY CLAY LOAM",{"$f":"IF(AND('Texture Calculator'!$E$7>=0.27, 'Texture Calculator'!$E$7<0.4, 'Texture Calculator'!$C$7<=0.2), 9, 0)","v":0},"((clay >= 27 && clay < 40) && (sand  <= 20))","SILTY CLAY LOAM"]
[{"$f":"IF(AND('Texture Calculator'!$E$4>=0.35, 'Texture Calculator'!$C$4>0.45), 10, 0)","v":0},"(clay >= 35 && sand > 45)","SANDY CLAY",{"$f":"IF(AND('Texture Calculator'!$E$5>=0.35, 'Texture Calculator'!$C$5>0.45), 10, 0)","v":0},"(clay >= 35 && sand > 45)","SANDY CLAY",{"$f":"IF(AND('Texture Calculator'!$E$6>=0.35, 'Texture Calculator'!$C$6>0.45), 10, 0)","v":0},"(clay >= 35 && sand > 45)","SANDY CLAY",{"$f":"IF(AND('Texture Calculator'!$E$7>=0.35, 'Texture Calculator'!$C$7>0.45), 10, 0)","v":0},"(clay >= 35 && sand > 45)","SANDY CLAY"]
[{"$f":"IF(AND('Texture Calculator'!$E$4>=0.4, 'Texture Calculator'!$G$4>=0.4), 11, 0)","v":0},"(clay >= 40 && silt >= 40)","SILTY CLAY",{"$f":"IF(AND('Texture Calculator'!$E$5>=0.4, 'Texture Calculator'!$G$5>=0.4), 11, 0)","v":0},"(clay >= 40 && silt >= 40)","SILTY CLAY",{"$f":"IF(AND('Texture Calculator'!$E$6>=0.4, 'Texture Calculator'!$G$6>=0.4), 11, 0)","v":0},"(clay >= 40 && silt >= 40)","SILTY CLAY",{"$f":"IF(AND('Texture Calculator'!$E$7>=0.4, 'Texture Calculator'!$G$7>=0.4), 11, 0)","v":0},"(clay >= 40 && silt >= 40)","SILTY CLAY"]
[{"$f":"IF(AND('Texture Calculator'!$E$4>=0.4, 'Texture Calculator'!$C$4<=0.45,'Texture Calculator'!$G$4<0.4), 12, 0)","v":0},"(clay >= 40 && sand <= 45 && silt < 40)","CLAY",{"$f":"IF(AND('Texture Calculator'!$E$5>=0.4, 'Texture Calculator'!$C$5<=0.45,'Texture Calculator'!$G$5<0.4), 12, 0)","v":0},"(clay >= 40 && sand <= 45 && silt < 40)","CLAY",{"$f":"IF(AND('Texture Calculator'!$E$6>=0.4, 'Texture Calculator'!$C$6<=0.45,'Texture Calculator'!$G$6<0.4), 12, 0)","v":0},"(clay >= 40 && sand <= 45 && silt < 40)","CLAY",{"$f":"IF(AND('Texture Calculator'!$E$7>=0.4, 'Texture Calculator'!$C$7<=0.45,'Texture Calculator'!$G$7<0.4), 12, 0)","v":0},"(clay >= 40 && sand <= 45 && silt < 40)","CLAY"]
[{"$f":"SUM(A2:A13)","v":2},null,null,{"$f":"SUM(D2:D13)","v":3},null,null,{"$f":"SUM(G2:G13)","v":4},null,null,{"$f":"SUM(J2:J13)","v":3}]
[]
[]
["Sand",null,null,"Sand",null,null,"Sand",null,null,"Sand"]
[{"$f":"IF(AND(SUM('Texture Calculator'!$C$13:$C$17)='Texture Calculator'!$C$4, 'Texture Calculator'!$C$13+'Texture Calculator'!$C$14>=0.25, 'Texture Calculator'!$C$15<0.5, 'Texture Calculator'!$C$16<0.5, 'Texture Calculator'!$C$17<0.5), 1, 0)","v":0},"vcscs >= 25 && ms < 50 && fs < 50 && vfs < 50","COARSE SAND",{"$f":"IF(AND(SUM('Texture Calculator'!$C$26:$C$42)='Texture Calculator'!$C$5, 'Texture Calculator'!$C$26+'Texture Calculator'!#REF!>=0.25, 'Texture Calculator'!#REF!<0.5, 'Texture Calculator'!#REF!<0.5, 'Texture Calculator'!$C$42<0.5), 1, 0)","v":{"$error":"#REF!"}},"vcscs >= 25 && ms < 50 && fs < 50 && vfs < 50","COARSE SAND",{"$f":"IF(AND(SUM('Texture Calculator'!$C$47:$C$51)='Texture Calculator'!$C$6, 'Texture Calculator'!#REF!+'Texture Calculator'!$C$48>=0.25, 'Texture Calculator'!$C$49<0.5, 'Texture Calculator'!$C$50<0.5, 'Texture Calculator'!$C$51<0.5), 1, 0)","v":{"$error":"#REF!"}},"vcscs >= 25 && ms < 50 && fs < 50 && vfs < 50","COARSE SAND",{"$f":"IF(AND(SUM('Texture Calculator'!$C$57:$C$61)='Texture Calculator'!$C$7, 'Texture Calculator'!$C$57+'Texture Calculator'!$C$58>=0.25, 'Texture Calculator'!$C$59<0.5, 'Texture Calculator'!$C$60<0.5, 'Texture Calculator'!$C$61<0.5), 1, 0)","v":0},"vcscs >= 25 && ms < 50 && fs < 50 && vfs < 50","COARSE SAND"]
[{"$f":"IF(AND(SUM('Texture Calculator'!$C$13:$C$17)='Texture Calculator'!$C$4,SUM($A$18) = 0, 'Texture Calculator'!$C$13+'Texture Calculator'!$C$14+'Texture Calculator'!$C$15>=0.25, 'Texture Calculator'!$C$13+'Texture Calculator'!$C$14<0.25, 'Texture Calculator'!$C$16<0.5,'Texture Calculator'!$C$17<0.5), 2, 0)","v":0},"vcscsms >= 25 && vcscs < 25 && fs < 50 && vfs < 50","SAND",{"$f":"IF(AND(SUM('Texture Calculator'!$C$26:$C$42)='Texture Calculator'!$C$5,SUM($D$18) = 0, 'Texture Calculator'!$C$26+'Texture Calculator'!#REF!+'Texture Calculator'!#REF!>=0.25, 'Texture Calculator'!$C$26+'Texture Calculator'!#REF!<0.25, 'Texture Calculator'!#REF!<0.5,'Texture Calculator'!$C$42<0.5), 2, 0)","v":{"$error":"#REF!"}},"vcscsms >= 25 && vcscs < 25 && fs < 50 && vfs < 50","SAND",{"$f":"IF(AND(SUM('Texture Calculator'!$C$47:$C$51)='Texture Calculator'!$C$6,SUM($G$18) = 0, 'Texture Calculator'!#REF!+'Texture Calculator'!$C$48+'Texture Calculator'!$C$49>=0.25, 'Texture Calculator'!#REF!+'Texture Calculator'!$C$48<0.25, 'Texture Calculator'!$C$50<0.5,'Texture Calculator'!$C$51<0.5), 2, 0)","v":{"$error":"#REF!"}},"vcscsms >= 25 && vcscs < 25 && fs < 50 && vfs < 50","SAND",{"$f":"IF(AND(SUM('Texture Calculator'!$C$57:$C$61)='Texture Calculator'!$C$7,SUM($J$18) = 0, 'Texture Calculator'!$C$57+'Texture Calculator'!$C$58+'Texture Calculator'!$C$59>=0.25, 'Texture Calculator'!$C$57+'Texture Calculator'!$C$58<0.25, 'Texture Calculator'!$C$60<0.5,'Texture Calculator'!$C$61<0.5), 2, 0)","v":0},"vcscsms >= 25 && vcscs < 25 && fs < 50 && vfs < 50","SAND"]
[{"$f":"IF(AND(SUM('Texture Calculator'!$C$13:$C$17)='Texture Calculator'!$C$4,SUM($A$18:$A$19) = 0, 'Texture Calculator'!$C$15>=0.5, 'Texture Calculator'!$C$13+'Texture Calculator'!$C$14>=0.25), 3, 0)","v":0},"ms >= 50 && vcscs >= 25","SAND",{"$f":"IF(AND(SUM('Texture Calculator'!$C$26:$C$42)='Texture Calculator'!$C$5,SUM($D$18:$D$19) = 0, 'Texture Calculator'!#REF!>=0.5, 'Texture Calculator'!$C$26+'Texture Calculator'!#REF!>=0.25), 3, 0)","v":{"$error":"#REF!"}},"ms >= 50 && vcscs >= 25","SAND",{"$f":"IF(AND(SUM('Texture Calculator'!$C$47:$C$51)='Texture Calculator'!$C$6,SUM($G$18:$G$19) = 0, 'Texture Calculator'!$C$49>=0.5, 'Texture Calculator'!#REF!+'Texture Calculator'!$C$48>=0.25), 3, 0)","v":{"$error":"#REF!"}},"ms >= 50 && vcscs >= 25","SAND",{"$f":"IF(AND(SUM('Texture Calculator'!$C$57:$C$61)='Texture Calculator'!$C$7,SUM($J$18:$J$19) = 0, 'Texture Calculator'!$C$59>=0.5, 'Texture Calculator'!$C$57+'Texture Calculator'!$C$58>=0.25), 3, 0)","v":0},"ms >= 50 && vcscs >= 25","SAND"]
[{"$f":"IF(AND(SUM('Texture Calculator'!$C$13:$C$17)='Texture Calculator'!$C$4,SUM($A$18:$A$20) = 0, 'Texture Calculator'!$C$16>=0.5, 'Texture Calculator'!$C$16>'Texture Calculator'!$C$17), 4, 0)","v":0},"fs >= 50 && fs > vfs","FINE SAND",{"$f":"IF(AND(SUM('Texture Calculator'!$C$26:$C$42)='Texture Calculator'!$C$5,SUM($D$18:$D$20) = 0, 'Texture Calculator'!#REF!>=0.5, 'Texture Calculator'!#REF!>'Texture Calculator'!$C$42), 4, 0)","v":{"$error":"#REF!"}},"fs >= 50 && fs > vfs","FINE SAND",{"$f":"IF(AND(SUM('Texture Calculator'!$C$47:$C$51)='Texture Calculator'!$C$6,SUM($G$18:$G$20) = 0, 'Texture Calculator'!$C$50>=0.5, 'Texture Calculator'!$C$50>'Texture Calculator'!$C$51), 4, 0)","v":{"$error":"#REF!"}},"fs >= 50 && fs > vfs","FINE SAND",{"$f":"IF(AND(SUM('Texture Calculator'!$C$57:$C$61)='Texture Calculator'!$C$7,SUM($J$18:$J$20) = 0, 'Texture Calculator'!$C$60>=0.5, 'Texture Calculator'!$C$60>'Texture Calculator'!$C$61), 4, 0)","v":0},"fs >= 50 && fs > vfs","FINE SAND"]
[{"$f":"IF(AND(SUM('Texture Calculator'!$C$13:$C$17)='Texture Calculator'!$C$4,SUM($A$18:$A$21) = 0, 'Texture Calculator'!$C$13+'Texture Calculator'!$C$14+'Texture Calculator'!$C$15<0.25, 'Texture Calculator'!$C$17<0.5), 5, 0)","v":0},"vcscsms < 25 && vfs < 50","FINE SAND",{"$f":"IF(AND(SUM('Texture Calculator'!$C$26:$C$42)='Texture Calculator'!$C$5,SUM($D$18:$D$21) = 0, 'Texture Calculator'!$C$26+'Texture Calculator'!#REF!+'Texture Calculator'!#REF!<0.25, 'Texture Calculator'!$C$42<0.5), 5, 0)","v":{"$error":"#REF!"}},"vcscsms < 25 && vfs < 50","FINE SAND",{"$f":"IF(AND(SUM('Texture Calculator'!$C$47:$C$51)='Texture Calculator'!$C$6,SUM($G$18:$G$21) = 0, 'Texture Calculator'!#REF!+'Texture Calculator'!$C$48+'Texture Calculator'!$C$49<0.25, 'Texture Calculator'!$C$51<0.5), 5, 0)","v":{"$error":"#REF!"}},"vcscsms < 25 && vfs < 50","FINE SAND",{"$f":"IF(AND(SUM('Texture Calculator'!$C$57:$C$61)='Texture Calculator'!$C$7,SUM($J$18:$J$21) = 0, 'Texture Calculator'!$C$57+'Texture Calculator'!$C$58+'Texture Calculator'!$C$59<0.25, 'Texture Calculator'!$C$61<0.5), 5, 0)","v":0},"vcscsms < 25 && vfs < 50","FINE SAND"]
[{"$f":"IF(AND(SUM('Texture Calculator'!$C$13:$C$17)='Texture Calculator'!$C$4,SUM($A$18:$A$22) = 0, 'Texture Calculator'!$C$17>=0.5), 6, 0)","v":0},"vfs >= 50","VERY FINE SAND",{"$f":"IF(AND(SUM('Texture Calculator'!$C$26:$C$42)='Texture Calculator'!$C$5,SUM($D$18:$D$22) = 0, 'Texture Calculator'!$C$42>=0.5), 6, 0)","v":{"$error":"#REF!"}},"vfs >= 50","VERY FINE SAND",{"$f":"IF(AND(SUM('Texture Calculator'!$C$47:$C$51)='Texture Calculator'!$C$6,SUM($G$18:$G$22) = 0, 'Texture Calculator'!$C$51>=0.5), 6, 0)","v":{"$error":"#REF!"}},"vfs >= 50","VERY FINE SAND",{"$f":"IF(AND(SUM('Texture Calculator'!$C$57:$C$61)='Texture Calculator'!$C$7,SUM($J$18:$J$22) = 0, 'Texture Calculator'!$C$61>=0.5), 6, 0)","v":0},"vfs >= 50","VERY FINE SAND"]
[{"$f":"SUM(A18:A23)+1","v":1},null,null,{"$f":"SUM(D18:D23)+1","v":{"$error":"#REF!"}},null,null,{"$f":"SUM(G18:G23)+1","v":{"$error":"#REF!"}},null,null,{"$f":"SUM(J18:J23)+1","v":1}]
[]
[]
["Loam Sand",null,null,"Loam Sand",null,null,"Loam Sand",null,null,"Loam Sand"]
[{"$f":"IF(AND(SUM('Texture Calculator'!$C$13:$C$17)='Texture Calculator'!$C$4, 'Texture Calculator'!$C$13+'Texture Calculator'!$C$14>=0.25, 'Texture Calculator'!$C$15<0.5, 'Texture Calculator'!$C$16<0.5, 'Texture Calculator'!$C$17<0.5), 1, 0)","v":0},"vcscs >= 25 && ms < 50 && fs < 50 && vfs < 50","LOAMY COARSE SAND",{"$f":"IF(AND(SUM('Texture Calculator'!$C$26:$C$42)='Texture Calculator'!$C$5, 'Texture Calculator'!$C$26+'Texture Calculator'!#REF!>=0.25, 'Texture Calculator'!#REF!<0.5, 'Texture Calculator'!#REF!<0.5, 'Texture Calculator'!$C$42<0.5), 1, 0)","v":{"$error":"#REF!"}},"vcscs >= 25 && ms < 50 && fs < 50 && vfs < 50","LOAMY COARSE SAND",{"$f":"IF(AND(SUM('Texture Calculator'!$C$47:$C$51)='Texture Calculator'!$C$6, 'Texture Calculator'!#REF!+'Texture Calculator'!$C$48>=0.25, 'Texture Calculator'!$C$49<0.5, 'Texture Calculator'!$C$50<0.5, 'Texture Calculator'!$C$51<0.5), 1, 0)","v":{"$error":"#REF!"}},"vcscs >= 25 && ms < 50 && fs < 50 && vfs < 50","LOAMY COARSE SAND",{"$f":"IF(AND(SUM('Texture Calculator'!$C$57:$C$61)='Texture Calculator'!$C$7, 'Texture Calculator'!$C$57+'Texture Calculator'!$C$58>=0.25, 'Texture Calculator'!$C$59<0.5, 'Texture Calculator'!$C$60<0.5, 'Texture Calculator'!$C$61<0.5), 1, 0)","v":0},"vcscs >= 25 && ms < 50 && fs < 50 && vfs < 50","LOAMY COARSE SAND"]
[{"$f":"IF(AND(SUM('Texture Calculator'!$C$13:$C$17)='Texture Calculator'!$C$4,SUM($A$28) = 0, 'Texture Calculator'!$C$13+'Texture Calculator'!$C$14+'Texture Calculator'!$C$15>=0.25, 'Texture Calculator'!$C$13+'Texture Calculator'!$C$14<0.25, 'Texture Calculator'!$C$16<0.5,'Texture Calculator'!$C$17<0.5), 2, 0)","v":0},"vcscsms >= 25 && vcscs < 25 && fs < 50 && vfs < 50","LOAMY SAND",{"$f":"IF(AND(SUM('Texture Calculator'!$C$26:$C$42)='Texture Calculator'!$C$5,SUM($D$28) = 0, 'Texture Calculator'!$C$26+'Texture Calculator'!#REF!+'Texture Calculator'!#REF!>=0.25, 'Texture Calculator'!$C$26+'Texture Calculator'!#REF!<0.25, 'Texture Calculator'!#REF!<0.5,'Texture Calculator'!$C$42<0.5), 2, 0)","v":{"$error":"#REF!"}},"vcscsms >= 25 && vcscs < 25 && fs < 50 && vfs < 50","LOAMY SAND",{"$f":"IF(AND(SUM('Texture Calculator'!$C$47:$C$51)='Texture Calculator'!$C$6,SUM($A$28) = 0, 'Texture Calculator'!$C$13+'Texture Calculator'!$C$14+'Texture Calculator'!$C$15>=0.25, 'Texture Calculator'!$C$13+'Texture Calculator'!$C$14<0.25, 'Texture Calculator'!$C$16<0.5,'Texture Calculator'!$C$17<0.5), 2, 0)","v":0},"vcscsms >= 25 && vcscs < 25 && fs < 50 && vfs < 50","LOAMY SAND",{"$f":"IF(AND(SUM('Texture Calculator'!$C$57:$C$61)='Texture Calculator'!$C$7,SUM($J$28) = 0, 'Texture Calculator'!$C$57+'Texture Calculator'!$C$58+'Texture Calculator'!$C$59>=0.25, 'Texture Calculator'!$C$57+'Texture Calculator'!$C$58<0.25, 'Texture Calculator'!$C$60<0.5,'Texture Calculator'!$C$61<0.5), 2, 0)","v":0},"vcscsms >= 25 && vcscs < 25 && fs < 50 && vfs < 50","LOAMY SAND"]
[{"$f":"IF(AND(SUM('Texture Calculator'!$C$13:$C$17)='Texture Calculator'!$C$4,SUM($A$28:$A$29) = 0, 'Texture Calculator'!$C$15>=0.5, 'Texture Calculator'!$C$13+'Texture Calculator'!$C$14>=0.25),3, 0)","v":0},"ms >= 50 && vcscs >= 25","LOAMY SAND",{"$f":"IF(AND(SUM('Texture Calculator'!$C$26:$C$42)='Texture Calculator'!$C$5,SUM($D$28:$D$29) = 0, 'Texture Calculator'!#REF!>=0.5, 'Texture Calculator'!$C$26+'Texture Calculator'!#REF!>=0.25),3, 0)","v":{"$error":"#REF!"}},"ms >= 50 && vcscs >= 25","LOAMY SAND",{"$f":"IF(AND(SUM('Texture Calculator'!$C$47:$C$51)='Texture Calculator'!$C$6,SUM($G$28:$G$29) = 0, 'Texture Calculator'!$C$49>=0.5, 'Texture Calculator'!#REF!+'Texture Calculator'!$C$48>=0.25),3, 0)","v":{"$error":"#REF!"}},"ms >= 50 && vcscs >= 25","LOAMY SAND",{"$f":"IF(AND(SUM('Texture Calculator'!$C$57:$C$61)='Texture Calculator'!$C$7,SUM($J$28:$J$29) = 0, 'Texture Calculator'!$C$59>=0.5, 'Texture Calculator'!$C$57+'Texture Calculator'!$C$58>=0.25),3, 0)","v":0},"ms >= 50 && vcscs >= 25","LOAMY SAND"]
[{"$f":"IF(AND(SUM('Texture Calculator'!$C$13:$C$17)='Texture Calculator'!$C$4,SUM($A$28:$A$30) = 0, 'Texture Calculator'!$C$16>=0.5), 4, 0)","v":0},"fs >= 50","LOAMY FINE SAND",{"$f":"IF(AND(SUM('Texture Calculator'!$C$26:$C$42)='Texture Calculator'!$C$5,SUM($D$28:$D$30) = 0, 'Texture Calculator'!#REF!>=0.5), 4, 0)","v":{"$error":"#REF!"}},"fs >= 50","LOAMY FINE SAND",{"$f":"IF(AND(SUM('Texture Calculator'!$C$47:$C$51)='Texture Calculator'!$C$6,SUM($G$28:$G$30) = 0, 'Texture Calculator'!$C$50>=0.5), 4, 0)","v":{"$error":"#REF!"}},"fs >= 50","LOAMY FINE SAND",{"$f":"IF(AND(SUM('Texture Calculator'!$C$57:$C$61)='Texture Calculator'!$C$7,SUM($J$28:$J$30) = 0, 'Texture Calculator'!$C$60>=0.5), 4, 0)","v":0},"fs >= 50","LOAMY FINE SAND"]
[{"$f":"IF(AND(SUM('Texture Calculator'!$C$13:$C$17)='Texture Calculator'!$C$4,SUM($A$28:$A$31) = 0, 'Texture Calculator'!$C$13+'Texture Calculator'!$C$14+'Texture Calculator'!$C$15<0.25, 'Texture Calculator'!$C$17<0.5), 5, 0)","v":0},"vcscsms < 25 && vfs < 50","LOAMY FINE SAND",{"$f":"IF(AND(SUM('Texture Calculator'!$C$26:$C$42)='Texture Calculator'!$C$5,SUM($D$28:$D$31) = 0, 'Texture Calculator'!$C$26+'Texture Calculator'!#REF!+'Texture Calculator'!#REF!<0.25, 'Texture Calculator'!$C$42<0.5), 5, 0)","v":{"$error":"#REF!"}},"vcscsms < 25 && vfs < 50","LOAMY FINE SAND",{"$f":"IF(AND(SUM('Texture Calculator'!$C$47:$C$51)='Texture Calculator'!$C$6,SUM($G$28:$G$31) = 0, 'Texture Calculator'!#REF!+'Texture Calculator'!$C$48+'Texture Calculator'!$C$49<0.25, 'Texture Calculator'!$C$51<0.5), 5, 0)","v":{"$error":"#REF!"}},"vcscsms < 25 && vfs < 50","LOAMY FINE SAND",{"$f":"IF(AND(SUM('Texture Calculator'!$C$57:$C$61)='Texture Calculator'!$C$7,SUM($J$28:$J$31) = 0, 'Texture Calculator'!$C$57+'Texture Calculator'!$C$58+'Texture Calculator'!$C$59<0.25, 'Texture Calculator'!$C$61<0.5), 5, 0)","v":0},"vcscsms < 25 && vfs < 50","LOAMY FINE SAND"]
[{"$f":"IF(AND(SUM('Texture Calculator'!$C$13:$C$17)='Texture Calculator'!$C$4,SUM($A$28:$A$32) = 0, 'Texture Calculator'!$C$17>=0.5), 6, 0)","v":0},"vfs >= 50","LOAMY VERY FINE SAND",{"$f":"IF(AND(SUM('Texture Calculator'!$C$26:$C$42)='Texture Calculator'!$C$5,SUM($D$28:$D$32) = 0, 'Texture Calculator'!$C$42>=0.5), 6, 0)","v":{"$error":"#REF!"}},"vfs >= 50","LOAMY VERY FINE SAND",{"$f":"IF(AND(SUM('Texture Calculator'!$C$47:$C$51)='Texture Calculator'!$C$6,SUM($G$28:$G$32) = 0, 'Texture Calculator'!$C$51>=0.5), 6, 0)","v":{"$error":"#REF!"}},"vfs >= 50","LOAMY VERY FINE SAND",{"$f":"IF(AND(SUM('Texture Calculator'!$C$57:$C$61)='Texture Calculator'!$C$7,SUM($J$28:$J$32) = 0, 'Texture Calculator'!$C$61>=0.5), 6, 0)","v":0},"vfs >= 50","LOAMY VERY FINE SAND"]
[{"$f":"SUM(A28:A33)+1","v":1},null,null,{"$f":"SUM(D28:D33)+1","v":{"$error":"#REF!"}},null,null,{"$f":"SUM(G28:G33)+1","v":{"$error":"#REF!"}},null,null,{"$f":"SUM(J28:J33)+1","v":1}]
[]
["Sand Loam",null,null,"Sand Loam",null,null,"Sand Loam",null,null,"Sand Loam"]
[{"$f":"IF(AND(SUM('Texture Calculator'!$C$13:$C$17)='Texture Calculator'!$C$4, 'Texture Calculator'!$C$13+'Texture Calculator'!$C$14>=0.25, 'Texture Calculator'!$C$15<0.5, 'Texture Calculator'!$C$16<0.5, 'Texture Calculator'!$C$17<0.5), 1, 0)","v":0},"vcscs >= 25 && ms < 50 && fs < 50 && vfs < 50","COARSE SANDY LOAM",{"$f":"IF(AND(SUM('Texture Calculator'!$C$26:$C$42)='Texture Calculator'!$C$5, 'Texture Calculator'!$C$26+'Texture Calculator'!#REF!>=0.25, 'Texture Calculator'!#REF!<0.5, 'Texture Calculator'!#REF!<0.5, 'Texture Calculator'!$C$42<0.5), 1, 0)","v":{"$error":"#REF!"}},"vcscs >= 25 && ms < 50 && fs < 50 && vfs < 50","COARSE SANDY LOAM",{"$f":"IF(AND(SUM('Texture Calculator'!$C$47:$C$51)='Texture Calculator'!$C$6, 'Texture Calculator'!#REF!+'Texture Calculator'!$C$48>=0.25, 'Texture Calculator'!$C$49<0.5, 'Texture Calculator'!$C$50<0.5, 'Texture Calculator'!$C$51<0.5), 1, 0)","v":{"$error":"#REF!"}},"vcscs >= 25 && ms < 50 && fs < 50 && vfs < 50","COARSE SANDY LOAM",{"$f":"IF(AND(SUM('Texture Calculator'!$C$57:$C$61)='Texture Calculator'!$C$7, 'Texture Calculator'!$C$57+'Texture Calculator'!$C$58>=0.25, 'Texture Calculator'!$C$59<0.5, 'Texture Calculator'!$C$60<0.5, 'Texture Calculator'!$C$61<0.5), 1, 0)","v":0},"vcscs >= 25 && ms < 50 && fs < 50 && vfs < 50","COARSE SANDY LOAM"]
[{"$f":"IF(AND(SUM('Texture Calculator'!$C$13:$C$17)='Texture Calculator'!$C$4,SUM($A$37) = 0,'Texture Calculator'!$C$13+'Texture Calculator'!$C$14+'Texture Calculator'!$C$15>=0.3, 'Texture Calculator'!$C$17>=0.3, 'Texture Calculator'!$C$17<0.5), 2,0)","v":0},"vcscsms >= 30 && vfs >= 30 && vfs < 50","COARSE SANDY LOAM",{"$f":"IF(AND(SUM('Texture Calculator'!$C$26:$C$42)='Texture Calculator'!$C$5,SUM($D$37) = 0,'Texture Calculator'!$C$26+'Texture Calculator'!#REF!+'Texture Calculator'!#REF!>=0.3, 'Texture Calculator'!$C$42>=0.3, 'Texture Calculator'!$C$42<0.5), 2,0)","v":{"$error":"#REF!"}},"vcscsms >= 30 && vfs >= 30 && vfs < 50","COARSE SANDY LOAM",{"$f":"IF(AND(SUM('Texture Calculator'!$C$47:$C$51)='Texture Calculator'!$C$6,SUM($G$37) = 0,'Texture Calculator'!#REF!+'Texture Calculator'!$C$48+'Texture Calculator'!$C$49>=0.3, 'Texture Calculator'!$C$51>=0.3, 'Texture Calculator'!$C$51<0.5), 2,0)","v":{"$error":"#REF!"}},"vcscsms >= 30 && vfs >= 30 && vfs < 50","COARSE SANDY LOAM",{"$f":"IF(AND(SUM('Texture Calculator'!$C$57:$C$61)='Texture Calculator'!$C$7,SUM($J$37) = 0,'Texture Calculator'!$C$57+'Texture Calculator'!$C$58+'Texture Calculator'!$C$59>=0.3, 'Texture Calculator'!$C$61>=0.3, 'Texture Calculator'!$C$61<0.5), 2,0)","v":0},"vcscsms >= 30 && vfs >= 30 && vfs < 50","COARSE SANDY LOAM"]
[{"$f":"IF(AND(SUM('Texture Calculator'!$C$13:$C$17)='Texture Calculator'!$C$4,SUM($A$37:$A$38) = 0, 'Texture Calculator'!$C$13+'Texture Calculator'!$C$14+'Texture Calculator'!$C$15>=0.3, 'Texture Calculator'!$C$13+'Texture Calculator'!$C$14<0.25, 'Texture Calculator'!$C$16<0.3,'Texture Calculator'!$C$17<0.3), 3, 0)","v":0},"vcscsms >= 30 && vcscs < 25 && fs < 30 && vfs < 30","SANDY LOAM",{"$f":"IF(AND(SUM('Texture Calculator'!$C$26:$C$42)='Texture Calculator'!$C$5,SUM($D$37:$D$38) = 0, 'Texture Calculator'!$C$26+'Texture Calculator'!#REF!+'Texture Calculator'!#REF!>=0.3, 'Texture Calculator'!$C$26+'Texture Calculator'!#REF!<0.25, 'Texture Calculator'!#REF!<0.3,'Texture Calculator'!$C$42<0.3), 3, 0)","v":{"$error":"#REF!"}},"vcscsms >= 30 && vcscs < 25 && fs < 30 && vfs < 30","SANDY LOAM",{"$f":"IF(AND(SUM('Texture Calculator'!$C$47:$C$51)='Texture Calculator'!$C$6,SUM($G$37:$G$38) = 0, 'Texture Calculator'!#REF!+'Texture Calculator'!$C$48+'Texture Calculator'!$C$49>=0.3, 'Texture Calculator'!#REF!+'Texture Calculator'!$C$48<0.25, 'Texture Calculator'!$C$50<0.3,'Texture Calculator'!$C$51<0.3), 3, 0)","v":{"$error":"#REF!"}},"vcscsms >= 30 && vcscs < 25 && fs < 30 && vfs < 30","SANDY LOAM",{"$f":"IF(AND(SUM('Texture Calculator'!$C$57:$C$61)='Texture Calculator'!$C$7,SUM($J$37:$J$38) = 0, 'Texture Calculator'!$C$57+'Texture Calculator'!$C$58+'Texture Calculator'!$C$59>=0.3, 'Texture Calculator'!$C$57+'Texture Calculator'!$C$58<0.25, 'Texture Calculator'!$C$60<0.3,'Texture Calculator'!$C$61<0.3), 3, 0)","v":0},"vcscsms >= 30 && vcscs < 25 && fs < 30 && vfs < 30","SANDY LOAM"]
[{"$f":"IF(AND(SUM('Texture Calculator'!$C$13:$C$17)='Texture Calculator'!$C$4,SUM($A$37:$A$39) = 0,'Texture Calculator'!$C$13+'Texture Calculator'!$C$14+'Texture Calculator'!$C$15<=0.15,'Texture Calculator'!$C$16<0.3,'Texture Calculator'!$C$17<0.3,'Texture Calculator'!$C$16+'Texture Calculator'!$C$17<0.4), 4, 0)","v":0},"vcscsms <= 15 && fs < 30 && vfs < 30 && fsvfs < 40","SANDY LOAM",{"$f":"IF(AND(SUM('Texture Calculator'!$C$26:$C$42)='Texture Calculator'!$C$5,SUM($D$37:$D$39) = 0,'Texture Calculator'!$C$26+'Texture Calculator'!#REF!+'Texture Calculator'!#REF!<=0.15,'Texture Calculator'!#REF!<0.3,'Texture Calculator'!$C$42<0.3,'Texture Calculator'!#REF!+'Texture Calculator'!$C$42<0.4), 4, 0)","v":{"$error":"#REF!"}},"vcscsms <= 15 && fs < 30 && vfs < 30 && fsvfs < 40","SANDY LOAM",{"$f":"IF(AND(SUM('Texture Calculator'!$C$47:$C$51)='Texture Calculator'!$C$6,SUM($G$37:$G$39) = 0,'Texture Calculator'!#REF!+'Texture Calculator'!$C$48+'Texture Calculator'!$C$49<=0.15,'Texture Calculator'!$C$50<0.3,'Texture Calculator'!$C$51<0.3,'Texture Calculator'!$C$50+'Texture Calculator'!$C$51<0.4), 4, 0)","v":{"$error":"#REF!"}},"vcscsms <= 15 && fs < 30 && vfs < 30 && fsvfs < 40","SANDY LOAM",{"$f":"IF(AND(SUM('Texture Calculator'!$C$57:$C$61)='Texture Calculator'!$C$7,SUM($J$37:$J$39) = 0,'Texture Calculator'!$C$57+'Texture Calculator'!$C$58+'Texture Calculator'!$C$59<=0.15,'Texture Calculator'!$C$60<0.3,'Texture Calculator'!$C$61<0.3,'Texture Calculator'!$C$60+'Texture Calculator'!$C$61<0.4), 4, 0)","v":0},"vcscsms <= 15 && fs < 30 && vfs < 30 && fsvfs < 40","SANDY LOAM"]
[{"$f":"IF(AND(SUM('Texture Calculator'!$C$13:$C$17)='Texture Calculator'!$C$4,SUM($A$37:$A$40) = 0,'Texture Calculator'!$C$13+'Texture Calculator'!$C$14>=0.25, 'Texture Calculator'!$C$15>=0.5), 5, 0)","v":0},"vcscs >= 25 && ms >= 50","SANDY LOAM",{"$f":"IF(AND(SUM('Texture Calculator'!$C$26:$C$42)='Texture Calculator'!$C$5,SUM($D$37:$D$40) = 0,'Texture Calculator'!$C$26+'Texture Calculator'!#REF!>=0.25, 'Texture Calculator'!#REF!>=0.5), 5, 0)","v":{"$error":"#REF!"}},"vcscs >= 25 && ms >= 50","SANDY LOAM",{"$f":"IF(AND(SUM('Texture Calculator'!$C$47:$C$51)='Texture Calculator'!$C$6,SUM($G$37:$G$40) = 0,'Texture Calculator'!#REF!+'Texture Calculator'!$C$48>=0.25, 'Texture Calculator'!$C$49>=0.5), 5, 0)","v":{"$error":"#REF!"}},"vcscs >= 25 && ms >= 50","SANDY LOAM",{"$f":"IF(AND(SUM('Texture Calculator'!$C$57:$C$61)='Texture Calculator'!$C$7,SUM($J$37:$J$40) = 0,'Texture Calculator'!$C$57+'Texture Calculator'!$C$58>=0.25, 'Texture Calculator'!$C$59>=0.5), 5, 0)","v":0},"vcscs >= 25 && ms >= 50","SANDY LOAM"]
[{"$f":"IF(AND(SUM('Texture Calculator'!$C$13:$C$17)='Texture Calculator'!$C$4,SUM($A$37:$A$41) = 0,'Texture Calculator'!$C$16>=0.3,'Texture Calculator'!$C$17<0.3, 'Texture Calculator'!$C$13+'Texture Calculator'!$C$14<0.25), 6, 0)","v":0},"fs >= 30 && vfs < 30 && vcscs < 25","FINE SANDY LOAM",{"$f":"IF(AND(SUM('Texture Calculator'!$C$26:$C$42)='Texture Calculator'!$C$5,SUM($D$37:$D$41) = 0,'Texture Calculator'!#REF!>=0.3,'Texture Calculator'!$C$42<0.3, 'Texture Calculator'!$C$26+'Texture Calculator'!#REF!<0.25), 6, 0)","v":{"$error":"#REF!"}},"fs >= 30 && vfs < 30 && vcscs < 25","FINE SANDY LOAM",{"$f":"IF(AND(SUM('Texture Calculator'!$C$47:$C$51)='Texture Calculator'!$C$6,SUM($G$37:$G$41) = 0,'Texture Calculator'!$C$50>=0.3,'Texture Calculator'!$C$51<0.3, 'Texture Calculator'!#REF!+'Texture Calculator'!$C$48<0.25), 6, 0)","v":{"$error":"#REF!"}},"fs >= 30 && vfs < 30 && vcscs < 25","FINE SANDY LOAM",{"$f":"IF(AND(SUM('Texture Calculator'!$C$57:$C$61)='Texture Calculator'!$C$7,SUM($J$37:$J$41) = 0,'Texture Calculator'!$C$60>=0.3,'Texture Calculator'!$C$61<0.3, 'Texture Calculator'!$C$57+'Texture Calculator'!$C$58<0.25), 6, 0)","v":0},"fs >= 30 && vfs < 30 && vcscs < 25","FINE SANDY LOAM"]
[{"$f":"IF(AND(SUM('Texture Calculator'!$C$13:$C$17)='Texture Calculator'!$C$4,SUM($A$37:$A$42) = 0,'Texture Calculator'!$C$13+'Texture Calculator'!$C$14+'Texture Calculator'!$C$15>=0.15, 'Texture Calculator'!$C$13+'Texture Calculator'!$C$14+'Texture Calculator'!$C$15<0.3, 'Texture Calculator'!$C$13+'Texture Calculator'!$C$14<0.25), 7, 0)","v":0},"vcscsms >= 15 && vcscsms < 30 && vcscs < 25","FINE SANDY LOAM",{"$f":"IF(AND(SUM('Texture Calculator'!$C$26:$C$42)='Texture Calculator'!$C$5,SUM($D$37:$D$42) = 0,'Texture Calculator'!$C$26+'Texture Calculator'!#REF!+'Texture Calculator'!#REF!>=0.15, 'Texture Calculator'!$C$26+'Texture Calculator'!#REF!+'Texture Calculator'!#REF!<0.3, 'Texture Calculator'!$C$26+'Texture Calculator'!#REF!<0.25), 7, 0)","v":{"$error":"#REF!"}},"vcscsms >= 15 && vcscsms < 30 && vcscs < 25","FINE SANDY LOAM",{"$f":"IF(AND(SUM('Texture Calculator'!$C$47:$C$51)='Texture Calculator'!$C$6,SUM($G$37:$G$42) = 0,'Texture Calculator'!#REF!+'Texture Calculator'!$C$48+'Texture Calculator'!$C$49>=0.15, 'Texture Calculator'!#REF!+'Texture Calculator'!$C$48+'Texture Calculator'!$C$49<0.3, 'Texture Calculator'!#REF!+'Texture Calculator'!$C$48<0.25), 7, 0)","v":{"$error":"#REF!"}},"vcscsms >= 15 && vcscsms < 30 && vcscs < 25","FINE SANDY LOAM",{"$f":"IF(AND(SUM('Texture Calculator'!$C$57:$C$61)='Texture Calculator'!$C$7,SUM($J$37:$J$42) = 0,'Texture Calculator'!$C$57+'Texture Calculator'!$C$58+'Texture Calculator'!$C$59>=0.15, 'Texture Calculator'!$C$57+'Texture Calculator'!$C$58+'Texture Calculator'!$C$59<0.3, 'Texture Calculator'!$C$57+'Texture Calculator'!$C$58<0.25), 7, 0)","v":0},"vcscsms >= 15 && vcscsms < 30 && vcscs < 25","FINE SANDY LOAM"]
[{"$f":"IF(AND(SUM('Texture Calculator'!$C$13:$C$17)='Texture Calculator'!$C$4,SUM($A$37:$A$43) = 0,'Texture Calculator'!$C$16+'Texture Calculator'!$C$17>=0.4, 'Texture Calculator'!$C$16>='Texture Calculator'!$C$17, 'Texture Calculator'!$C$13+'Texture Calculator'!$C$14+'Texture Calculator'!$C$15<=0.15), 8, 0)","v":0},"fsvfs >= 40 && fs >= vfs && vcscsms <= 15","FINE SANDY LOAM",{"$f":"IF(AND(SUM('Texture Calculator'!$C$26:$C$42)='Texture Calculator'!$C$5,SUM($D$37:$D$43) = 0,'Texture Calculator'!#REF!+'Texture Calculator'!$C$42>=0.4, 'Texture Calculator'!#REF!>='Texture Calculator'!$C$42, 'Texture Calculator'!$C$26+'Texture Calculator'!#REF!+'Texture Calculator'!#REF!<=0.15), 8, 0)","v":{"$error":"#REF!"}},"fsvfs >= 40 && fs >= vfs && vcscsms <= 15","FINE SANDY LOAM",{"$f":"IF(AND(SUM('Texture Calculator'!$C$47:$C$51)='Texture Calculator'!$C$6,SUM($G$37:$G$43) = 0,'Texture Calculator'!$C$50+'Texture Calculator'!$C$51>=0.4, 'Texture Calculator'!$C$50>='Texture Calculator'!$C$51, 'Texture Calculator'!#REF!+'Texture Calculator'!$C$48+'Texture Calculator'!$C$49<=0.15), 8, 0)","v":{"$error":"#REF!"}},"fsvfs >= 40 && fs >= vfs && vcscsms <= 15","FINE SANDY LOAM",{"$f":"IF(AND(SUM('Texture Calculator'!$C$57:$C$61)='Texture Calculator'!$C$7,SUM($J$37:$J$43) = 0,'Texture Calculator'!$C$60+'Texture Calculator'!$C$61>=0.4, 'Texture Calculator'!$C$60>='Texture Calculator'!$C$61, 'Texture Calculator'!$C$57+'Texture Calculator'!$C$58+'Texture Calculator'!$C$59<=0.15), 8, 0)","v":0},"fsvfs >= 40 && fs >= vfs && vcscsms <= 15","FINE SANDY LOAM"]
[{"$f":"IF(AND(SUM('Texture Calculator'!$C$13:$C$17)='Texture Calculator'!$C$4,SUM($A$37:$A$44) = 0,'Texture Calculator'!$C$13+'Texture Calculator'!$C$14>=0.25, 'Texture Calculator'!$C$16>=0.5), 9, 0)","v":0},"vcscs >= 25 && fs >= 50","FINE SANDY LOAM",{"$f":"IF(AND(SUM('Texture Calculator'!$C$26:$C$42)='Texture Calculator'!$C$5,SUM($D$37:$D$44) = 0,'Texture Calculator'!$C$26+'Texture Calculator'!#REF!>=0.25, 'Texture Calculator'!#REF!>=0.5), 9, 0)","v":{"$error":"#REF!"}},"vcscs >= 25 && fs >= 50","FINE SANDY LOAM",{"$f":"IF(AND(SUM('Texture Calculator'!$C$47:$C$51)='Texture Calculator'!$C$6,SUM($G$37:$G$44) = 0,'Texture Calculator'!#REF!+'Texture Calculator'!$C$48>=0.25, 'Texture Calculator'!$C$50>=0.5), 9, 0)","v":{"$error":"#REF!"}},"vcscs >= 25 && fs >= 50","FINE SANDY LOAM",{"$f":"IF(AND(SUM('Texture Calculator'!$C$57:$C$61)='Texture Calculator'!$C$7,SUM($J$37:$J$44) = 0,'Texture Calculator'!$C$57+'Texture Calculator'!$C$58>=0.25, 'Texture Calculator'!$C$60>=0.5), 9, 0)","v":0},"vcscs >= 25 && fs >= 50","FINE SANDY LOAM"]
[{"$f":"IF(AND(SUM('Texture Calculator'!$C$13:$C$17)='Texture Calculator'!$C$4,SUM($A$37:$A$45) = 0,'Texture Calculator'!$C$17>=0.3, 'Texture Calculator'!$C$13+'Texture Calculator'!$C$14+'Texture Calculator'!$C$15<0.15, 'Texture Calculator'!$C$17>'Texture Calculator'!$C$16), 10, 0)","v":0},"vfs >= 30 && vcscsms < 15 && vfs > fs","VERY FINE SANDY LOAM",{"$f":"IF(AND(SUM('Texture Calculator'!$C$26:$C$42)='Texture Calculator'!$C$5,SUM($D$37:$D$45) = 0,'Texture Calculator'!$C$42>=0.3, 'Texture Calculator'!$C$26+'Texture Calculator'!#REF!+'Texture Calculator'!#REF!<0.15, 'Texture Calculator'!$C$42>'Texture Calculator'!#REF!), 10, 0)","v":{"$error":"#REF!"}},"vfs >= 30 && vcscsms < 15 && vfs > fs","VERY FINE SANDY LOAM",{"$f":"IF(AND(SUM('Texture Calculator'!$C$47:$C$51)='Texture Calculator'!$C$6,SUM($G$37:$G$45) = 0,'Texture Calculator'!$C$51>=0.3, 'Texture Calculator'!#REF!+'Texture Calculator'!$C$48+'Texture Calculator'!$C$49<0.15, 'Texture Calculator'!$C$51>'Texture Calculator'!$C$50), 10, 0)","v":{"$error":"#REF!"}},"vfs >= 30 && vcscsms < 15 && vfs > fs","VERY FINE SANDY LOAM",{"$f":"IF(AND(SUM('Texture Calculator'!$C$57:$C$61)='Texture Calculator'!$C$7,SUM($J$37:$J$45) = 0,'Texture Calculator'!$C$61>=0.3, 'Texture Calculator'!$C$57+'Texture Calculator'!$C$58+'Texture Calculator'!$C$59<0.15, 'Texture Calculator'!$C$61>'Texture Calculator'!$C$60), 10, 0)","v":0},"vfs >= 30 && vcscsms < 15 && vfs > fs","VERY FINE SANDY LOAM"]
[{"$f":"IF(AND(SUM('Texture Calculator'!$C$13:$C$17)='Texture Calculator'!$C$4,SUM($A$37:$A$46) = 0,'Texture Calculator'!$C$16+'Texture Calculator'!$C$17>=0.4, 'Texture Calculator'!$C$17>'Texture Calculator'!$C$16, 'Texture Calculator'!$C$13+'Texture Calculator'!$C$14+'Texture Calculator'!$C$15<15), 11, 0)","v":0},"fsvfs >= 40 && vfs > fs && vcscsms < 15","VERY FINE SANDY LOAM",{"$f":"IF(AND(SUM('Texture Calculator'!$C$26:$C$42)='Texture Calculator'!$C$5,SUM($D$37:$D$46) = 0,'Texture Calculator'!#REF!+'Texture Calculator'!$C$42>=0.4, 'Texture Calculator'!$C$42>'Texture Calculator'!#REF!, 'Texture Calculator'!$C$26+'Texture Calculator'!#REF!+'Texture Calculator'!#REF!<15), 11, 0)","v":{"$error":"#REF!"}},"fsvfs >= 40 && vfs > fs && vcscsms < 15","VERY FINE SANDY LOAM",{"$f":"IF(AND(SUM('Texture Calculator'!$C$47:$C$51)='Texture Calculator'!$C$6,SUM($G$37:$G$46) = 0,'Texture Calculator'!$C$50+'Texture Calculator'!$C$51>=0.4, 'Texture Calculator'!$C$51>'Texture Calculator'!$C$50, 'Texture Calculator'!#REF!+'Texture Calculator'!$C$48+'Texture Calculator'!$C$49<15), 11, 0)","v":{"$error":"#REF!"}},"fsvfs >= 40 && vfs > fs && vcscsms < 15","VERY FINE SANDY LOAM",{"$f":"IF(AND(SUM('Texture Calculator'!$C$57:$C$61)='Texture Calculator'!$C$7,SUM($J$37:$J$46) = 0,'Texture Calculator'!$C$60+'Texture Calculator'!$C$61>=0.4, 'Texture Calculator'!$C$61>'Texture Calculator'!$C$60, 'Texture Calculator'!$C$57+'Texture Calculator'!$C$58+'Texture Calculator'!$C$59<15), 11, 0)","v":0},"fsvfs >= 40 && vfs > fs && vcscsms < 15","VERY FINE SANDY LOAM"]
[{"$f":"IF(AND(SUM('Texture Calculator'!$C$13:$C$17)='Texture Calculator'!$C$4,SUM($A$37:$A$47) = 0,'Texture Calculator'!$C$13+'Texture Calculator'!$C$14>=0.25, 'Texture Calculator'!$C$17>=0.5), 12, 0)","v":0},"vcscs >= 25 && vfs >= 50","VERY FINE SANDY LOAM",{"$f":"IF(AND(SUM('Texture Calculator'!$C$26:$C$42)='Texture Calculator'!$C$5,SUM($D$37:$D$47) = 0,'Texture Calculator'!$C$26+'Texture Calculator'!#REF!>=0.25, 'Texture Calculator'!$C$42>=0.5), 12, 0)","v":{"$error":"#REF!"}},"vcscs >= 25 && vfs >= 50","VERY FINE SANDY LOAM",{"$f":"IF(AND(SUM('Texture Calculator'!$C$47:$C$51)='Texture Calculator'!$C$6,SUM($G$37:$G$47) = 0,'Texture Calculator'!#REF!+'Texture Calculator'!$C$48>=0.25, 'Texture Calculator'!$C$51>=0.5), 12, 0)","v":{"$error":"#REF!"}},"vcscs >= 25 && vfs >= 50","VERY FINE SANDY LOAM",{"$f":"IF(AND(SUM('Texture Calculator'!$C$57:$C$61)='Texture Calculator'!$C$7,SUM($J$37:$J$47) = 0,'Texture Calculator'!$C$57+'Texture Calculator'!$C$58>=0.25, 'Texture Calculator'!$C$61>=0.5), 12, 0)","v":0},"vcscs >= 25 && vfs >= 50","VERY FINE SANDY LOAM"]
[{"$f":"IF(AND(SUM('Texture Calculator'!$C$13:$C$17)='Texture Calculator'!$C$4,SUM($A$37:$A$48) = 0,'Texture Calculator'!$C$13+'Texture Calculator'!$C$14+'Texture Calculator'!$C$15>=0.3, 'Texture Calculator'!$C$17>=0.5), 13,0)","v":0},"vcscsms >= 30 && vfs >= 50","VERY FINE SANDY LOAM",{"$f":"IF(AND(SUM('Texture Calculator'!$C$26:$C$42)='Texture Calculator'!$C$5,SUM($D$37:$D$48) = 0,'Texture Calculator'!$C$26+'Texture Calculator'!#REF!+'Texture Calculator'!#REF!>=0.3, 'Texture Calculator'!$C$42>=0.5), 13,0)","v":{"$error":"#REF!"}},"vcscsms >= 30 && vfs >= 50","VERY FINE SANDY LOAM",{"$f":"IF(AND(SUM('Texture Calculator'!$C$47:$C$51)='Texture Calculator'!$C$6,SUM($G$37:$G$48) = 0,'Texture Calculator'!#REF!+'Texture Calculator'!$C$48+'Texture Calculator'!$C$49>=0.3, 'Texture Calculator'!$C$51>=0.5), 13,0)","v":{"$error":"#REF!"}},"vcscsms >= 30 && vfs >= 50","VERY FINE SANDY LOAM",{"$f":"IF(AND(SUM('Texture Calculator'!$C$57:$C$61)='Texture Calculator'!$C$7,SUM($J$37:$J$48) = 0,'Texture Calculator'!$C$57+'Texture Calculator'!$C$58+'Texture Calculator'!$C$59>=0.3, 'Texture Calculator'!$C$61>=0.5), 13,0)","v":0},"vcscsms >= 30 && vfs >= 50","VERY FINE SANDY LOAM"]
[{"$f":"SUM(A37:A49)+1","v":1},null,null,{"$f":"SUM(D37:D49)+1","v":{"$error":"#REF!"}},null,null,{"$f":"SUM(G37:G49)+1","v":{"$error":"#REF!"}},null,null,{"$f":"SUM(J37:J49)+1","v":1}]

{"sheet":"Sheet1","index":30,"n_rows":0,"n_cols":0,"rows_kept":0,"cut":false,"hidden":false,"merged":[]}